BEGIN:VCALENDAR
VERSION:2.0
PRODID:-//EZFacility.com, Inc.//EZL 2.5.5.28621
BEGIN:VEVENT
UID:16500448@ezleagues.ezfacility.com
DTSTAMP:20260426T035139Z
CREATED:20260426T035139Z
DTSTART:20250619T003000Z
DTEND:20250619T013000Z
LOCATION:SAC Main Court
CONTACT:
SUMMARY:Lee's Summit Nets (Dahmer) VS. Sixers Supreme 4th/5th (Dickerson)
DESCRIPTION:League Name: Summer Session - 5th Grade Girls\nGame Type: Regul
 ar\nGame Status: Complete\nHome Team: Lee's Summit Nets (Dahmer)\nAway Tea
 m: Sixers Supreme 4th/5th (Dickerson)\nHome Score: 36\nAway Score: 18
END:VEVENT
BEGIN:VEVENT
UID:16523422@ezleagues.ezfacility.com
DTSTAMP:20260426T035139Z
CREATED:20260426T035139Z
DTSTART:20250626T003000Z
DTEND:20250626T013000Z
LOCATION:SAC Main Court
CONTACT:
SUMMARY:Boom Squad (Faamoe) VS. Lee's Summit Nets (Dahmer)
DESCRIPTION:League Name: Summer Session - 5th Grade Girls\nGame Type: Regul
 ar\nGame Status: Complete\nHome Team: Boom Squad (Faamoe)\nAway Team: Lee'
 s Summit Nets (Dahmer)\nHome Score: 35\nAway Score: 22
END:VEVENT
BEGIN:VEVENT
UID:16539532@ezleagues.ezfacility.com
DTSTAMP:20260426T035139Z
CREATED:20260426T035139Z
DTSTART:20250709T233000Z
DTEND:20250710T003000Z
LOCATION:SAC Main Court
CONTACT:
SUMMARY:Lee's Summit Nets (Dahmer) VS. Della 4th/5th (Lane)
DESCRIPTION:League Name: Summer Session - 5th Grade Girls\nGame Type: Regul
 ar\nGame Status: Complete\nHome Team: Lee's Summit Nets (Dahmer)\nAway Tea
 m: Della 4th/5th (Lane)\nHome Score: 23\nAway Score: 26
END:VEVENT
BEGIN:VEVENT
UID:16539534@ezleagues.ezfacility.com
DTSTAMP:20260426T035139Z
CREATED:20260426T035139Z
DTSTART:20250717T013000Z
DTEND:20250717T023000Z
LOCATION:KCE Fieldhouse
CONTACT:
SUMMARY:Lee's Summit Nets (Dahmer) VS. Sixers Supreme 4th/5th (Dickerson)
DESCRIPTION:League Name: Summer Session - 5th Grade Girls\nGame Type: Regul
 ar\nGame Status: Complete\nHome Team: Lee's Summit Nets (Dahmer)\nAway Tea
 m: Sixers Supreme 4th/5th (Dickerson)\nHome Score: 20\nAway Score: 15
END:VEVENT
BEGIN:VEVENT
UID:16539536@ezleagues.ezfacility.com
DTSTAMP:20260426T035139Z
CREATED:20260426T035139Z
DTSTART:20250723T223000Z
DTEND:20250723T233000Z
LOCATION:SAC Main Court
CONTACT:
SUMMARY:Boom Squad (Faamoe) VS. Lee's Summit Nets (Dahmer)
DESCRIPTION:League Name: Summer Session - 5th Grade Girls\nGame Type: Regul
 ar\nGame Status: Complete\nHome Team: Boom Squad (Faamoe)\nAway Team: Lee'
 s Summit Nets (Dahmer)\nHome Score: 25\nAway Score: 19
END:VEVENT
BEGIN:VEVENT
UID:16539538@ezleagues.ezfacility.com
DTSTAMP:20260426T035139Z
CREATED:20260426T035139Z
DTSTART:20250801T003000Z
DTEND:20250801T013000Z
LOCATION:SAC Main Court
CONTACT:
SUMMARY:Della 4th/5th (Lane) VS. Lee's Summit Nets (Dahmer)
DESCRIPTION:League Name: Summer Session - 5th Grade Girls\nGame Type: Regul
 ar\nGame Status: Postponed\nHome Team: Della 4th/5th (Lane)\nAway Team: Le
 e's Summit Nets (Dahmer)\n
END:VEVENT
BEGIN:VEVENT
UID:16539540@ezleagues.ezfacility.com
DTSTAMP:20260426T035139Z
CREATED:20260426T035139Z
DTSTART:20250808T013000Z
DTEND:20250808T023000Z
LOCATION:SAC Main Court
CONTACT:
SUMMARY:Lee's Summit Nets (Dahmer) VS. Della 4th/5th (Lane)
DESCRIPTION:League Name: Summer Session - 5th Grade Girls\nGame Type: Regul
 ar\nGame Status: Complete\nHome Team: Lee's Summit Nets (Dahmer)\nAway Tea
 m: Della 4th/5th (Lane)\nHome Score: 16\nAway Score: 32
END:VEVENT
BEGIN:VEVENT
UID:16539542@ezleagues.ezfacility.com
DTSTAMP:20260426T035139Z
CREATED:20260426T035139Z
DTSTART:20250813T223000Z
DTEND:20250813T233000Z
LOCATION:SAC Main Court
CONTACT:
SUMMARY:Boom Squad (Faamoe) VS. Lee's Summit Nets (Dahmer)
DESCRIPTION:League Name: Summer Session - 5th Grade Girls\nGame Type: Regul
 ar\nGame Status: Complete\nHome Team: Boom Squad (Faamoe)\nAway Team: Lee'
 s Summit Nets (Dahmer)\nHome Score: 30\nAway Score: 28
END:VEVENT
END:VCALENDAR
