BEGIN:VCALENDAR
VERSION:2.0
PRODID:-//EZFacility.com, Inc.//EZL 2.5.5.28621
BEGIN:VEVENT
UID:16432060@ezleagues.ezfacility.com
DTSTAMP:20260424T044132Z
CREATED:20260424T044132Z
DTSTART:20250520T013000Z
DTEND:20250520T021500Z
LOCATION:Indoor 1
CONTACT:
SUMMARY:Cecil and Sons FC VS. The Unc's
DESCRIPTION:League Name: Summer 2025 Adult League\nGame Type: Regular\nGame
  Status: Complete\nHome Team: Cecil and Sons FC\nAway Team: The Unc's\nHom
 e Score: 8\nAway Score: 6
END:VEVENT
BEGIN:VEVENT
UID:16432062@ezleagues.ezfacility.com
DTSTAMP:20260424T044132Z
CREATED:20260424T044132Z
DTSTART:20250604T003000Z
DTEND:20250604T011500Z
LOCATION:Indoor 1
CONTACT:
SUMMARY:The Unc's VS. FC Buns
DESCRIPTION:League Name: Summer 2025 Adult League\nGame Type: Regular\nGame
  Status: Complete\nHome Team: The Unc's\nAway Team: FC Buns\nHome Score: 4
 \nAway Score: 3
END:VEVENT
BEGIN:VEVENT
UID:16432117@ezleagues.ezfacility.com
DTSTAMP:20260424T044132Z
CREATED:20260424T044132Z
DTSTART:20250611T013000Z
DTEND:20250611T021500Z
LOCATION:Indoor 1
CONTACT:
SUMMARY:Traceway Tanks VS. The Unc's
DESCRIPTION:League Name: Summer 2025 Adult League\nGame Type: Regular\nGame
  Status: Complete\nHome Team: Traceway Tanks\nAway Team: The Unc's\nHome S
 core: 6\nAway Score: 5
END:VEVENT
BEGIN:VEVENT
UID:16432080@ezleagues.ezfacility.com
DTSTAMP:20260424T044132Z
CREATED:20260424T044132Z
DTSTART:20250618T013000Z
DTEND:20250618T021500Z
LOCATION:Indoor 1
CONTACT:
SUMMARY:The Comet VS. The Unc's
DESCRIPTION:League Name: Summer 2025 Adult League\nGame Type: Regular\nGame
  Status: Complete\nHome Team: The Comet\nAway Team: The Unc's\nHome Score:
  5\nAway Score: 3
END:VEVENT
BEGIN:VEVENT
UID:16432088@ezleagues.ezfacility.com
DTSTAMP:20260424T044132Z
CREATED:20260424T044132Z
DTSTART:20250626T003000Z
DTEND:20250626T011500Z
LOCATION:Indoor 1
CONTACT:
SUMMARY:Super Soakers VS. The Unc's
DESCRIPTION:League Name: Summer 2025 Adult League\nGame Type: Regular\nGame
  Status: Complete\nHome Team: Super Soakers\nAway Team: The Unc's\nHome Sc
 ore: 4\nAway Score: 9
END:VEVENT
BEGIN:VEVENT
UID:16432075@ezleagues.ezfacility.com
DTSTAMP:20260424T044132Z
CREATED:20260424T044132Z
DTSTART:20250701T013000Z
DTEND:20250701T021500Z
LOCATION:Indoor 1
CONTACT:
SUMMARY:Boomers VS. The Unc's
DESCRIPTION:League Name: Summer 2025 Adult League\nGame Type: Regular\nGame
  Status: Complete\nHome Team: Boomers\nAway Team: The Unc's\nHome Score: 1
 \nAway Score: 7
END:VEVENT
BEGIN:VEVENT
UID:16432090@ezleagues.ezfacility.com
DTSTAMP:20260424T044132Z
CREATED:20260424T044132Z
DTSTART:20250711T013000Z
DTEND:20250711T021500Z
LOCATION:Indoor 1
CONTACT:
SUMMARY:The Unc's VS. Arrow Elite
DESCRIPTION:League Name: Summer 2025 Adult League\nGame Type: Regular\nGame
  Status: Complete\nHome Team: The Unc's\nAway Team: Arrow Elite\nHome Scor
 e: 3\nAway Score: 5
END:VEVENT
BEGIN:VEVENT
UID:16432107@ezleagues.ezfacility.com
DTSTAMP:20260424T044132Z
CREATED:20260424T044132Z
DTSTART:20250715T013000Z
DTEND:20250715T021500Z
LOCATION:Indoor 1
CONTACT:
SUMMARY:The Unc's VS. 25 and Washed Up
DESCRIPTION:League Name: Summer 2025 Adult League\nGame Type: Regular\nGame
  Status: Complete\nHome Team: The Unc's\nAway Team: 25 and Washed Up\nHome
  Score: 6\nAway Score: 3
END:VEVENT
BEGIN:VEVENT
UID:16569170@ezleagues.ezfacility.com
DTSTAMP:20260424T044132Z
CREATED:20260424T044132Z
DTSTART:20250729T013000Z
DTEND:20250729T021500Z
LOCATION:Indoor 1
CONTACT:
SUMMARY:Arrow Elite VS. The Unc's
DESCRIPTION:League Name: Summer 2025 Adult League\nGame Type: Postseason\nG
 ame Status: Complete\nHome Team: Arrow Elite\nAway Team: The Unc's\nHome S
 core: 3\nAway Score: 4
END:VEVENT
BEGIN:VEVENT
UID:16569174@ezleagues.ezfacility.com
DTSTAMP:20260424T044132Z
CREATED:20260424T044132Z
DTSTART:20250806T003000Z
DTEND:20250806T011500Z
LOCATION:Indoor 1
CONTACT:
SUMMARY:The Comet VS. The Unc's
DESCRIPTION:League Name: Summer 2025 Adult League\nGame Type: Postseason\nG
 ame Status: Complete\nHome Team: The Comet\nAway Team: The Unc's\nHome Sco
 re: 7\nAway Score: 1
END:VEVENT
END:VCALENDAR
