BEGIN:VCALENDAR
VERSION:2.0
PRODID:-//EZFacility.com, Inc.//EZL 2.5.5.28621
BEGIN:VEVENT
UID:16431115@ezleagues.ezfacility.com
DTSTAMP:20260424T183724Z
CREATED:20260424T183724Z
DTSTART:20250519T230000Z
DTEND:20250519T235000Z
LOCATION:Harmans Premier Field #5
CONTACT:
SUMMARY:DC VS. Vargas FC
DESCRIPTION:League Name: Mon Mens Open 2nd div \nGame Type: Regular\nGame S
 tatus: Complete\nHome Team: DC\nAway Team: Vargas FC\nHome Score: 5\nAway 
 Score: 13
END:VEVENT
BEGIN:VEVENT
UID:16431137@ezleagues.ezfacility.com
DTSTAMP:20260424T183724Z
CREATED:20260424T183724Z
DTSTART:20250602T235000Z
DTEND:20250603T004000Z
LOCATION:Harmans Premier Field #5
CONTACT:
SUMMARY:Atletico VS. Vargas FC
DESCRIPTION:League Name: Mon Mens Open 2nd div \nGame Type: Regular\nGame S
 tatus: Complete\nHome Team: Atletico\nAway Team: Vargas FC\nHome Score: 7\
 nAway Score: 3
END:VEVENT
BEGIN:VEVENT
UID:16431148@ezleagues.ezfacility.com
DTSTAMP:20260424T183724Z
CREATED:20260424T183724Z
DTSTART:20250610T004000Z
DTEND:20250610T013000Z
LOCATION:Harmans Premier Field #4
CONTACT:
SUMMARY:Vargas FC VS. Maryland FC
DESCRIPTION:League Name: Mon Mens Open 2nd div \nGame Type: Regular\nGame S
 tatus: Complete\nHome Team: Vargas FC\nAway Team: Maryland FC\nHome Score:
  5\nAway Score: 8
END:VEVENT
BEGIN:VEVENT
UID:16431161@ezleagues.ezfacility.com
DTSTAMP:20260424T183724Z
CREATED:20260424T183724Z
DTSTART:20250617T013000Z
DTEND:20250617T022000Z
LOCATION:Harmans Premier Field #4
CONTACT:
SUMMARY:Vargas FC VS. Los Retirados
DESCRIPTION:League Name: Mon Mens Open 2nd div \nGame Type: Regular\nGame S
 tatus: Complete\nHome Team: Vargas FC\nAway Team: Los Retirados\nHome Scor
 e: 2\nAway Score: 3
END:VEVENT
BEGIN:VEVENT
UID:16431174@ezleagues.ezfacility.com
DTSTAMP:20260424T183724Z
CREATED:20260424T183724Z
DTSTART:20250623T230000Z
DTEND:20250623T235000Z
LOCATION:Harmans Premier Field #5
CONTACT:
SUMMARY:Vargas FC VS. Inter
DESCRIPTION:League Name: Mon Mens Open 2nd div \nGame Type: Regular\nGame S
 tatus: Complete\nHome Team: Vargas FC\nAway Team: Inter\nHome Score: 3\nAw
 ay Score: 0
END:VEVENT
BEGIN:VEVENT
UID:16431187@ezleagues.ezfacility.com
DTSTAMP:20260424T183724Z
CREATED:20260424T183724Z
DTSTART:20250701T013000Z
DTEND:20250701T022000Z
LOCATION:Harmans Premier Field #5
CONTACT:
SUMMARY:Vargas FC VS. The Amici
DESCRIPTION:League Name: Mon Mens Open 2nd div \nGame Type: Regular\nGame S
 tatus: Complete\nHome Team: Vargas FC\nAway Team: The Amici\nHome Score: 6
 \nAway Score: 5
END:VEVENT
BEGIN:VEVENT
UID:16431126@ezleagues.ezfacility.com
DTSTAMP:20260424T183724Z
CREATED:20260424T183724Z
DTSTART:20250708T022000Z
DTEND:20250708T031000Z
LOCATION:Harmans Premier Field #4
CONTACT:
SUMMARY:Sacachispas FC VS. Vargas FC
DESCRIPTION:League Name: Mon Mens Open 2nd div \nGame Type: Regular\nGame S
 tatus: Complete\nHome Team: Sacachispas FC\nAway Team: Vargas FC\nHome Sco
 re: 11\nAway Score: 4
END:VEVENT
BEGIN:VEVENT
UID:16553117@ezleagues.ezfacility.com
DTSTAMP:20260424T183724Z
CREATED:20260424T183724Z
DTSTART:20250714T230000Z
DTEND:20250714T235000Z
LOCATION:Harmans Premier Field #5
CONTACT:
SUMMARY:Vargas FC VS. DC
DESCRIPTION:League Name: Mon Mens Open 2nd div \nGame Type: Regular\nGame S
 tatus: Complete\nHome Team: Vargas FC\nAway Team: DC\nHome Score: 3\nAway 
 Score: 0
END:VEVENT
BEGIN:VEVENT
UID:16557030@ezleagues.ezfacility.com
DTSTAMP:20260424T183724Z
CREATED:20260424T183724Z
DTSTART:20250722T004000Z
DTEND:20250722T013000Z
LOCATION:Harmans Premier Field #5
CONTACT:
SUMMARY:Vargas FC VS. Atletico
DESCRIPTION:League Name: Mon Mens Open 2nd div \nGame Type: Regular\nGame S
 tatus: Complete\nHome Team: Vargas FC\nAway Team: Atletico\nHome Score: 0\
 nAway Score: 3
END:VEVENT
END:VCALENDAR
