BEGIN:VCALENDAR
VERSION:2.0
PRODID:-//EZFacility.com, Inc.//EZL 2.5.5.28621
BEGIN:VEVENT
UID:16434948@ezleagues.ezfacility.com
DTSTAMP:20260426T033817Z
CREATED:20260426T033817Z
DTSTART:20250520T114500Z
DTEND:20250520T122500Z
LOCATION:Court 1
CONTACT:
SUMMARY:Queens Cream VS. Royals
DESCRIPTION:League Name: Tuesday Mixed Netball Winter 2025\nGame Type: Regu
 lar\nGame Status: Complete\nHome Team: Queens Cream\nAway Team: Royals\nHo
 me Score: 38\nAway Score: 8
END:VEVENT
BEGIN:VEVENT
UID:16434953@ezleagues.ezfacility.com
DTSTAMP:20260426T033817Z
CREATED:20260426T033817Z
DTSTART:20250527T104500Z
DTEND:20250527T112500Z
LOCATION:Court 2
CONTACT:
SUMMARY:Block it like its hot VS. Queens Cream
DESCRIPTION:League Name: Tuesday Mixed Netball Winter 2025\nGame Type: Regu
 lar\nGame Status: Complete\nHome Team: Block it like its hot\nAway Team: Q
 ueens Cream\nHome Score: 18\nAway Score: 29
END:VEVENT
BEGIN:VEVENT
UID:16434957@ezleagues.ezfacility.com
DTSTAMP:20260426T033817Z
CREATED:20260426T033817Z
DTSTART:20250603T120500Z
DTEND:20250603T124500Z
LOCATION:Court 2
CONTACT:
SUMMARY:CUMBRE VS. Queens Cream
DESCRIPTION:League Name: Tuesday Mixed Netball Winter 2025\nGame Type: Regu
 lar\nGame Status: Complete\nHome Team: CUMBRE\nAway Team: Queens Cream\nHo
 me Score: 0\nAway Score: 20
END:VEVENT
BEGIN:VEVENT
UID:16434960@ezleagues.ezfacility.com
DTSTAMP:20260426T033817Z
CREATED:20260426T033817Z
DTSTART:20250610T104500Z
DTEND:20250610T112500Z
LOCATION:Court 2
CONTACT:
SUMMARY:Queens Cream VS. Hot Shots
DESCRIPTION:League Name: Tuesday Mixed Netball Winter 2025\nGame Type: Regu
 lar\nGame Status: Complete\nHome Team: Queens Cream\nAway Team: Hot Shots\
 nHome Score: 17\nAway Score: 31
END:VEVENT
BEGIN:VEVENT
UID:16434966@ezleagues.ezfacility.com
DTSTAMP:20260426T033817Z
CREATED:20260426T033817Z
DTSTART:20250624T120500Z
DTEND:20250624T124500Z
LOCATION:Court 2
CONTACT:
SUMMARY:Team Mango VS. Queens Cream
DESCRIPTION:League Name: Tuesday Mixed Netball Winter 2025\nGame Type: Regu
 lar\nGame Status: Complete\nHome Team: Team Mango\nAway Team: Queens Cream
 \nHome Score: 21\nAway Score: 33
END:VEVENT
BEGIN:VEVENT
UID:16434971@ezleagues.ezfacility.com
DTSTAMP:20260426T033817Z
CREATED:20260426T033817Z
DTSTART:20250701T104500Z
DTEND:20250701T112500Z
LOCATION:Court 2
CONTACT:
SUMMARY:Queens Cream VS. Bombastic
DESCRIPTION:League Name: Tuesday Mixed Netball Winter 2025\nGame Type: Regu
 lar\nGame Status: Complete\nHome Team: Queens Cream\nAway Team: Bombastic\
 nHome Score: 21\nAway Score: 26
END:VEVENT
BEGIN:VEVENT
UID:16434976@ezleagues.ezfacility.com
DTSTAMP:20260426T033817Z
CREATED:20260426T033817Z
DTSTART:20250708T104500Z
DTEND:20250708T112500Z
LOCATION:Court 2
CONTACT:
SUMMARY:Royals VS. Queens Cream
DESCRIPTION:League Name: Tuesday Mixed Netball Winter 2025\nGame Type: Regu
 lar\nGame Status: Complete\nHome Team: Royals\nAway Team: Queens Cream\nHo
 me Score: 13\nAway Score: 18
END:VEVENT
BEGIN:VEVENT
UID:16434981@ezleagues.ezfacility.com
DTSTAMP:20260426T033817Z
CREATED:20260426T033817Z
DTSTART:20250715T104500Z
DTEND:20250715T112500Z
LOCATION:Court 2
CONTACT:
SUMMARY:Queens Cream VS. Block it like its hot
DESCRIPTION:League Name: Tuesday Mixed Netball Winter 2025\nGame Type: Regu
 lar\nGame Status: Complete\nHome Team: Queens Cream\nAway Team: Block it l
 ike its hot\nHome Score: 23\nAway Score: 11
END:VEVENT
BEGIN:VEVENT
UID:16434985@ezleagues.ezfacility.com
DTSTAMP:20260426T033817Z
CREATED:20260426T033817Z
DTSTART:20250722T120500Z
DTEND:20250722T124500Z
LOCATION:Court 2
CONTACT:
SUMMARY:Queens Cream VS. CUMBRE
DESCRIPTION:League Name: Tuesday Mixed Netball Winter 2025\nGame Type: Regu
 lar\nGame Status: Complete\nHome Team: Queens Cream\nAway Team: CUMBRE\nHo
 me Score: 20\nAway Score: 0
END:VEVENT
BEGIN:VEVENT
UID:16434988@ezleagues.ezfacility.com
DTSTAMP:20260426T033817Z
CREATED:20260426T033817Z
DTSTART:20250729T120500Z
DTEND:20250729T124500Z
LOCATION:Court 2
CONTACT:
SUMMARY:Hot Shots VS. Queens Cream
DESCRIPTION:League Name: Tuesday Mixed Netball Winter 2025\nGame Type: Regu
 lar\nGame Status: Complete\nHome Team: Hot Shots\nAway Team: Queens Cream\
 nHome Score: 30\nAway Score: 22
END:VEVENT
BEGIN:VEVENT
UID:16434994@ezleagues.ezfacility.com
DTSTAMP:20260426T033817Z
CREATED:20260426T033817Z
DTSTART:20250812T114500Z
DTEND:20250812T122500Z
LOCATION:Court 1
CONTACT:
SUMMARY:Queens Cream VS. Team Mango
DESCRIPTION:League Name: Tuesday Mixed Netball Winter 2025\nGame Type: Regu
 lar\nGame Status: Complete\nHome Team: Queens Cream\nAway Team: Team Mango
 \nHome Score: 26\nAway Score: 8
END:VEVENT
BEGIN:VEVENT
UID:16434999@ezleagues.ezfacility.com
DTSTAMP:20260426T033817Z
CREATED:20260426T033817Z
DTSTART:20250819T114500Z
DTEND:20250819T122500Z
LOCATION:Court 1
CONTACT:
SUMMARY:Bombastic VS. Queens Cream
DESCRIPTION:League Name: Tuesday Mixed Netball Winter 2025\nGame Type: Regu
 lar\nGame Status: Complete\nHome Team: Bombastic\nAway Team: Queens Cream\
 nHome Score: 16\nAway Score: 30
END:VEVENT
END:VCALENDAR
