BEGIN:VCALENDAR
VERSION:2.0
PRODID:-//EZFacility.com, Inc.//EZL 2.5.5.28621
BEGIN:VEVENT
UID:16434948@ezleagues.ezfacility.com
DTSTAMP:20260426T034107Z
CREATED:20260426T034107Z
DTSTART:20250520T114500Z
DTEND:20250520T122500Z
LOCATION:Court 1
CONTACT:
SUMMARY:Queens Cream VS. Royals
DESCRIPTION:League Name: Tuesday Mixed Netball Winter 2025\nGame Type: Regu
 lar\nGame Status: Complete\nHome Team: Queens Cream\nAway Team: Royals\nHo
 me Score: 38\nAway Score: 8
END:VEVENT
BEGIN:VEVENT
UID:16434951@ezleagues.ezfacility.com
DTSTAMP:20260426T034107Z
CREATED:20260426T034107Z
DTSTART:20250527T120500Z
DTEND:20250527T124500Z
LOCATION:Court 2
CONTACT:
SUMMARY:Royals VS. Bombastic
DESCRIPTION:League Name: Tuesday Mixed Netball Winter 2025\nGame Type: Regu
 lar\nGame Status: Complete\nHome Team: Royals\nAway Team: Bombastic\nHome 
 Score: 28\nAway Score: 13
END:VEVENT
BEGIN:VEVENT
UID:16434954@ezleagues.ezfacility.com
DTSTAMP:20260426T034107Z
CREATED:20260426T034107Z
DTSTART:20250603T104500Z
DTEND:20250603T112500Z
LOCATION:Court 2
CONTACT:
SUMMARY:Royals VS. Team Mango
DESCRIPTION:League Name: Tuesday Mixed Netball Winter 2025\nGame Type: Regu
 lar\nGame Status: Complete\nHome Team: Royals\nAway Team: Team Mango\nHome
  Score: 18\nAway Score: 10
END:VEVENT
BEGIN:VEVENT
UID:16434959@ezleagues.ezfacility.com
DTSTAMP:20260426T034107Z
CREATED:20260426T034107Z
DTSTART:20250610T120500Z
DTEND:20250610T124500Z
LOCATION:Court 2
CONTACT:
SUMMARY:Block it like its hot VS. Royals
DESCRIPTION:League Name: Tuesday Mixed Netball Winter 2025\nGame Type: Regu
 lar\nGame Status: Complete\nHome Team: Block it like its hot\nAway Team: R
 oyals\nHome Score: 32\nAway Score: 13
END:VEVENT
BEGIN:VEVENT
UID:16434964@ezleagues.ezfacility.com
DTSTAMP:20260426T034107Z
CREATED:20260426T034107Z
DTSTART:20250617T104500Z
DTEND:20250617T112500Z
LOCATION:Court 2
CONTACT:
SUMMARY:Royals VS. CUMBRE
DESCRIPTION:League Name: Tuesday Mixed Netball Winter 2025\nGame Type: Regu
 lar\nGame Status: Complete\nHome Team: Royals\nAway Team: CUMBRE\nHome Sco
 re: 8\nAway Score: 29
END:VEVENT
BEGIN:VEVENT
UID:16434969@ezleagues.ezfacility.com
DTSTAMP:20260426T034107Z
CREATED:20260426T034107Z
DTSTART:20250624T104500Z
DTEND:20250624T112500Z
LOCATION:Court 2
CONTACT:
SUMMARY:Hot Shots VS. Royals
DESCRIPTION:League Name: Tuesday Mixed Netball Winter 2025\nGame Type: Regu
 lar\nGame Status: Complete\nHome Team: Hot Shots\nAway Team: Royals\nHome 
 Score: 34\nAway Score: 9
END:VEVENT
BEGIN:VEVENT
UID:16434976@ezleagues.ezfacility.com
DTSTAMP:20260426T034107Z
CREATED:20260426T034107Z
DTSTART:20250708T104500Z
DTEND:20250708T112500Z
LOCATION:Court 2
CONTACT:
SUMMARY:Royals VS. Queens Cream
DESCRIPTION:League Name: Tuesday Mixed Netball Winter 2025\nGame Type: Regu
 lar\nGame Status: Complete\nHome Team: Royals\nAway Team: Queens Cream\nHo
 me Score: 13\nAway Score: 18
END:VEVENT
BEGIN:VEVENT
UID:16434979@ezleagues.ezfacility.com
DTSTAMP:20260426T034107Z
CREATED:20260426T034107Z
DTSTART:20250715T120500Z
DTEND:20250715T124500Z
LOCATION:Court 2
CONTACT:
SUMMARY:Bombastic VS. Royals
DESCRIPTION:League Name: Tuesday Mixed Netball Winter 2025\nGame Type: Regu
 lar\nGame Status: Complete\nHome Team: Bombastic\nAway Team: Royals\nHome 
 Score: 22\nAway Score: 23
END:VEVENT
BEGIN:VEVENT
UID:16434982@ezleagues.ezfacility.com
DTSTAMP:20260426T034107Z
CREATED:20260426T034107Z
DTSTART:20250722T114500Z
DTEND:20250722T122500Z
LOCATION:Court 1
CONTACT:
SUMMARY:Team Mango VS. Royals
DESCRIPTION:League Name: Tuesday Mixed Netball Winter 2025\nGame Type: Regu
 lar\nGame Status: Complete\nHome Team: Team Mango\nAway Team: Royals\nHome
  Score: 15\nAway Score: 28
END:VEVENT
BEGIN:VEVENT
UID:16434987@ezleagues.ezfacility.com
DTSTAMP:20260426T034107Z
CREATED:20260426T034107Z
DTSTART:20250729T114500Z
DTEND:20250729T122500Z
LOCATION:Court 1
CONTACT:
SUMMARY:Royals VS. Block it like its hot
DESCRIPTION:League Name: Tuesday Mixed Netball Winter 2025\nGame Type: Regu
 lar\nGame Status: Complete\nHome Team: Royals\nAway Team: Block it like it
 s hot\nHome Score: 13\nAway Score: 16
END:VEVENT
BEGIN:VEVENT
UID:16434992@ezleagues.ezfacility.com
DTSTAMP:20260426T034107Z
CREATED:20260426T034107Z
DTSTART:20250805T114500Z
DTEND:20250805T122500Z
LOCATION:Court 1
CONTACT:
SUMMARY:CUMBRE VS. Royals
DESCRIPTION:League Name: Tuesday Mixed Netball Winter 2025\nGame Type: Regu
 lar\nGame Status: Pending\nHome Team: CUMBRE\nAway Team: Royals\n
END:VEVENT
BEGIN:VEVENT
UID:16434997@ezleagues.ezfacility.com
DTSTAMP:20260426T034107Z
CREATED:20260426T034107Z
DTSTART:20250812T120500Z
DTEND:20250812T124500Z
LOCATION:Court 2
CONTACT:
SUMMARY:Royals VS. Hot Shots
DESCRIPTION:League Name: Tuesday Mixed Netball Winter 2025\nGame Type: Regu
 lar\nGame Status: Complete\nHome Team: Royals\nAway Team: Hot Shots\nHome 
 Score: 12\nAway Score: 32
END:VEVENT
END:VCALENDAR
