BEGIN:VCALENDAR
VERSION:2.0
PRODID:-//EZFacility.com, Inc.//EZL 2.5.5.28621
BEGIN:VEVENT
UID:16437513@ezleagues.ezfacility.com
DTSTAMP:20260421T142848Z
CREATED:20260421T142848Z
DTSTART:20250521T013000Z
DTEND:20250521T021500Z
LOCATION:Cosse and Silmon Field
CONTACT:
SUMMARY:Los Angeles VS. Snutt biffers
DESCRIPTION:League Name: May Men’s Division 2\nGame Type: Regular\nGame S
 tatus: Complete\nHome Team: Los Angeles\nAway Team: Snutt biffers\nHome Sc
 ore: 0\nAway Score: 7
END:VEVENT
BEGIN:VEVENT
UID:16437514@ezleagues.ezfacility.com
DTSTAMP:20260421T142848Z
CREATED:20260421T142848Z
DTSTART:20250521T021500Z
DTEND:20250521T030000Z
LOCATION:Cosse and Silmon Field
CONTACT:
SUMMARY:Los Angeles VS. Rio Rojo FC
DESCRIPTION:League Name: May Men’s Division 2\nGame Type: Regular\nGame S
 tatus: Complete\nHome Team: Los Angeles\nAway Team: Rio Rojo FC\nHome Scor
 e: 8\nAway Score: 5
END:VEVENT
BEGIN:VEVENT
UID:16437614@ezleagues.ezfacility.com
DTSTAMP:20260421T142848Z
CREATED:20260421T142848Z
DTSTART:20250528T030000Z
DTEND:20250528T034500Z
LOCATION:Cosse and Silmon Field
CONTACT:Williams
SUMMARY:Los Angeles VS. Perrywinkle
DESCRIPTION:League Name: May Men’s Division 2\nGame Type: Regular\nGame S
 tatus: Complete\nHome Team: Los Angeles\nAway Team: Perrywinkle\nHome Scor
 e: 5\nAway Score: 3
END:VEVENT
BEGIN:VEVENT
UID:16437522@ezleagues.ezfacility.com
DTSTAMP:20260421T142848Z
CREATED:20260421T142848Z
DTSTART:20250611T021500Z
DTEND:20250611T030000Z
LOCATION:Cosse and Silmon Field
CONTACT:Williams
SUMMARY:Snutt biffers VS. Los Angeles
DESCRIPTION:League Name: May Men’s Division 2\nGame Type: Regular\nGame S
 tatus: Complete\nHome Team: Snutt biffers\nAway Team: Los Angeles\nHome Sc
 ore: 11\nAway Score: 6
END:VEVENT
BEGIN:VEVENT
UID:16437526@ezleagues.ezfacility.com
DTSTAMP:20260421T142848Z
CREATED:20260421T142848Z
DTSTART:20250618T021500Z
DTEND:20250618T030000Z
LOCATION:Cosse and Silmon Field
CONTACT:Williams
SUMMARY:Los Angeles VS. Perrywinkle
DESCRIPTION:League Name: May Men’s Division 2\nGame Type: Regular\nGame S
 tatus: Complete\nHome Team: Los Angeles\nAway Team: Perrywinkle\nHome Scor
 e: 4\nAway Score: 10
END:VEVENT
BEGIN:VEVENT
UID:16477320@ezleagues.ezfacility.com
DTSTAMP:20260421T142848Z
CREATED:20260421T142848Z
DTSTART:20250625T030000Z
DTEND:20250625T034500Z
LOCATION:Cosse and Silmon Field
CONTACT:Williams
SUMMARY:Los Angeles VS. Rio Rojo FC
DESCRIPTION:League Name: May Men’s Division 2\nGame Type: Regular\nGame S
 tatus: Complete\nHome Team: Los Angeles\nAway Team: Rio Rojo FC\nHome Scor
 e: 3\nAway Score: 2
END:VEVENT
BEGIN:VEVENT
UID:16437533@ezleagues.ezfacility.com
DTSTAMP:20260421T142848Z
CREATED:20260421T142848Z
DTSTART:20250702T034500Z
DTEND:20250702T043000Z
LOCATION:Cosse and Silmon Field
CONTACT:Williams
SUMMARY:Rio Rojo FC VS. Los Angeles
DESCRIPTION:League Name: May Men’s Division 2\nGame Type: Regular\nGame S
 tatus: Complete\nHome Team: Rio Rojo FC\nAway Team: Los Angeles\nHome Scor
 e: 3\nAway Score: 8
END:VEVENT
BEGIN:VEVENT
UID:16477339@ezleagues.ezfacility.com
DTSTAMP:20260421T142848Z
CREATED:20260421T142848Z
DTSTART:20250709T021500Z
DTEND:20250709T030000Z
LOCATION:Cosse and Silmon Field
CONTACT:Williams
SUMMARY:Los Angeles VS. Rio Rojo FC
DESCRIPTION:League Name: May Men’s Division 2\nGame Type: Postseason\nGam
 e Status: Complete\nHome Team: Los Angeles\nAway Team: Rio Rojo FC\nHome S
 core: 0\nAway Score: 3
END:VEVENT
END:VCALENDAR
