BEGIN:VCALENDAR
VERSION:2.0
PRODID:-//EZFacility.com, Inc.//EZL 2.5.5.28621
BEGIN:VEVENT
UID:16437771@ezleagues.ezfacility.com
DTSTAMP:20260426T033857Z
CREATED:20260426T033857Z
DTSTART:20250524T135000Z
DTEND:20250524T144000Z
LOCATION:Indoor Field
CONTACT:
SUMMARY:Kilgore Elite Jr  VS. Little Nitros 
DESCRIPTION:League Name: 2018/2019 Summer 2025\nGame Type: Regular\nGame St
 atus: Complete\nHome Team: Kilgore Elite Jr \nAway Team: Little Nitros \nH
 ome Score: 1\nAway Score: 13
END:VEVENT
BEGIN:VEVENT
UID:16437783@ezleagues.ezfacility.com
DTSTAMP:20260426T033857Z
CREATED:20260426T033857Z
DTSTART:20250607T144000Z
DTEND:20250607T153000Z
LOCATION:Indoor Field
CONTACT:
SUMMARY:Amigos United VS. Little Nitros 
DESCRIPTION:League Name: 2018/2019 Summer 2025\nGame Type: Regular\nGame St
 atus: Complete\nHome Team: Amigos United\nAway Team: Little Nitros \nHome 
 Score: 9\nAway Score: 12
END:VEVENT
BEGIN:VEVENT
UID:16437791@ezleagues.ezfacility.com
DTSTAMP:20260426T033857Z
CREATED:20260426T033857Z
DTSTART:20250614T162000Z
DTEND:20250614T171000Z
LOCATION:Indoor Field
CONTACT:
SUMMARY:Little Nitros  VS. Spartans
DESCRIPTION:League Name: 2018/2019 Summer 2025\nGame Type: Regular\nGame St
 atus: Complete\nHome Team: Little Nitros \nAway Team: Spartans\nHome Score
 : 0\nAway Score: 25
END:VEVENT
BEGIN:VEVENT
UID:16437777@ezleagues.ezfacility.com
DTSTAMP:20260426T033857Z
CREATED:20260426T033857Z
DTSTART:20250615T170000Z
DTEND:20250615T175000Z
LOCATION:Indoor Field
CONTACT:
SUMMARY:Dolphins  VS. Little Nitros 
DESCRIPTION:League Name: 2018/2019 Summer 2025\nGame Type: Regular\nGame St
 atus: Complete\nHome Team: Dolphins \nAway Team: Little Nitros \nHome Scor
 e: 6\nAway Score: 6
END:VEVENT
BEGIN:VEVENT
UID:16437799@ezleagues.ezfacility.com
DTSTAMP:20260426T033857Z
CREATED:20260426T033857Z
DTSTART:20250621T162000Z
DTEND:20250621T171000Z
LOCATION:Indoor Field
CONTACT:
SUMMARY:Little Nitros  VS. Wolves
DESCRIPTION:League Name: 2018/2019 Summer 2025\nGame Type: Regular\nGame St
 atus: Complete\nHome Team: Little Nitros \nAway Team: Wolves\nHome Score: 
 13\nAway Score: 8
END:VEVENT
BEGIN:VEVENT
UID:16437807@ezleagues.ezfacility.com
DTSTAMP:20260426T033857Z
CREATED:20260426T033857Z
DTSTART:20250628T130000Z
DTEND:20250628T135000Z
LOCATION:Indoor Field
CONTACT:
SUMMARY:Little Nitros  VS. Raptors
DESCRIPTION:League Name: 2018/2019 Summer 2025\nGame Type: Regular\nGame St
 atus: Complete\nHome Team: Little Nitros \nAway Team: Raptors\nHome Score:
  2\nAway Score: 21
END:VEVENT
BEGIN:VEVENT
UID:16437815@ezleagues.ezfacility.com
DTSTAMP:20260426T033857Z
CREATED:20260426T033857Z
DTSTART:20250719T171000Z
DTEND:20250719T180000Z
LOCATION:Indoor Field
CONTACT:
SUMMARY:Little Nitros  VS. Lil Tigers
DESCRIPTION:League Name: 2018/2019 Summer 2025\nGame Type: Regular\nGame St
 atus: Complete\nHome Team: Little Nitros \nAway Team: Lil Tigers\nHome Sco
 re: 1\nAway Score: 16
END:VEVENT
BEGIN:VEVENT
UID:16524263@ezleagues.ezfacility.com
DTSTAMP:20260426T033857Z
CREATED:20260426T033857Z
DTSTART:20250726T130000Z
DTEND:20250726T135000Z
LOCATION:Indoor Field
CONTACT:
SUMMARY:Raptors VS. Little Nitros 
DESCRIPTION:League Name: 2018/2019 Summer 2025\nGame Type: Postseason\nGame
  Status: Pending\nHome Team: Raptors\nAway Team: Little Nitros \n
END:VEVENT
END:VCALENDAR
