BEGIN:VCALENDAR
VERSION:2.0
PRODID:-//EZFacility.com, Inc.//EZL 2.5.5.28621
BEGIN:VEVENT
UID:16437778@ezleagues.ezfacility.com
DTSTAMP:20260421T142314Z
CREATED:20260421T142314Z
DTSTART:20250531T130000Z
DTEND:20250531T135000Z
LOCATION:Indoor Field
CONTACT:
SUMMARY:Chargers VS. Pirates FC
DESCRIPTION:League Name: 2018/2019 Summer 2025\nGame Type: Regular\nGame St
 atus: Complete\nHome Team: Chargers\nAway Team: Pirates FC\nHome Score: 13
 \nAway Score: 8
END:VEVENT
BEGIN:VEVENT
UID:16437784@ezleagues.ezfacility.com
DTSTAMP:20260421T142314Z
CREATED:20260421T142314Z
DTSTART:20250607T153000Z
DTEND:20250607T162000Z
LOCATION:Indoor Field
CONTACT:
SUMMARY:King Cobras VS. Pirates FC
DESCRIPTION:League Name: 2018/2019 Summer 2025\nGame Type: Regular\nGame St
 atus: Complete\nHome Team: King Cobras\nAway Team: Pirates FC\nHome Score:
  5\nAway Score: 8
END:VEVENT
BEGIN:VEVENT
UID:16437772@ezleagues.ezfacility.com
DTSTAMP:20260421T142314Z
CREATED:20260421T142314Z
DTSTART:20250607T171000Z
DTEND:20250607T180000Z
LOCATION:Indoor Field
CONTACT:
SUMMARY:Lil Tigers VS. Pirates FC
DESCRIPTION:League Name: 2018/2019 Summer 2025\nGame Type: Regular\nGame St
 atus: Complete\nHome Team: Lil Tigers\nAway Team: Pirates FC\nHome Score: 
 16\nAway Score: 4
END:VEVENT
BEGIN:VEVENT
UID:16437790@ezleagues.ezfacility.com
DTSTAMP:20260421T142314Z
CREATED:20260421T142314Z
DTSTART:20250614T130000Z
DTEND:20250614T135000Z
LOCATION:Outdoor Field
CONTACT:
SUMMARY:Pirates FC VS. Amigos United
DESCRIPTION:League Name: 2018/2019 Summer 2025\nGame Type: Regular\nGame St
 atus: Complete\nHome Team: Pirates FC\nAway Team: Amigos United\nHome Scor
 e: 9\nAway Score: 11
END:VEVENT
BEGIN:VEVENT
UID:16437798@ezleagues.ezfacility.com
DTSTAMP:20260421T142314Z
CREATED:20260421T142314Z
DTSTART:20250621T135000Z
DTEND:20250621T144000Z
LOCATION:Indoor Field
CONTACT:
SUMMARY:Pirates FC VS. The Goats SC
DESCRIPTION:League Name: 2018/2019 Summer 2025\nGame Type: Regular\nGame St
 atus: Complete\nHome Team: Pirates FC\nAway Team: The Goats SC\nHome Score
 : 3\nAway Score: 12
END:VEVENT
BEGIN:VEVENT
UID:16437806@ezleagues.ezfacility.com
DTSTAMP:20260421T142314Z
CREATED:20260421T142314Z
DTSTART:20250628T135000Z
DTEND:20250628T144000Z
LOCATION:Indoor Field
CONTACT:
SUMMARY:Pirates FC VS. Sundae Strikers FC
DESCRIPTION:League Name: 2018/2019 Summer 2025\nGame Type: Regular\nGame St
 atus: Complete\nHome Team: Pirates FC\nAway Team: Sundae Strikers FC\nHome
  Score: 10\nAway Score: 3
END:VEVENT
BEGIN:VEVENT
UID:16437814@ezleagues.ezfacility.com
DTSTAMP:20260421T142314Z
CREATED:20260421T142314Z
DTSTART:20250719T153000Z
DTEND:20250719T162000Z
LOCATION:Indoor Field
CONTACT:
SUMMARY:Pirates FC VS. Outlaws
DESCRIPTION:League Name: 2018/2019 Summer 2025\nGame Type: Regular\nGame St
 atus: Complete\nHome Team: Pirates FC\nAway Team: Outlaws\nHome Score: 25\
 nAway Score: 5
END:VEVENT
END:VCALENDAR
