BEGIN:VCALENDAR
VERSION:2.0
PRODID:-//EZFacility.com, Inc.//EZL 2.5.5.28621
BEGIN:VEVENT
UID:16437858@ezleagues.ezfacility.com
DTSTAMP:20260424T044329Z
CREATED:20260424T044329Z
DTSTART:20250614T235000Z
DTEND:20250615T004000Z
LOCATION:Indoor Field
CONTACT:
SUMMARY:Crusaders VS. ETX United 17B Royal 
DESCRIPTION:League Name: 2017/2016 Premier Mixed Summer 2025\nGame Type: Re
 gular\nGame Status: Complete\nHome Team: Crusaders\nAway Team: ETX United 
 17B Royal \nHome Score: 7\nAway Score: 17
END:VEVENT
BEGIN:VEVENT
UID:16437830@ezleagues.ezfacility.com
DTSTAMP:20260424T044329Z
CREATED:20260424T044329Z
DTSTART:20250615T004000Z
DTEND:20250615T013000Z
LOCATION:Indoor Field
CONTACT:
SUMMARY:ETX United 17B Royal  VS. Roadrunners
DESCRIPTION:League Name: 2017/2016 Premier Mixed Summer 2025\nGame Type: Re
 gular\nGame Status: Complete\nHome Team: ETX United 17B Royal \nAway Team:
  Roadrunners\nHome Score: 13\nAway Score: 4
END:VEVENT
BEGIN:VEVENT
UID:16437867@ezleagues.ezfacility.com
DTSTAMP:20260424T044329Z
CREATED:20260424T044329Z
DTSTART:20250621T221000Z
DTEND:20250621T230000Z
LOCATION:Indoor Field
CONTACT:
SUMMARY:ETX United 17B Royal  VS. Matadors
DESCRIPTION:League Name: 2017/2016 Premier Mixed Summer 2025\nGame Type: Re
 gular\nGame Status: Complete\nHome Team: ETX United 17B Royal \nAway Team:
  Matadors\nHome Score: 6\nAway Score: 5
END:VEVENT
BEGIN:VEVENT
UID:16437876@ezleagues.ezfacility.com
DTSTAMP:20260424T044329Z
CREATED:20260424T044329Z
DTSTART:20250628T235000Z
DTEND:20250629T004000Z
LOCATION:Indoor Field
CONTACT:
SUMMARY:FCD Heard  VS. ETX United 17B Royal 
DESCRIPTION:League Name: 2017/2016 Premier Mixed Summer 2025\nGame Type: Re
 gular\nGame Status: Complete\nHome Team: FCD Heard \nAway Team: ETX United
  17B Royal \nHome Score: 13\nAway Score: 4
END:VEVENT
BEGIN:VEVENT
UID:16437891@ezleagues.ezfacility.com
DTSTAMP:20260424T044329Z
CREATED:20260424T044329Z
DTSTART:20250713T004000Z
DTEND:20250713T013000Z
LOCATION:Indoor Field
CONTACT:
SUMMARY:ETX United 17B Royal  VS. ETX United 17B White 
DESCRIPTION:League Name: 2017/2016 Premier Mixed Summer 2025\nGame Type: Re
 gular\nGame Status: Complete\nHome Team: ETX United 17B Royal \nAway Team:
  ETX United 17B White \nHome Score: 12\nAway Score: 2
END:VEVENT
BEGIN:VEVENT
UID:16437848@ezleagues.ezfacility.com
DTSTAMP:20260424T044329Z
CREATED:20260424T044329Z
DTSTART:20250713T202000Z
DTEND:20250713T211000Z
LOCATION:Indoor Field
CONTACT:
SUMMARY:ETX United 17B Royal  VS. Vipers 
DESCRIPTION:League Name: 2017/2016 Premier Mixed Summer 2025\nGame Type: Re
 gular\nGame Status: Complete\nHome Team: ETX United 17B Royal \nAway Team:
  Vipers \nHome Score: 2\nAway Score: 20
END:VEVENT
BEGIN:VEVENT
UID:16437884@ezleagues.ezfacility.com
DTSTAMP:20260424T044329Z
CREATED:20260424T044329Z
DTSTART:20250720T013000Z
DTEND:20250720T022000Z
LOCATION:Indoor Field
CONTACT:
SUMMARY:Aguilas FC 16 VS. ETX United 17B Royal 
DESCRIPTION:League Name: 2017/2016 Premier Mixed Summer 2025\nGame Type: Re
 gular\nGame Status: Complete\nHome Team: Aguilas FC 16\nAway Team: ETX Uni
 ted 17B Royal \nHome Score: 10\nAway Score: 3
END:VEVENT
BEGIN:VEVENT
UID:16524270@ezleagues.ezfacility.com
DTSTAMP:20260424T044329Z
CREATED:20260424T044329Z
DTSTART:20250726T162000Z
DTEND:20250726T171000Z
LOCATION:Indoor Field
CONTACT:
SUMMARY:Vipers  VS. ETX United 17B Royal 
DESCRIPTION:League Name: 2017/2016 Premier Mixed Summer 2025\nGame Type: Po
 stseason\nGame Status: Pending\nHome Team: Vipers \nAway Team: ETX United 
 17B Royal \n
END:VEVENT
END:VCALENDAR
