BEGIN:VCALENDAR
VERSION:2.0
PRODID:-//EZFacility.com, Inc.//EZL 2.5.5.28621
BEGIN:VEVENT
UID:16438181@ezleagues.ezfacility.com
DTSTAMP:20260426T033517Z
CREATED:20260426T033517Z
DTSTART:20250601T220000Z
DTEND:20250601T225000Z
LOCATION:Indoor Field
CONTACT:
SUMMARY:ETU-Alba VS. Lady Strykers
DESCRIPTION:League Name: 2013/2012 Girls Summer 2025\nGame Type: Regular\nG
 ame Status: Complete\nHome Team: ETU-Alba\nAway Team: Lady Strykers\nHome 
 Score: 30\nAway Score: 0
END:VEVENT
BEGIN:VEVENT
UID:16438187@ezleagues.ezfacility.com
DTSTAMP:20260426T033517Z
CREATED:20260426T033517Z
DTSTART:20250608T202000Z
DTEND:20250608T211000Z
LOCATION:Indoor Field
CONTACT:
SUMMARY:ETU-Alba VS. FCD 2013 White
DESCRIPTION:League Name: 2013/2012 Girls Summer 2025\nGame Type: Regular\nG
 ame Status: Complete\nHome Team: ETU-Alba\nAway Team: FCD 2013 White\nHome
  Score: 3\nAway Score: 13
END:VEVENT
BEGIN:VEVENT
UID:16438192@ezleagues.ezfacility.com
DTSTAMP:20260426T033517Z
CREATED:20260426T033517Z
DTSTART:20250615T220000Z
DTEND:20250615T225000Z
LOCATION:Indoor Field
CONTACT:
SUMMARY:Aguilas FC VS. ETU-Alba
DESCRIPTION:League Name: 2013/2012 Girls Summer 2025\nGame Type: Regular\nG
 ame Status: Complete\nHome Team: Aguilas FC\nAway Team: ETU-Alba\nHome Sco
 re: 2\nAway Score: 15
END:VEVENT
BEGIN:VEVENT
UID:16438196@ezleagues.ezfacility.com
DTSTAMP:20260426T033517Z
CREATED:20260426T033517Z
DTSTART:20250622T202000Z
DTEND:20250622T211000Z
LOCATION:Indoor Field
CONTACT:
SUMMARY:FCD 2013 Red VS. ETU-Alba
DESCRIPTION:League Name: 2013/2012 Girls Summer 2025\nGame Type: Regular\nG
 ame Status: Complete\nHome Team: FCD 2013 Red\nAway Team: ETU-Alba\nHome S
 core: 13\nAway Score: 1
END:VEVENT
BEGIN:VEVENT
UID:16438200@ezleagues.ezfacility.com
DTSTAMP:20260426T033517Z
CREATED:20260426T033517Z
DTSTART:20250629T193000Z
DTEND:20250629T202000Z
LOCATION:Indoor Field
CONTACT:
SUMMARY:Kilgore Elite White  VS. ETU-Alba
DESCRIPTION:League Name: 2013/2012 Girls Summer 2025\nGame Type: Regular\nG
 ame Status: Complete\nHome Team: Kilgore Elite White \nAway Team: ETU-Alba
 \nHome Score: 9\nAway Score: 5
END:VEVENT
BEGIN:VEVENT
UID:16438175@ezleagues.ezfacility.com
DTSTAMP:20260426T033517Z
CREATED:20260426T033517Z
DTSTART:20250712T212000Z
DTEND:20250712T221000Z
LOCATION:Indoor Field
CONTACT:
SUMMARY:ETU-Alba VS. Henderson
DESCRIPTION:League Name: 2013/2012 Girls Summer 2025\nGame Type: Regular\nG
 ame Status: Complete\nHome Team: ETU-Alba\nAway Team: Henderson\nHome Scor
 e: 3\nAway Score: 10
END:VEVENT
BEGIN:VEVENT
UID:16438206@ezleagues.ezfacility.com
DTSTAMP:20260426T033517Z
CREATED:20260426T033517Z
DTSTART:20250720T193000Z
DTEND:20250720T202000Z
LOCATION:Indoor Field
CONTACT:
SUMMARY:Kilgore Elite VS. ETU-Alba
DESCRIPTION:League Name: 2013/2012 Girls Summer 2025\nGame Type: Regular\nG
 ame Status: Complete\nHome Team: Kilgore Elite\nAway Team: ETU-Alba\nHome 
 Score: 2\nAway Score: 2
END:VEVENT
END:VCALENDAR
