BEGIN:VCALENDAR
VERSION:2.0
PRODID:-//EZFacility.com, Inc.//EZL 2.5.5.28621
BEGIN:VEVENT
UID:16450833@ezleagues.ezfacility.com
DTSTAMP:20260426T033732Z
CREATED:20260426T033732Z
DTSTART:20250530T010500Z
DTEND:20250530T015500Z
LOCATION:Field 2
CONTACT:
SUMMARY:A.R.C.A Woodworks VS. Deportivo Araro
DESCRIPTION:League Name: Session #3 - Men's Division 7B\nGame Type: Regular
 \nGame Status: Complete\nHome Team: A.R.C.A Woodworks\nAway Team: Deportiv
 o Araro\nHome Score: 8\nAway Score: 9
END:VEVENT
BEGIN:VEVENT
UID:16450838@ezleagues.ezfacility.com
DTSTAMP:20260426T033732Z
CREATED:20260426T033732Z
DTSTART:20250606T033500Z
DTEND:20250606T042500Z
LOCATION:Field 1
CONTACT:Uriel 
SUMMARY:A.R.C.A Woodworks VS. Dope Boys FC
DESCRIPTION:League Name: Session #3 - Men's Division 7B\nGame Type: Regular
 \nGame Status: Complete\nHome Team: A.R.C.A Woodworks\nAway Team: Dope Boy
 s FC\nHome Score: 3\nAway Score: 7
END:VEVENT
BEGIN:VEVENT
UID:16450843@ezleagues.ezfacility.com
DTSTAMP:20260426T033732Z
CREATED:20260426T033732Z
DTSTART:20250613T042500Z
DTEND:20250613T051500Z
LOCATION:Field 2
CONTACT:Enrique 
SUMMARY:A.R.C.A Woodworks VS. Los Morros
DESCRIPTION:League Name: Session #3 - Men's Division 7B\nGame Type: Regular
 \nGame Status: Complete\nHome Team: A.R.C.A Woodworks\nAway Team: Los Morr
 os\nHome Score: 7\nAway Score: 8
END:VEVENT
BEGIN:VEVENT
UID:16450848@ezleagues.ezfacility.com
DTSTAMP:20260426T033732Z
CREATED:20260426T033732Z
DTSTART:20250620T015500Z
DTEND:20250620T024500Z
LOCATION:Field 1
CONTACT:
SUMMARY:A.R.C.A Woodworks VS. Chop Shop
DESCRIPTION:League Name: Session #3 - Men's Division 7B\nGame Type: Regular
 \nGame Status: Complete\nHome Team: A.R.C.A Woodworks\nAway Team: Chop Sho
 p\nHome Score: 4\nAway Score: 6
END:VEVENT
BEGIN:VEVENT
UID:16450853@ezleagues.ezfacility.com
DTSTAMP:20260426T033732Z
CREATED:20260426T033732Z
DTSTART:20250627T015500Z
DTEND:20250627T024500Z
LOCATION:Field 2
CONTACT:
SUMMARY:Retorno VS. A.R.C.A Woodworks
DESCRIPTION:League Name: Session #3 - Men's Division 7B\nGame Type: Regular
 \nGame Status: Complete\nHome Team: Retorno\nAway Team: A.R.C.A Woodworks\
 nHome Score: 2\nAway Score: 10
END:VEVENT
BEGIN:VEVENT
UID:16450858@ezleagues.ezfacility.com
DTSTAMP:20260426T033732Z
CREATED:20260426T033732Z
DTSTART:20250704T024500Z
DTEND:20250704T033500Z
LOCATION:Field 1
CONTACT:Uriel 
SUMMARY:Magoo FC VS. A.R.C.A Woodworks
DESCRIPTION:League Name: Session #3 - Men's Division 7B\nGame Type: Regular
 \nGame Status: Complete\nHome Team: Magoo FC\nAway Team: A.R.C.A Woodworks
 \nHome Score: 6\nAway Score: 5
END:VEVENT
BEGIN:VEVENT
UID:16450863@ezleagues.ezfacility.com
DTSTAMP:20260426T033732Z
CREATED:20260426T033732Z
DTSTART:20250711T033500Z
DTEND:20250711T042500Z
LOCATION:Field 2
CONTACT:JLuis 
SUMMARY:Los Extrellados FC VS. A.R.C.A Woodworks
DESCRIPTION:League Name: Session #3 - Men's Division 7B\nGame Type: Regular
 \nGame Status: Complete\nHome Team: Los Extrellados FC\nAway Team: A.R.C.A
  Woodworks\nHome Score: 7\nAway Score: 2
END:VEVENT
BEGIN:VEVENT
UID:16450868@ezleagues.ezfacility.com
DTSTAMP:20260426T033732Z
CREATED:20260426T033732Z
DTSTART:20250718T010500Z
DTEND:20250718T015500Z
LOCATION:Field 1
CONTACT:
SUMMARY:Deportivo Cali VS. A.R.C.A Woodworks
DESCRIPTION:League Name: Session #3 - Men's Division 7B\nGame Type: Regular
 \nGame Status: Complete\nHome Team: Deportivo Cali\nAway Team: A.R.C.A Woo
 dworks\nHome Score: 3\nAway Score: 8
END:VEVENT
END:VCALENDAR
