BEGIN:VCALENDAR
VERSION:2.0
PRODID:-//EZFacility.com, Inc.//EZL 2.5.5.28621
BEGIN:VEVENT
UID:16439544@ezleagues.ezfacility.com
DTSTAMP:20260424T064725Z
CREATED:20260424T064725Z
DTSTART:20250529T064500Z
DTEND:20250529T071000Z
LOCATION:004 La Bombonera
CONTACT:
SUMMARY:Australia VS. Wales
DESCRIPTION:League Name: CCM/CCU JDL Program U9s Phase 2\nGame Type: Regula
 r\nGame Status: Complete\nHome Team: Australia\nAway Team: Wales\nHome Sco
 re: 7\nAway Score: 6
END:VEVENT
BEGIN:VEVENT
UID:16439548@ezleagues.ezfacility.com
DTSTAMP:20260424T064725Z
CREATED:20260424T064725Z
DTSTART:20250529T071500Z
DTEND:20250529T074000Z
LOCATION:004 La Bombonera
CONTACT:
SUMMARY:Australia VS. Spain
DESCRIPTION:League Name: CCM/CCU JDL Program U9s Phase 2\nGame Type: Regula
 r\nGame Status: Complete\nHome Team: Australia\nAway Team: Spain\nHome Sco
 re: 5\nAway Score: 3
END:VEVENT
BEGIN:VEVENT
UID:16439552@ezleagues.ezfacility.com
DTSTAMP:20260424T064725Z
CREATED:20260424T064725Z
DTSTART:20250529T074500Z
DTEND:20250529T081000Z
LOCATION:003 San Siro
CONTACT:
SUMMARY:Australia VS. Germany
DESCRIPTION:League Name: CCM/CCU JDL Program U9s Phase 2\nGame Type: Regula
 r\nGame Status: Complete\nHome Team: Australia\nAway Team: Germany\nHome S
 core: 15\nAway Score: 4
END:VEVENT
BEGIN:VEVENT
UID:16439556@ezleagues.ezfacility.com
DTSTAMP:20260424T064725Z
CREATED:20260424T064725Z
DTSTART:20250605T064500Z
DTEND:20250605T071000Z
LOCATION:006 Estadio do Dragao
CONTACT:
SUMMARY:Australia VS. Brazil
DESCRIPTION:League Name: CCM/CCU JDL Program U9s Phase 2\nGame Type: Regula
 r\nGame Status: Complete\nHome Team: Australia\nAway Team: Brazil\nHome Sc
 ore: 5\nAway Score: 4
END:VEVENT
BEGIN:VEVENT
UID:16439560@ezleagues.ezfacility.com
DTSTAMP:20260424T064725Z
CREATED:20260424T064725Z
DTSTART:20250605T071500Z
DTEND:20250605T074000Z
LOCATION:005 Nou Camp
CONTACT:
SUMMARY:Australia VS. England
DESCRIPTION:League Name: CCM/CCU JDL Program U9s Phase 2\nGame Type: Regula
 r\nGame Status: Complete\nHome Team: Australia\nAway Team: England\nHome S
 core: 6\nAway Score: 10
END:VEVENT
BEGIN:VEVENT
UID:16439564@ezleagues.ezfacility.com
DTSTAMP:20260424T064725Z
CREATED:20260424T064725Z
DTSTART:20250605T074500Z
DTEND:20250605T081000Z
LOCATION:005 Nou Camp
CONTACT:
SUMMARY:New Zealand VS. Australia
DESCRIPTION:League Name: CCM/CCU JDL Program U9s Phase 2\nGame Type: Regula
 r\nGame Status: Complete\nHome Team: New Zealand\nAway Team: Australia\nHo
 me Score: 4\nAway Score: 6
END:VEVENT
BEGIN:VEVENT
UID:16439568@ezleagues.ezfacility.com
DTSTAMP:20260424T064725Z
CREATED:20260424T064725Z
DTSTART:20250612T064500Z
DTEND:20250612T071000Z
LOCATION:003 San Siro
CONTACT:
SUMMARY:Uruguay VS. Australia
DESCRIPTION:League Name: CCM/CCU JDL Program U9s Phase 2\nGame Type: Regula
 r\nGame Status: Complete\nHome Team: Uruguay\nAway Team: Australia\nHome S
 core: 4\nAway Score: 8
END:VEVENT
BEGIN:VEVENT
UID:16439572@ezleagues.ezfacility.com
DTSTAMP:20260424T064725Z
CREATED:20260424T064725Z
DTSTART:20250612T071500Z
DTEND:20250612T074000Z
LOCATION:006 Estadio do Dragao
CONTACT:
SUMMARY:Wales VS. Australia
DESCRIPTION:League Name: CCM/CCU JDL Program U9s Phase 2\nGame Type: Regula
 r\nGame Status: Complete\nHome Team: Wales\nAway Team: Australia\nHome Sco
 re: 7\nAway Score: 7
END:VEVENT
BEGIN:VEVENT
UID:16439576@ezleagues.ezfacility.com
DTSTAMP:20260424T064725Z
CREATED:20260424T064725Z
DTSTART:20250612T074500Z
DTEND:20250612T081000Z
LOCATION:003 San Siro
CONTACT:
SUMMARY:Spain VS. Australia
DESCRIPTION:League Name: CCM/CCU JDL Program U9s Phase 2\nGame Type: Regula
 r\nGame Status: Complete\nHome Team: Spain\nAway Team: Australia\nHome Sco
 re: 7\nAway Score: 8
END:VEVENT
BEGIN:VEVENT
UID:16439580@ezleagues.ezfacility.com
DTSTAMP:20260424T064725Z
CREATED:20260424T064725Z
DTSTART:20250619T064500Z
DTEND:20250619T071000Z
LOCATION:004 La Bombonera
CONTACT:
SUMMARY:Australia VS. Germany
DESCRIPTION:League Name: CCM/CCU JDL Program U9s Phase 2\nGame Type: Regula
 r\nGame Status: Complete\nHome Team: Australia\nAway Team: Germany\nHome S
 core: 6\nAway Score: 2
END:VEVENT
BEGIN:VEVENT
UID:16439584@ezleagues.ezfacility.com
DTSTAMP:20260424T064725Z
CREATED:20260424T064725Z
DTSTART:20250619T071500Z
DTEND:20250619T074000Z
LOCATION:005 Nou Camp
CONTACT:
SUMMARY:Australia VS. Brazil
DESCRIPTION:League Name: CCM/CCU JDL Program U9s Phase 2\nGame Type: Regula
 r\nGame Status: Complete\nHome Team: Australia\nAway Team: Brazil\nHome Sc
 ore: 7\nAway Score: 3
END:VEVENT
BEGIN:VEVENT
UID:16439588@ezleagues.ezfacility.com
DTSTAMP:20260424T064725Z
CREATED:20260424T064725Z
DTSTART:20250619T074500Z
DTEND:20250619T081000Z
LOCATION:004 La Bombonera
CONTACT:
SUMMARY:England VS. Australia
DESCRIPTION:League Name: CCM/CCU JDL Program U9s Phase 2\nGame Type: Regula
 r\nGame Status: Complete\nHome Team: England\nAway Team: Australia\nHome S
 core: 9\nAway Score: 7
END:VEVENT
BEGIN:VEVENT
UID:16439592@ezleagues.ezfacility.com
DTSTAMP:20260424T064725Z
CREATED:20260424T064725Z
DTSTART:20250626T064500Z
DTEND:20250626T071000Z
LOCATION:005 Nou Camp
CONTACT:
SUMMARY:New Zealand VS. Australia
DESCRIPTION:League Name: CCM/CCU JDL Program U9s Phase 2\nGame Type: Regula
 r\nGame Status: Complete\nHome Team: New Zealand\nAway Team: Australia\nHo
 me Score: 6\nAway Score: 4
END:VEVENT
BEGIN:VEVENT
UID:16439596@ezleagues.ezfacility.com
DTSTAMP:20260424T064725Z
CREATED:20260424T064725Z
DTSTART:20250626T071500Z
DTEND:20250626T074000Z
LOCATION:004 La Bombonera
CONTACT:
SUMMARY:Uruguay VS. Australia
DESCRIPTION:League Name: CCM/CCU JDL Program U9s Phase 2\nGame Type: Regula
 r\nGame Status: Complete\nHome Team: Uruguay\nAway Team: Australia\nHome S
 core: 5\nAway Score: 7
END:VEVENT
BEGIN:VEVENT
UID:16439600@ezleagues.ezfacility.com
DTSTAMP:20260424T064725Z
CREATED:20260424T064725Z
DTSTART:20250626T074500Z
DTEND:20250626T081000Z
LOCATION:003 San Siro
CONTACT:
SUMMARY:Wales VS. Australia
DESCRIPTION:League Name: CCM/CCU JDL Program U9s Phase 2\nGame Type: Regula
 r\nGame Status: Complete\nHome Team: Wales\nAway Team: Australia\nHome Sco
 re: 5\nAway Score: 9
END:VEVENT
BEGIN:VEVENT
UID:16439604@ezleagues.ezfacility.com
DTSTAMP:20260424T064725Z
CREATED:20260424T064725Z
DTSTART:20250703T064500Z
DTEND:20250703T071000Z
LOCATION:006 Estadio do Dragao
CONTACT:
SUMMARY:Spain VS. Australia
DESCRIPTION:League Name: CCM/CCU JDL Program U9s Phase 2\nGame Type: Regula
 r\nGame Status: Complete\nHome Team: Spain\nAway Team: Australia\nHome Sco
 re: 5\nAway Score: 7
END:VEVENT
BEGIN:VEVENT
UID:16439608@ezleagues.ezfacility.com
DTSTAMP:20260424T064725Z
CREATED:20260424T064725Z
DTSTART:20250703T071500Z
DTEND:20250703T074000Z
LOCATION:006 Estadio do Dragao
CONTACT:
SUMMARY:Germany VS. Australia
DESCRIPTION:League Name: CCM/CCU JDL Program U9s Phase 2\nGame Type: Regula
 r\nGame Status: Complete\nHome Team: Germany\nAway Team: Australia\nHome S
 core: 4\nAway Score: 10
END:VEVENT
BEGIN:VEVENT
UID:16439612@ezleagues.ezfacility.com
DTSTAMP:20260424T064725Z
CREATED:20260424T064725Z
DTSTART:20250703T074500Z
DTEND:20250703T081000Z
LOCATION:003 San Siro
CONTACT:
SUMMARY:Brazil VS. Australia
DESCRIPTION:League Name: CCM/CCU JDL Program U9s Phase 2\nGame Type: Regula
 r\nGame Status: Complete\nHome Team: Brazil\nAway Team: Australia\nHome Sc
 ore: 3\nAway Score: 11
END:VEVENT
END:VCALENDAR
