BEGIN:VCALENDAR
VERSION:2.0
PRODID:-//EZFacility.com, Inc.//EZL 2.5.5.28621
BEGIN:VEVENT
UID:16439713@ezleagues.ezfacility.com
DTSTAMP:20260424T044312Z
CREATED:20260424T044312Z
DTSTART:20250529T081500Z
DTEND:20250529T084000Z
LOCATION:003 San Siro
CONTACT:
SUMMARY:Spain VS. Uruguay
DESCRIPTION:League Name: CCM/CCU JDL Program U11s Phase 2\nGame Type: Regul
 ar\nGame Status: Complete\nHome Team: Spain\nAway Team: Uruguay\nHome Scor
 e: 5\nAway Score: 6
END:VEVENT
BEGIN:VEVENT
UID:16439716@ezleagues.ezfacility.com
DTSTAMP:20260424T044312Z
CREATED:20260424T044312Z
DTSTART:20250529T084500Z
DTEND:20250529T091000Z
LOCATION:004 La Bombonera
CONTACT:
SUMMARY:Australia VS. Spain
DESCRIPTION:League Name: CCM/CCU JDL Program U11s Phase 2\nGame Type: Regul
 ar\nGame Status: Complete\nHome Team: Australia\nAway Team: Spain\nHome Sc
 ore: 1\nAway Score: 5
END:VEVENT
BEGIN:VEVENT
UID:16439721@ezleagues.ezfacility.com
DTSTAMP:20260424T044312Z
CREATED:20260424T044312Z
DTSTART:20250529T091500Z
DTEND:20250529T094000Z
LOCATION:005 Nou Camp
CONTACT:
SUMMARY:Brazil VS. Spain
DESCRIPTION:League Name: CCM/CCU JDL Program U11s Phase 2\nGame Type: Regul
 ar\nGame Status: Complete\nHome Team: Brazil\nAway Team: Spain\nHome Score
 : 4\nAway Score: 5
END:VEVENT
BEGIN:VEVENT
UID:16439726@ezleagues.ezfacility.com
DTSTAMP:20260424T044312Z
CREATED:20260424T044312Z
DTSTART:20250605T081500Z
DTEND:20250605T084000Z
LOCATION:003 San Siro
CONTACT:
SUMMARY:New Zealand VS. Spain
DESCRIPTION:League Name: CCM/CCU JDL Program U11s Phase 2\nGame Type: Regul
 ar\nGame Status: Complete\nHome Team: New Zealand\nAway Team: Spain\nHome 
 Score: 8\nAway Score: 4
END:VEVENT
BEGIN:VEVENT
UID:16439731@ezleagues.ezfacility.com
DTSTAMP:20260424T044312Z
CREATED:20260424T044312Z
DTSTART:20250605T084500Z
DTEND:20250605T091000Z
LOCATION:004 La Bombonera
CONTACT:
SUMMARY:Spain VS. Wales
DESCRIPTION:League Name: CCM/CCU JDL Program U11s Phase 2\nGame Type: Regul
 ar\nGame Status: Complete\nHome Team: Spain\nAway Team: Wales\nHome Score:
  3\nAway Score: 7
END:VEVENT
BEGIN:VEVENT
UID:16439735@ezleagues.ezfacility.com
DTSTAMP:20260424T044312Z
CREATED:20260424T044312Z
DTSTART:20250605T091500Z
DTEND:20250605T094000Z
LOCATION:004 La Bombonera
CONTACT:
SUMMARY:Germany VS. Spain
DESCRIPTION:League Name: CCM/CCU JDL Program U11s Phase 2\nGame Type: Regul
 ar\nGame Status: Complete\nHome Team: Germany\nAway Team: Spain\nHome Scor
 e: 3\nAway Score: 4
END:VEVENT
BEGIN:VEVENT
UID:16439738@ezleagues.ezfacility.com
DTSTAMP:20260424T044312Z
CREATED:20260424T044312Z
DTSTART:20250612T081500Z
DTEND:20250612T084000Z
LOCATION:006 Estadio do Dragao
CONTACT:
SUMMARY:England VS. Spain
DESCRIPTION:League Name: CCM/CCU JDL Program U11s Phase 2\nGame Type: Regul
 ar\nGame Status: Complete\nHome Team: England\nAway Team: Spain\nHome Scor
 e: 6\nAway Score: 3
END:VEVENT
BEGIN:VEVENT
UID:16439741@ezleagues.ezfacility.com
DTSTAMP:20260424T044312Z
CREATED:20260424T044312Z
DTSTART:20250612T084500Z
DTEND:20250612T091000Z
LOCATION:005 Nou Camp
CONTACT:
SUMMARY:Uruguay VS. Spain
DESCRIPTION:League Name: CCM/CCU JDL Program U11s Phase 2\nGame Type: Regul
 ar\nGame Status: Complete\nHome Team: Uruguay\nAway Team: Spain\nHome Scor
 e: 6\nAway Score: 4
END:VEVENT
BEGIN:VEVENT
UID:16439744@ezleagues.ezfacility.com
DTSTAMP:20260424T044312Z
CREATED:20260424T044312Z
DTSTART:20250612T091500Z
DTEND:20250612T094000Z
LOCATION:003 San Siro
CONTACT:
SUMMARY:Spain VS. Australia
DESCRIPTION:League Name: CCM/CCU JDL Program U11s Phase 2\nGame Type: Regul
 ar\nGame Status: Complete\nHome Team: Spain\nAway Team: Australia\nHome Sc
 ore: 7\nAway Score: 8
END:VEVENT
BEGIN:VEVENT
UID:16439749@ezleagues.ezfacility.com
DTSTAMP:20260424T044312Z
CREATED:20260424T044312Z
DTSTART:20250619T081500Z
DTEND:20250619T084000Z
LOCATION:003 San Siro
CONTACT:
SUMMARY:Spain VS. Brazil
DESCRIPTION:League Name: CCM/CCU JDL Program U11s Phase 2\nGame Type: Regul
 ar\nGame Status: Complete\nHome Team: Spain\nAway Team: Brazil\nHome Score
 : 9\nAway Score: 3
END:VEVENT
BEGIN:VEVENT
UID:16439754@ezleagues.ezfacility.com
DTSTAMP:20260424T044312Z
CREATED:20260424T044312Z
DTSTART:20250619T084500Z
DTEND:20250619T091000Z
LOCATION:004 La Bombonera
CONTACT:
SUMMARY:Spain VS. New Zealand
DESCRIPTION:League Name: CCM/CCU JDL Program U11s Phase 2\nGame Type: Regul
 ar\nGame Status: Complete\nHome Team: Spain\nAway Team: New Zealand\nHome 
 Score: 3\nAway Score: 3
END:VEVENT
BEGIN:VEVENT
UID:16439759@ezleagues.ezfacility.com
DTSTAMP:20260424T044312Z
CREATED:20260424T044312Z
DTSTART:20250619T091500Z
DTEND:20250619T094000Z
LOCATION:006 Estadio do Dragao
CONTACT:
SUMMARY:Spain VS. Wales
DESCRIPTION:League Name: CCM/CCU JDL Program U11s Phase 2\nGame Type: Regul
 ar\nGame Status: Complete\nHome Team: Spain\nAway Team: Wales\nHome Score:
  3\nAway Score: 8
END:VEVENT
BEGIN:VEVENT
UID:16439763@ezleagues.ezfacility.com
DTSTAMP:20260424T044312Z
CREATED:20260424T044312Z
DTSTART:20250626T081500Z
DTEND:20250626T084000Z
LOCATION:006 Estadio do Dragao
CONTACT:
SUMMARY:Germany VS. Spain
DESCRIPTION:League Name: CCM/CCU JDL Program U11s Phase 2\nGame Type: Regul
 ar\nGame Status: Complete\nHome Team: Germany\nAway Team: Spain\nHome Scor
 e: 7\nAway Score: 4
END:VEVENT
BEGIN:VEVENT
UID:16439766@ezleagues.ezfacility.com
DTSTAMP:20260424T044312Z
CREATED:20260424T044312Z
DTSTART:20250626T084500Z
DTEND:20250626T091000Z
LOCATION:005 Nou Camp
CONTACT:
SUMMARY:England VS. Spain
DESCRIPTION:League Name: CCM/CCU JDL Program U11s Phase 2\nGame Type: Regul
 ar\nGame Status: Complete\nHome Team: England\nAway Team: Spain\nHome Scor
 e: 8\nAway Score: 3
END:VEVENT
BEGIN:VEVENT
UID:16439769@ezleagues.ezfacility.com
DTSTAMP:20260424T044312Z
CREATED:20260424T044312Z
DTSTART:20250626T091500Z
DTEND:20250626T094000Z
LOCATION:005 Nou Camp
CONTACT:
SUMMARY:Uruguay VS. Spain
DESCRIPTION:League Name: CCM/CCU JDL Program U11s Phase 2\nGame Type: Regul
 ar\nGame Status: Complete\nHome Team: Uruguay\nAway Team: Spain\nHome Scor
 e: 5\nAway Score: 13
END:VEVENT
BEGIN:VEVENT
UID:16439772@ezleagues.ezfacility.com
DTSTAMP:20260424T044312Z
CREATED:20260424T044312Z
DTSTART:20250703T081500Z
DTEND:20250703T084000Z
LOCATION:006 Estadio do Dragao
CONTACT:
SUMMARY:Spain VS. Australia
DESCRIPTION:League Name: CCM/CCU JDL Program U11s Phase 2\nGame Type: Regul
 ar\nGame Status: Complete\nHome Team: Spain\nAway Team: Australia\nHome Sc
 ore: 8\nAway Score: 4
END:VEVENT
BEGIN:VEVENT
UID:16439777@ezleagues.ezfacility.com
DTSTAMP:20260424T044312Z
CREATED:20260424T044312Z
DTSTART:20250703T084500Z
DTEND:20250703T091000Z
LOCATION:003 San Siro
CONTACT:
SUMMARY:Spain VS. Brazil
DESCRIPTION:League Name: CCM/CCU JDL Program U11s Phase 2\nGame Type: Regul
 ar\nGame Status: Complete\nHome Team: Spain\nAway Team: Brazil\nHome Score
 : 9\nAway Score: 6
END:VEVENT
BEGIN:VEVENT
UID:16439782@ezleagues.ezfacility.com
DTSTAMP:20260424T044312Z
CREATED:20260424T044312Z
DTSTART:20250703T091500Z
DTEND:20250703T094000Z
LOCATION:004 La Bombonera
CONTACT:
SUMMARY:Spain VS. New Zealand
DESCRIPTION:League Name: CCM/CCU JDL Program U11s Phase 2\nGame Type: Regul
 ar\nGame Status: Complete\nHome Team: Spain\nAway Team: New Zealand\nHome 
 Score: 6\nAway Score: 4
END:VEVENT
END:VCALENDAR
