BEGIN:VCALENDAR
VERSION:2.0
PRODID:-//EZFacility.com, Inc.//EZL 2.5.5.28621
BEGIN:VEVENT
UID:16458408@ezleagues.ezfacility.com
DTSTAMP:20260421T130547Z
CREATED:20260421T130547Z
DTSTART:20250531T140500Z
DTEND:20250531T150500Z
LOCATION:Garden City Rec Center Ct 1
CONTACT:
SUMMARY:Rockaway Celtics VS. Empire Lambert
DESCRIPTION:League Name: 2025 Dan Trant Classic 5th Grade Boys\nGame Type: 
 Regular\nGame Status: Complete\nHome Team: Rockaway Celtics\nAway Team: Em
 pire Lambert\nHome Score: 33\nAway Score: 24
END:VEVENT
BEGIN:VEVENT
UID:16458411@ezleagues.ezfacility.com
DTSTAMP:20260421T130547Z
CREATED:20260421T130547Z
DTSTART:20250531T161500Z
DTEND:20250531T171500Z
LOCATION:Garden City Rec Center Ct 2
CONTACT:
SUMMARY:LI Panthers Gibson VS. Empire Lambert
DESCRIPTION:League Name: 2025 Dan Trant Classic 5th Grade Boys\nGame Type: 
 Regular\nGame Status: Complete\nHome Team: LI Panthers Gibson\nAway Team: 
 Empire Lambert\nHome Score: 42\nAway Score: 40
END:VEVENT
BEGIN:VEVENT
UID:16458420@ezleagues.ezfacility.com
DTSTAMP:20260421T130547Z
CREATED:20260421T130547Z
DTSTART:20250601T214000Z
DTEND:20250601T224000Z
LOCATION:Premier Sports Court 3
CONTACT:
SUMMARY:RTG Koerner VS. Empire Lambert
DESCRIPTION:League Name: 2025 Dan Trant Classic 5th Grade Boys\nGame Type: 
 Regular\nGame Status: Complete\nHome Team: RTG Koerner\nAway Team: Empire 
 Lambert\nHome Score: 45\nAway Score: 29
END:VEVENT
END:VCALENDAR
