BEGIN:VCALENDAR
VERSION:2.0
PRODID:-//EZFacility.com, Inc.//EZL 2.5.5.28621
BEGIN:VEVENT
UID:16458424@ezleagues.ezfacility.com
DTSTAMP:20260425T121152Z
CREATED:20260425T121152Z
DTSTART:20250531T130000Z
DTEND:20250531T140000Z
LOCATION:Premier Sports Court 2
CONTACT:
SUMMARY:Develup Yellow VS. Spartans James
DESCRIPTION:League Name: 2025 Dan Trant Classic 5th Grade Boys\nGame Type: 
 Regular\nGame Status: Complete\nHome Team: Develup Yellow\nAway Team: Spar
 tans James\nHome Score: 37\nAway Score: 27
END:VEVENT
BEGIN:VEVENT
UID:16458402@ezleagues.ezfacility.com
DTSTAMP:20260425T121152Z
CREATED:20260425T121152Z
DTSTART:20250531T140500Z
DTEND:20250531T150500Z
LOCATION:Premier Sports Court 3
CONTACT:
SUMMARY:Develup Yellow VS. Spartans Justin
DESCRIPTION:League Name: 2025 Dan Trant Classic 5th Grade Boys\nGame Type: 
 Regular\nGame Status: Complete\nHome Team: Develup Yellow\nAway Team: Spar
 tans Justin\nHome Score: 33\nAway Score: 28
END:VEVENT
BEGIN:VEVENT
UID:16458422@ezleagues.ezfacility.com
DTSTAMP:20260425T121152Z
CREATED:20260425T121152Z
DTSTART:20250601T224500Z
DTEND:20250601T234500Z
LOCATION:Premier Sports Court 3
CONTACT:
SUMMARY:Develup Yellow VS. Compound Kieran
DESCRIPTION:League Name: 2025 Dan Trant Classic 5th Grade Boys\nGame Type: 
 Regular\nGame Status: Complete\nHome Team: Develup Yellow\nAway Team: Comp
 ound Kieran\nHome Score: 38\nAway Score: 10
END:VEVENT
END:VCALENDAR
