BEGIN:VCALENDAR
VERSION:2.0
PRODID:-//EZFacility.com, Inc.//EZL 2.5.5.28621
BEGIN:VEVENT
UID:16458410@ezleagues.ezfacility.com
DTSTAMP:20260426T033624Z
CREATED:20260426T033624Z
DTSTART:20250531T140500Z
DTEND:20250531T150500Z
LOCATION:Garden City Rec Center Ct 2
CONTACT:
SUMMARY:LI Panthers Gibson VS. DST Wilson
DESCRIPTION:League Name: 2025 Dan Trant Classic 5th Grade Boys\nGame Type: 
 Regular\nGame Status: Complete\nHome Team: LI Panthers Gibson\nAway Team: 
 DST Wilson\nHome Score: 21\nAway Score: 42
END:VEVENT
BEGIN:VEVENT
UID:16458409@ezleagues.ezfacility.com
DTSTAMP:20260426T033624Z
CREATED:20260426T033624Z
DTSTART:20250531T161500Z
DTEND:20250531T171500Z
LOCATION:Garden City Rec Center Ct 1
CONTACT:
SUMMARY:Rockaway Celtics VS. DST Wilson
DESCRIPTION:League Name: 2025 Dan Trant Classic 5th Grade Boys\nGame Type: 
 Regular\nGame Status: Complete\nHome Team: Rockaway Celtics\nAway Team: DS
 T Wilson\nHome Score: 24\nAway Score: 23
END:VEVENT
BEGIN:VEVENT
UID:16458414@ezleagues.ezfacility.com
DTSTAMP:20260426T033624Z
CREATED:20260426T033624Z
DTSTART:20250601T172000Z
DTEND:20250601T182000Z
LOCATION:Next Level Ct 1
CONTACT:
SUMMARY:DST Wilson VS. HI IQ Matt
DESCRIPTION:League Name: 2025 Dan Trant Classic 5th Grade Boys\nGame Type: 
 Regular\nGame Status: Complete\nHome Team: DST Wilson\nAway Team: HI IQ Ma
 tt\nHome Score: 38\nAway Score: 10
END:VEVENT
END:VCALENDAR
