BEGIN:VCALENDAR
VERSION:2.0
PRODID:-//EZFacility.com, Inc.//EZL 2.5.5.28621
BEGIN:VEVENT
UID:16440032@ezleagues.ezfacility.com
DTSTAMP:20260426T034806Z
CREATED:20260426T034806Z
DTSTART:20250527T000000Z
DTEND:20250527T010000Z
LOCATION:PFFC Field House - D
CONTACT:
SUMMARY:What's Your Name Again FC  VS. Underdogs FC (Aqua)
DESCRIPTION:League Name: MSL Summer 2025 - COED First Games\nGame Type: Reg
 ular\nGame Status: Complete\nHome Team: What's Your Name Again FC \nAway T
 eam: Underdogs FC (Aqua)\nHome Score: 1\nAway Score: 3
END:VEVENT
BEGIN:VEVENT
UID:16455381@ezleagues.ezfacility.com
DTSTAMP:20260426T034806Z
CREATED:20260426T034806Z
DTSTART:20250602T230000Z
DTEND:20250603T000000Z
LOCATION:PFFC Field House - D
CONTACT:
SUMMARY:Shin Kickers United VS. Underdogs FC (Aqua)
DESCRIPTION:League Name: MSL Summer 2025 - COED First Games\nGame Type: Reg
 ular\nGame Status: Complete\nHome Team: Shin Kickers United\nAway Team: Un
 derdogs FC (Aqua)\nHome Score: 2\nAway Score: 6
END:VEVENT
END:VCALENDAR
