BEGIN:VCALENDAR
VERSION:2.0
PRODID:-//EZFacility.com, Inc.//EZL 2.5.5.28621
BEGIN:VEVENT
UID:16444998@ezleagues.ezfacility.com
DTSTAMP:20260426T033850Z
CREATED:20260426T033850Z
DTSTART:20250529T010000Z
DTEND:20250529T020000Z
LOCATION:PFFC Field House - D
CONTACT:
SUMMARY:Force FC VS. FC Tiger Balm 2.0
DESCRIPTION:League Name: MSL Summer 2025 - Wed/Thurs First Games\nGame Type
 : Regular\nGame Status: Complete\nHome Team: Force FC\nAway Team: FC Tiger
  Balm 2.0\nHome Score: 3\nAway Score: 3
END:VEVENT
BEGIN:VEVENT
UID:16467749@ezleagues.ezfacility.com
DTSTAMP:20260426T033850Z
CREATED:20260426T033850Z
DTSTART:20250606T000000Z
DTEND:20250606T010000Z
LOCATION:PFFC Field House - D
CONTACT:
SUMMARY:UNFC (Orange) VS. FC Tiger Balm 2.0
DESCRIPTION:League Name: MSL Summer 2025 - Wed/Thurs First Games\nGame Type
 : Regular\nGame Status: Complete\nHome Team: UNFC (Orange)\nAway Team: FC 
 Tiger Balm 2.0\nHome Score: 7\nAway Score: 2
END:VEVENT
END:VCALENDAR
