BEGIN:VCALENDAR
VERSION:2.0
PRODID:-//EZFacility.com, Inc.//EZL 2.5.5.28621
BEGIN:VEVENT
UID:16445024@ezleagues.ezfacility.com
DTSTAMP:20260426T033751Z
CREATED:20260426T033751Z
DTSTART:20250529T230000Z
DTEND:20250530T000000Z
LOCATION:PFFC Field House - D
CONTACT:
SUMMARY:RRA VS. FMFC
DESCRIPTION:League Name: MSL Summer 2025 - Wed/Thurs First Games\nGame Type
 : Regular\nGame Status: Complete\nHome Team: RRA\nAway Team: FMFC\nHome Sc
 ore: 3\nAway Score: 0
END:VEVENT
BEGIN:VEVENT
UID:16467750@ezleagues.ezfacility.com
DTSTAMP:20260426T033751Z
CREATED:20260426T033751Z
DTSTART:20250606T010000Z
DTEND:20250606T020000Z
LOCATION:PFFC Field House - D
CONTACT:
SUMMARY:RRA VS. Sphinx
DESCRIPTION:League Name: MSL Summer 2025 - Wed/Thurs First Games\nGame Type
 : Regular\nGame Status: Complete\nHome Team: RRA\nAway Team: Sphinx\nHome 
 Score: 11\nAway Score: 0
END:VEVENT
END:VCALENDAR
