BEGIN:VCALENDAR
VERSION:2.0
PRODID:-//EZFacility.com, Inc.//EZL 2.5.5.28621
BEGIN:VEVENT
UID:16445112@ezleagues.ezfacility.com
DTSTAMP:20260426T033849Z
CREATED:20260426T033849Z
DTSTART:20250529T230000Z
DTEND:20250530T000000Z
LOCATION:PFFC Field House - A
CONTACT:
SUMMARY:Pathetico Madrid VS. NK Jebaci
DESCRIPTION:League Name: MSL Summer 2025 - Wed/Thurs First Games\nGame Type
 : Regular\nGame Status: Complete\nHome Team: Pathetico Madrid\nAway Team: 
 NK Jebaci\nHome Score: 3\nAway Score: 4
END:VEVENT
BEGIN:VEVENT
UID:16467743@ezleagues.ezfacility.com
DTSTAMP:20260426T033849Z
CREATED:20260426T033849Z
DTSTART:20250605T000000Z
DTEND:20250605T010000Z
LOCATION:PFFC Field House - D
CONTACT:
SUMMARY:Pathetico Madrid VS. Galal's Army
DESCRIPTION:League Name: MSL Summer 2025 - Wed/Thurs First Games\nGame Type
 : Regular\nGame Status: Complete\nHome Team: Pathetico Madrid\nAway Team: 
 Galal's Army\nHome Score: 2\nAway Score: 7
END:VEVENT
END:VCALENDAR
