BEGIN:VCALENDAR
VERSION:2.0
PRODID:-//EZFacility.com, Inc.//EZL 2.5.5.28621
BEGIN:VEVENT
UID:16896044@ezleagues.ezfacility.com
DTSTAMP:20260426T033717Z
CREATED:20260426T033717Z
DTSTART:20251210T015000Z
DTEND:20251210T024500Z
LOCATION:Harmans Premier Field #4
CONTACT:
SUMMARY:United Girls VS. Mixed Medly
DESCRIPTION:League Name: Tues Womens Open\nGame Type: Regular\nGame Status:
  Complete\nHome Team: United Girls\nAway Team: Mixed Medly\nHome Score: 7\
 nAway Score: 4
END:VEVENT
BEGIN:VEVENT
UID:16896052@ezleagues.ezfacility.com
DTSTAMP:20260426T033717Z
CREATED:20260426T033717Z
DTSTART:20251217T005500Z
DTEND:20251217T015000Z
LOCATION:Harmans Premier Field #4
CONTACT:
SUMMARY:Rusty Nails VS. Mixed Medly
DESCRIPTION:League Name: Tues Womens Open\nGame Type: Regular\nGame Status:
  Complete\nHome Team: Rusty Nails\nAway Team: Mixed Medly\nHome Score: 4\n
 Away Score: 1
END:VEVENT
BEGIN:VEVENT
UID:16896067@ezleagues.ezfacility.com
DTSTAMP:20260426T033717Z
CREATED:20260426T033717Z
DTSTART:20260107T000000Z
DTEND:20260107T005500Z
LOCATION:Harmans Premier Field #4
CONTACT:
SUMMARY:Mixed Medly VS. Pumas
DESCRIPTION:League Name: Tues Womens Open\nGame Type: Regular\nGame Status:
  Complete\nHome Team: Mixed Medly\nAway Team: Pumas\nHome Score: 3\nAway S
 core: 11
END:VEVENT
BEGIN:VEVENT
UID:16896072@ezleagues.ezfacility.com
DTSTAMP:20260426T033717Z
CREATED:20260426T033717Z
DTSTART:20260114T005500Z
DTEND:20260114T015000Z
LOCATION:Harmans Premier Field #4
CONTACT:
SUMMARY:Mixed Medly VS. Bracelona
DESCRIPTION:League Name: Tues Womens Open\nGame Type: Regular\nGame Status:
  Complete\nHome Team: Mixed Medly\nAway Team: Bracelona\nHome Score: 1\nAw
 ay Score: 11
END:VEVENT
BEGIN:VEVENT
UID:16896078@ezleagues.ezfacility.com
DTSTAMP:20260426T033717Z
CREATED:20260426T033717Z
DTSTART:20260121T024500Z
DTEND:20260121T034000Z
LOCATION:Harmans Premier Field #4
CONTACT:
SUMMARY:Mixed Medly VS. Avalanche
DESCRIPTION:League Name: Tues Womens Open\nGame Type: Regular\nGame Status:
  Complete\nHome Team: Mixed Medly\nAway Team: Avalanche\nHome Score: 1\nAw
 ay Score: 10
END:VEVENT
BEGIN:VEVENT
UID:16896056@ezleagues.ezfacility.com
DTSTAMP:20260426T033717Z
CREATED:20260426T033717Z
DTSTART:20260128T034000Z
DTEND:20260128T043500Z
LOCATION:Harmans Premier Field #4
CONTACT:
SUMMARY:Galaxy VS. Mixed Medly
DESCRIPTION:League Name: Tues Womens Open\nGame Type: Regular\nGame Status:
  Complete\nHome Team: Galaxy\nAway Team: Mixed Medly\nHome Score: 3\nAway 
 Score: 0
END:VEVENT
BEGIN:VEVENT
UID:16896062@ezleagues.ezfacility.com
DTSTAMP:20260426T033717Z
CREATED:20260426T033717Z
DTSTART:20260204T000000Z
DTEND:20260204T005500Z
LOCATION:Harmans Premier Field #4
CONTACT:
SUMMARY:Mixed Medly VS. Scrambled Legs
DESCRIPTION:League Name: Tues Womens Open\nGame Type: Regular\nGame Status:
  Complete\nHome Team: Mixed Medly\nAway Team: Scrambled Legs\nHome Score: 
 5\nAway Score: 10
END:VEVENT
BEGIN:VEVENT
UID:17003525@ezleagues.ezfacility.com
DTSTAMP:20260426T033717Z
CREATED:20260426T033717Z
DTSTART:20260211T034000Z
DTEND:20260211T043500Z
LOCATION:Harmans Premier Field #4
CONTACT:
SUMMARY:Galaxy VS. Mixed Medly
DESCRIPTION:League Name: Tues Womens Open\nGame Type: Regular\nGame Status:
  Complete\nHome Team: Galaxy\nAway Team: Mixed Medly\nHome Score: 8\nAway 
 Score: 1
END:VEVENT
BEGIN:VEVENT
UID:17021461@ezleagues.ezfacility.com
DTSTAMP:20260426T033717Z
CREATED:20260426T033717Z
DTSTART:20260218T000000Z
DTEND:20260218T005500Z
LOCATION:Harmans Premier Field #4
CONTACT:
SUMMARY:Galaxy VS. Mixed Medly
DESCRIPTION:League Name: Tues Womens Open\nGame Type: Regular\nGame Status:
  Complete\nHome Team: Galaxy\nAway Team: Mixed Medly\nHome Score: 1\nAway 
 Score: 1
END:VEVENT
END:VCALENDAR
