BEGIN:VCALENDAR
VERSION:2.0
PRODID:-//EZFacility.com, Inc.//EZL 2.5.5.28621
BEGIN:VEVENT
UID:16788768@ezleagues.ezfacility.com
DTSTAMP:20260426T035044Z
CREATED:20260426T035044Z
DTSTART:20251024T002000Z
DTEND:20251024T011500Z
LOCATION:Harmans Premier Field #5
CONTACT:
SUMMARY:FC Crabs VS. Memphis United
DESCRIPTION:League Name: Thurs Mens Over 35s 3rd div \nGame Type: Regular\n
 Game Status: Complete\nHome Team: FC Crabs\nAway Team: Memphis United\nHom
 e Score: 5\nAway Score: 5
END:VEVENT
BEGIN:VEVENT
UID:16788779@ezleagues.ezfacility.com
DTSTAMP:20260426T035044Z
CREATED:20260426T035044Z
DTSTART:20251031T030500Z
DTEND:20251031T040000Z
LOCATION:Harmans Premier Field #4
CONTACT:
SUMMARY:Last Call VS. Memphis United
DESCRIPTION:League Name: Thurs Mens Over 35s 3rd div \nGame Type: Regular\n
 Game Status: Complete\nHome Team: Last Call\nAway Team: Memphis United\nHo
 me Score: 0\nAway Score: 3
END:VEVENT
BEGIN:VEVENT
UID:16788790@ezleagues.ezfacility.com
DTSTAMP:20260426T035044Z
CREATED:20260426T035044Z
DTSTART:20251107T012000Z
DTEND:20251107T021500Z
LOCATION:Harmans Premier Field #4
CONTACT:
SUMMARY:Memphis United VS. Force Majeure
DESCRIPTION:League Name: Thurs Mens Over 35s 3rd div \nGame Type: Regular\n
 Game Status: Complete\nHome Team: Memphis United\nAway Team: Force Majeure
 \nHome Score: 6\nAway Score: 7
END:VEVENT
BEGIN:VEVENT
UID:16788803@ezleagues.ezfacility.com
DTSTAMP:20260426T035044Z
CREATED:20260426T035044Z
DTSTART:20251114T021500Z
DTEND:20251114T031000Z
LOCATION:Harmans Premier Field #5
CONTACT:
SUMMARY:Memphis United VS. Soccer Dogs
DESCRIPTION:League Name: Thurs Mens Over 35s 3rd div \nGame Type: Regular\n
 Game Status: Complete\nHome Team: Memphis United\nAway Team: Soccer Dogs\n
 Home Score: 2\nAway Score: 1
END:VEVENT
BEGIN:VEVENT
UID:16788816@ezleagues.ezfacility.com
DTSTAMP:20260426T035044Z
CREATED:20260426T035044Z
DTSTART:20251121T021500Z
DTEND:20251121T031000Z
LOCATION:Harmans Premier Field #5
CONTACT:
SUMMARY:Memphis United VS. Pho United
DESCRIPTION:League Name: Thurs Mens Over 35s 3rd div \nGame Type: Regular\n
 Game Status: Complete\nHome Team: Memphis United\nAway Team: Pho United\nH
 ome Score: 4\nAway Score: 5
END:VEVENT
BEGIN:VEVENT
UID:16788841@ezleagues.ezfacility.com
DTSTAMP:20260426T035044Z
CREATED:20260426T035044Z
DTSTART:20251205T012000Z
DTEND:20251205T021500Z
LOCATION:Harmans Premier Field #4
CONTACT:
SUMMARY:Crownsville VS. Memphis United
DESCRIPTION:League Name: Thurs Mens Over 35s 3rd div \nGame Type: Regular\n
 Game Status: Complete\nHome Team: Crownsville\nAway Team: Memphis United\n
 Home Score: 4\nAway Score: 1
END:VEVENT
BEGIN:VEVENT
UID:16788829@ezleagues.ezfacility.com
DTSTAMP:20260426T035044Z
CREATED:20260426T035044Z
DTSTART:20251212T002500Z
DTEND:20251212T012000Z
LOCATION:Harmans Premier Field #5
CONTACT:
SUMMARY:Memphis United VS. Feetballers
DESCRIPTION:League Name: Thurs Mens Over 35s 3rd div \nGame Type: Regular\n
 Game Status: Complete\nHome Team: Memphis United\nAway Team: Feetballers\n
 Home Score: 4\nAway Score: 5
END:VEVENT
BEGIN:VEVENT
UID:16907034@ezleagues.ezfacility.com
DTSTAMP:20260426T035044Z
CREATED:20260426T035044Z
DTSTART:20251218T233000Z
DTEND:20251219T002500Z
LOCATION:Harmans Premier Field #4
CONTACT:
SUMMARY:Memphis United VS. Feetballers
DESCRIPTION:League Name: Thurs Mens Over 35s 3rd div \nGame Type: Regular\n
 Game Status: Complete\nHome Team: Memphis United\nAway Team: Feetballers\n
 Home Score: 11\nAway Score: 3
END:VEVENT
BEGIN:VEVENT
UID:16922102@ezleagues.ezfacility.com
DTSTAMP:20260426T035044Z
CREATED:20260426T035044Z
DTSTART:20260109T031000Z
DTEND:20260109T040500Z
LOCATION:Harmans Premier Field #5
CONTACT:
SUMMARY:Force Majeure VS. Memphis United
DESCRIPTION:League Name: Thurs Mens Over 35s 3rd div \nGame Type: Regular\n
 Game Status: Complete\nHome Team: Force Majeure\nAway Team: Memphis United
 \nHome Score: 5\nAway Score: 10
END:VEVENT
END:VCALENDAR
