BEGIN:VCALENDAR
VERSION:2.0
PRODID:-//EZFacility.com, Inc.//EZL 2.5.5.28621
BEGIN:VEVENT
UID:16452412@ezleagues.ezfacility.com
DTSTAMP:20260425T195119Z
CREATED:20260425T195119Z
DTSTART:20250526T103000Z
DTEND:20250526T111500Z
LOCATION:Sydney Football Full Field
CONTACT:
SUMMARY:4PM VS. Chevere FC
DESCRIPTION:League Name: 2025 Winter All age mens Monday\nGame Type: Regula
 r\nGame Status: Complete\nHome Team: 4PM\nAway Team: Chevere FC\nHome Scor
 e: 0\nAway Score: 10
END:VEVENT
BEGIN:VEVENT
UID:16452416@ezleagues.ezfacility.com
DTSTAMP:20260425T195119Z
CREATED:20260425T195119Z
DTSTART:20250602T094500Z
DTEND:20250602T103000Z
LOCATION:Sydney Football Full Field
CONTACT:
SUMMARY:Chevere FC VS. The Last Slice
DESCRIPTION:League Name: 2025 Winter All age mens Monday\nGame Type: Regula
 r\nGame Status: Complete\nHome Team: Chevere FC\nAway Team: The Last Slice
 \nHome Score: 2\nAway Score: 4
END:VEVENT
BEGIN:VEVENT
UID:16452420@ezleagues.ezfacility.com
DTSTAMP:20260425T195119Z
CREATED:20260425T195119Z
DTSTART:20250609T103000Z
DTEND:20250609T111500Z
LOCATION:Sydney Football Full Field
CONTACT:
SUMMARY:SOPAC FC VS. Chevere FC
DESCRIPTION:League Name: 2025 Winter All age mens Monday\nGame Type: Regula
 r\nGame Status: Pending\nHome Team: SOPAC FC\nAway Team: Chevere FC\n
END:VEVENT
BEGIN:VEVENT
UID:16452423@ezleagues.ezfacility.com
DTSTAMP:20260425T195119Z
CREATED:20260425T195119Z
DTSTART:20250616T080000Z
DTEND:20250616T084500Z
LOCATION:Sydney Football Full Field
CONTACT:
SUMMARY:Golden strike VS. Chevere FC
DESCRIPTION:League Name: 2025 Winter All age mens Monday\nGame Type: Regula
 r\nGame Status: Complete\nHome Team: Golden strike\nAway Team: Chevere FC\
 nHome Score: 4\nAway Score: 2
END:VEVENT
BEGIN:VEVENT
UID:16452425@ezleagues.ezfacility.com
DTSTAMP:20260425T195119Z
CREATED:20260425T195119Z
DTSTART:20250623T090000Z
DTEND:20250623T094500Z
LOCATION:Sydney Football Full Field
CONTACT:
SUMMARY:Chevere FC VS. Skewtons 
DESCRIPTION:League Name: 2025 Winter All age mens Monday\nGame Type: Regula
 r\nGame Status: Complete\nHome Team: Chevere FC\nAway Team: Skewtons \nHom
 e Score: 3\nAway Score: 0
END:VEVENT
BEGIN:VEVENT
UID:16452427@ezleagues.ezfacility.com
DTSTAMP:20260425T195119Z
CREATED:20260425T195119Z
DTSTART:20250630T094500Z
DTEND:20250630T103000Z
LOCATION:Sydney Football Full Field
CONTACT:
SUMMARY:Chevere FC VS. 4PM
DESCRIPTION:League Name: 2025 Winter All age mens Monday\nGame Type: Regula
 r\nGame Status: Complete\nHome Team: Chevere FC\nAway Team: 4PM\nHome Scor
 e: 5\nAway Score: 3
END:VEVENT
BEGIN:VEVENT
UID:16452431@ezleagues.ezfacility.com
DTSTAMP:20260425T195119Z
CREATED:20260425T195119Z
DTSTART:20250707T094500Z
DTEND:20250707T103000Z
LOCATION:ACCOR Stadium
CONTACT:
SUMMARY:The Last Slice VS. Chevere FC
DESCRIPTION:League Name: 2025 Winter All age mens Monday\nGame Type: Regula
 r\nGame Status: Complete\nHome Team: The Last Slice\nAway Team: Chevere FC
 \nHome Score: 2\nAway Score: 2
END:VEVENT
BEGIN:VEVENT
UID:16452435@ezleagues.ezfacility.com
DTSTAMP:20260425T195119Z
CREATED:20260425T195119Z
DTSTART:20250714T094500Z
DTEND:20250714T103000Z
LOCATION:ACCOR Stadium
CONTACT:
SUMMARY:Chevere FC VS. SOPAC FC
DESCRIPTION:League Name: 2025 Winter All age mens Monday\nGame Type: Regula
 r\nGame Status: Complete\nHome Team: Chevere FC\nAway Team: SOPAC FC\nHome
  Score: 8\nAway Score: 3
END:VEVENT
BEGIN:VEVENT
UID:16452438@ezleagues.ezfacility.com
DTSTAMP:20260425T195119Z
CREATED:20260425T195119Z
DTSTART:20250721T103000Z
DTEND:20250721T111500Z
LOCATION:ACCOR Stadium
CONTACT:
SUMMARY:Chevere FC VS. Golden strike
DESCRIPTION:League Name: 2025 Winter All age mens Monday\nGame Type: Regula
 r\nGame Status: Complete\nHome Team: Chevere FC\nAway Team: Golden strike\
 nHome Score: 3\nAway Score: 0
END:VEVENT
BEGIN:VEVENT
UID:16452440@ezleagues.ezfacility.com
DTSTAMP:20260425T195119Z
CREATED:20260425T195119Z
DTSTART:20250728T090000Z
DTEND:20250728T094500Z
LOCATION:ACCOR Stadium
CONTACT:
SUMMARY:Skewtons  VS. Chevere FC
DESCRIPTION:League Name: 2025 Winter All age mens Monday\nGame Type: Regula
 r\nGame Status: Complete\nHome Team: Skewtons \nAway Team: Chevere FC\nHom
 e Score: 5\nAway Score: 1
END:VEVENT
BEGIN:VEVENT
UID:16452442@ezleagues.ezfacility.com
DTSTAMP:20260425T195119Z
CREATED:20260425T195119Z
DTSTART:20250804T090000Z
DTEND:20250804T094500Z
LOCATION:ACCOR Stadium
CONTACT:
SUMMARY:4PM VS. Chevere FC
DESCRIPTION:League Name: 2025 Winter All age mens Monday\nGame Type: Regula
 r\nGame Status: Complete\nHome Team: 4PM\nAway Team: Chevere FC\nHome Scor
 e: 0\nAway Score: 1
END:VEVENT
BEGIN:VEVENT
UID:16452446@ezleagues.ezfacility.com
DTSTAMP:20260425T195119Z
CREATED:20260425T195119Z
DTSTART:20250811T094500Z
DTEND:20250811T103000Z
LOCATION:ACCOR Stadium
CONTACT:
SUMMARY:Chevere FC VS. The Last Slice
DESCRIPTION:League Name: 2025 Winter All age mens Monday\nGame Type: Regula
 r\nGame Status: Complete\nHome Team: Chevere FC\nAway Team: The Last Slice
 \nHome Score: 2\nAway Score: 4
END:VEVENT
BEGIN:VEVENT
UID:16587959@ezleagues.ezfacility.com
DTSTAMP:20260425T195119Z
CREATED:20260425T195119Z
DTSTART:20250818T090000Z
DTEND:20250818T094500Z
LOCATION:ACCOR Stadium
CONTACT:
SUMMARY:Golden strike VS. Chevere FC
DESCRIPTION:League Name: 2025 Winter All age mens Monday\nGame Type: Regula
 r\nGame Status: Pending\nHome Team: Golden strike\nAway Team: Chevere FC\n
END:VEVENT
END:VCALENDAR
