BEGIN:VCALENDAR
VERSION:2.0
PRODID:-//EZFacility.com, Inc.//EZL 2.5.5.28621
BEGIN:VEVENT
UID:16454114@ezleagues.ezfacility.com
DTSTAMP:20260424T044023Z
CREATED:20260424T044023Z
DTSTART:20250531T181500Z
DTEND:20250531T185500Z
LOCATION:SM Field 2
CONTACT:
SUMMARY:Lil' Wolves VS. Lil' Alligators
DESCRIPTION:League Name: Coed/Boys/Girls U6 (4v4) (2019) - Summer 1\nGame T
 ype: Regular\nGame Status: Complete\nHome Team: Lil' Wolves\nAway Team: Li
 l' Alligators\nHome Score: 0\nAway Score: 5
END:VEVENT
BEGIN:VEVENT
UID:16454123@ezleagues.ezfacility.com
DTSTAMP:20260424T044023Z
CREATED:20260424T044023Z
DTSTART:20250607T190000Z
DTEND:20250607T194000Z
LOCATION:SM Field 2
CONTACT:
SUMMARY:Lil' Wolves VS. Cheetahs
DESCRIPTION:League Name: Coed/Boys/Girls U6 (4v4) (2019) - Summer 1\nGame T
 ype: Regular\nGame Status: Complete\nHome Team: Lil' Wolves\nAway Team: Ch
 eetahs\nHome Score: 1\nAway Score: 3
END:VEVENT
BEGIN:VEVENT
UID:16454134@ezleagues.ezfacility.com
DTSTAMP:20260424T044023Z
CREATED:20260424T044023Z
DTSTART:20250614T164500Z
DTEND:20250614T172500Z
LOCATION:SM Field 2
CONTACT:
SUMMARY:Lil' Wolves VS. WSA Llamas
DESCRIPTION:League Name: Coed/Boys/Girls U6 (4v4) (2019) - Summer 1\nGame T
 ype: Regular\nGame Status: Complete\nHome Team: Lil' Wolves\nAway Team: WS
 A Llamas\nHome Score: 1\nAway Score: 0
END:VEVENT
BEGIN:VEVENT
UID:16454156@ezleagues.ezfacility.com
DTSTAMP:20260424T044023Z
CREATED:20260424T044023Z
DTSTART:20250628T173000Z
DTEND:20250628T181000Z
LOCATION:SM Field 2
CONTACT:
SUMMARY:Lil' Dinos VS. Lil' Wolves
DESCRIPTION:League Name: Coed/Boys/Girls U6 (4v4) (2019) - Summer 1\nGame T
 ype: Regular\nGame Status: Complete\nHome Team: Lil' Dinos\nAway Team: Lil
 ' Wolves\nHome Score: 1\nAway Score: 3
END:VEVENT
BEGIN:VEVENT
UID:16454145@ezleagues.ezfacility.com
DTSTAMP:20260424T044023Z
CREATED:20260424T044023Z
DTSTART:20250628T194500Z
DTEND:20250628T202500Z
LOCATION:SM Field 2
CONTACT:
SUMMARY:Lil' Wolves VS. Lil' Lizards
DESCRIPTION:League Name: Coed/Boys/Girls U6 (4v4) (2019) - Summer 1\nGame T
 ype: Regular\nGame Status: Complete\nHome Team: Lil' Wolves\nAway Team: Li
 l' Lizards\nHome Score: 2\nAway Score: 0
END:VEVENT
BEGIN:VEVENT
UID:16454166@ezleagues.ezfacility.com
DTSTAMP:20260424T044023Z
CREATED:20260424T044023Z
DTSTART:20250705T160000Z
DTEND:20250705T164000Z
LOCATION:SM Field 2
CONTACT:
SUMMARY:Lil' Wolves VS. Tulsa Greenwood SC 20/19 Boys
DESCRIPTION:League Name: Coed/Boys/Girls U6 (4v4) (2019) - Summer 1\nGame T
 ype: Regular\nGame Status: Complete\nHome Team: Lil' Wolves\nAway Team: Tu
 lsa Greenwood SC 20/19 Boys\nHome Score: 2\nAway Score: 5
END:VEVENT
BEGIN:VEVENT
UID:16454184@ezleagues.ezfacility.com
DTSTAMP:20260424T044023Z
CREATED:20260424T044023Z
DTSTART:20250719T190000Z
DTEND:20250719T194000Z
LOCATION:SM Field 2
CONTACT:
SUMMARY:Lil' Alligators VS. Lil' Wolves
DESCRIPTION:League Name: Coed/Boys/Girls U6 (4v4) (2019) - Summer 1\nGame T
 ype: Regular\nGame Status: Complete\nHome Team: Lil' Alligators\nAway Team
 : Lil' Wolves\nHome Score: 1\nAway Score: 4
END:VEVENT
BEGIN:VEVENT
UID:16454175@ezleagues.ezfacility.com
DTSTAMP:20260424T044023Z
CREATED:20260424T044023Z
DTSTART:20250719T224500Z
DTEND:20250719T232500Z
LOCATION:SM Field 2
CONTACT:
SUMMARY:Lil' Wolves VS. Tulsa Greenwood SC 2019 Boys
DESCRIPTION:League Name: Coed/Boys/Girls U6 (4v4) (2019) - Summer 1\nGame T
 ype: Regular\nGame Status: Complete\nHome Team: Lil' Wolves\nAway Team: Tu
 lsa Greenwood SC 2019 Boys\nHome Score: 1\nAway Score: 5
END:VEVENT
END:VCALENDAR
