BEGIN:VCALENDAR
VERSION:2.0
PRODID:-//EZFacility.com, Inc.//EZL 2.5.5.28621
BEGIN:VEVENT
UID:16478773@ezleagues.ezfacility.com
DTSTAMP:20260424T044246Z
CREATED:20260424T044246Z
DTSTART:20250607T140000Z
DTEND:20250607T150000Z
LOCATION:Small Field
CONTACT:
SUMMARY:Panthers Gold VS. United
DESCRIPTION:League Name: Summer 1 2025 U04 to U18-U06\nGame Type: Regular\n
 Game Status: Complete\nHome Team: Panthers Gold\nAway Team: United\nHome S
 core: 33\nAway Score: 3
END:VEVENT
BEGIN:VEVENT
UID:16478777@ezleagues.ezfacility.com
DTSTAMP:20260424T044246Z
CREATED:20260424T044246Z
DTSTART:20250608T200000Z
DTEND:20250608T210000Z
LOCATION:Small Field
CONTACT:
SUMMARY:Mansfield Lightning 2019 VS. United
DESCRIPTION:League Name: Summer 1 2025 U04 to U18-U06\nGame Type: Regular\n
 Game Status: Complete\nHome Team: Mansfield Lightning 2019\nAway Team: Uni
 ted\nHome Score: 17\nAway Score: 7
END:VEVENT
BEGIN:VEVENT
UID:16478780@ezleagues.ezfacility.com
DTSTAMP:20260424T044246Z
CREATED:20260424T044246Z
DTSTART:20250614T170000Z
DTEND:20250614T180000Z
LOCATION:Small Field
CONTACT:
SUMMARY:Impact City 2020 Valerga VS. United
DESCRIPTION:League Name: Summer 1 2025 U04 to U18-U06\nGame Type: Regular\n
 Game Status: Complete\nHome Team: Impact City 2020 Valerga\nAway Team: Uni
 ted\nHome Score: 13\nAway Score: 9
END:VEVENT
BEGIN:VEVENT
UID:16478786@ezleagues.ezfacility.com
DTSTAMP:20260424T044246Z
CREATED:20260424T044246Z
DTSTART:20250621T160000Z
DTEND:20250621T170000Z
LOCATION:Small Field
CONTACT:
SUMMARY:United VS. Cowgirls 2020
DESCRIPTION:League Name: Summer 1 2025 U04 to U18-U06\nGame Type: Regular\n
 Game Status: Complete\nHome Team: United\nAway Team: Cowgirls 2020\nHome S
 core: 23\nAway Score: 5
END:VEVENT
BEGIN:VEVENT
UID:16478783@ezleagues.ezfacility.com
DTSTAMP:20260424T044246Z
CREATED:20260424T044246Z
DTSTART:20250628T150000Z
DTEND:20250628T160000Z
LOCATION:Small Field
CONTACT:
SUMMARY:Tornados 2019 VS. United
DESCRIPTION:League Name: Summer 1 2025 U04 to U18-U06\nGame Type: Regular\n
 Game Status: Complete\nHome Team: Tornados 2019\nAway Team: United\nHome S
 core: 18\nAway Score: 7
END:VEVENT
BEGIN:VEVENT
UID:16478791@ezleagues.ezfacility.com
DTSTAMP:20260424T044246Z
CREATED:20260424T044246Z
DTSTART:20250712T170000Z
DTEND:20250712T180000Z
LOCATION:Small Field
CONTACT:
SUMMARY:United VS. Dinos 2019
DESCRIPTION:League Name: Summer 1 2025 U04 to U18-U06\nGame Type: Regular\n
 Game Status: Complete\nHome Team: United\nAway Team: Dinos 2019\nHome Scor
 e: 15\nAway Score: 19
END:VEVENT
BEGIN:VEVENT
UID:16478801@ezleagues.ezfacility.com
DTSTAMP:20260424T044246Z
CREATED:20260424T044246Z
DTSTART:20250713T190000Z
DTEND:20250713T200000Z
LOCATION:Small Field
CONTACT:
SUMMARY:United VS. Panthers Gold
DESCRIPTION:League Name: Summer 1 2025 U04 to U18-U06\nGame Type: Regular\n
 Game Status: Complete\nHome Team: United\nAway Team: Panthers Gold\nHome S
 core: 7\nAway Score: 33
END:VEVENT
BEGIN:VEVENT
UID:16478796@ezleagues.ezfacility.com
DTSTAMP:20260424T044246Z
CREATED:20260424T044246Z
DTSTART:20250719T150000Z
DTEND:20250719T160000Z
LOCATION:Small Field
CONTACT:
SUMMARY:United VS. Fast Cheetahs
DESCRIPTION:League Name: Summer 1 2025 U04 to U18-U06\nGame Type: Regular\n
 Game Status: Complete\nHome Team: United\nAway Team: Fast Cheetahs\nHome S
 core: 7\nAway Score: 21
END:VEVENT
END:VCALENDAR
