BEGIN:VCALENDAR
VERSION:2.0
PRODID:-//EZFacility.com, Inc.//EZL 2.5.5.28621
BEGIN:VEVENT
UID:16482731@ezleagues.ezfacility.com
DTSTAMP:20260424T044258Z
CREATED:20260424T044258Z
DTSTART:20250603T220000Z
DTEND:20250603T224500Z
LOCATION:SPW Beach 1
CONTACT:
SUMMARY:Reese Thompson/Zoie Kroll VS. Emerlee Amos/Brinley Todd
DESCRIPTION:League Name: 14u Xtreme Beach League 2025\nGame Type: Regular\n
 Game Status: Complete\nHome Team: Reese Thompson/Zoie Kroll\nAway Team: Em
 erlee Amos/Brinley Todd\nHome Score: 0\nAway Score: 2
END:VEVENT
BEGIN:VEVENT
UID:16482749@ezleagues.ezfacility.com
DTSTAMP:20260424T044258Z
CREATED:20260424T044258Z
DTSTART:20250610T220000Z
DTEND:20250610T224500Z
LOCATION:SPW Beach 2
CONTACT:
SUMMARY:Olivia Uknes/Evie Walker VS. Reese Thompson/Zoie Kroll
DESCRIPTION:League Name: 14u Xtreme Beach League 2025\nGame Type: Regular\n
 Game Status: Complete\nHome Team: Olivia Uknes/Evie Walker\nAway Team: Ree
 se Thompson/Zoie Kroll\nHome Score: 2\nAway Score: 0
END:VEVENT
BEGIN:VEVENT
UID:16482764@ezleagues.ezfacility.com
DTSTAMP:20260424T044258Z
CREATED:20260424T044258Z
DTSTART:20250617T220000Z
DTEND:20250617T224500Z
LOCATION:SPW Beach 3
CONTACT:
SUMMARY:Reese Thompson/Zoie Kroll VS. Ava Greving/Allie Schneider
DESCRIPTION:League Name: 14u Xtreme Beach League 2025\nGame Type: Regular\n
 Game Status: Complete\nHome Team: Reese Thompson/Zoie Kroll\nAway Team: Av
 a Greving/Allie Schneider\nHome Score: 2\nAway Score: 0
END:VEVENT
BEGIN:VEVENT
UID:16482779@ezleagues.ezfacility.com
DTSTAMP:20260424T044258Z
CREATED:20260424T044258Z
DTSTART:20250624T224500Z
DTEND:20250624T233000Z
LOCATION:SPW Beach 4
CONTACT:
SUMMARY:Reese Thompson/Zoie Kroll VS. Isabella Miller/Brenley Miller
DESCRIPTION:League Name: 14u Xtreme Beach League 2025\nGame Type: Regular\n
 Game Status: Complete\nHome Team: Reese Thompson/Zoie Kroll\nAway Team: Is
 abella Miller/Brenley Miller\nHome Score: 1\nAway Score: 2
END:VEVENT
BEGIN:VEVENT
UID:16482796@ezleagues.ezfacility.com
DTSTAMP:20260424T044258Z
CREATED:20260424T044258Z
DTSTART:20250701T233000Z
DTEND:20250702T001500Z
LOCATION:SPW Beach 1
CONTACT:
SUMMARY:Ava Sidwell/Zoe Wolf VS. Reese Thompson/Zoie Kroll
DESCRIPTION:League Name: 14u Xtreme Beach League 2025\nGame Type: Regular\n
 Game Status: Complete\nHome Team: Ava Sidwell/Zoe Wolf\nAway Team: Reese T
 hompson/Zoie Kroll\nHome Score: 1\nAway Score: 2
END:VEVENT
BEGIN:VEVENT
UID:16482817@ezleagues.ezfacility.com
DTSTAMP:20260424T044258Z
CREATED:20260424T044258Z
DTSTART:20250708T220000Z
DTEND:20250708T224500Z
LOCATION:SPW Beach 1
CONTACT:
SUMMARY:Reese Thompson/Zoie Kroll VS. Mccoy Johannsen/Madelyn Grimm
DESCRIPTION:League Name: 14u Xtreme Beach League 2025\nGame Type: Regular\n
 Game Status: Complete\nHome Team: Reese Thompson/Zoie Kroll\nAway Team: Mc
 coy Johannsen/Madelyn Grimm\nHome Score: 1\nAway Score: 2
END:VEVENT
BEGIN:VEVENT
UID:16482838@ezleagues.ezfacility.com
DTSTAMP:20260424T044258Z
CREATED:20260424T044258Z
DTSTART:20250715T224500Z
DTEND:20250715T233000Z
LOCATION:SPW Beach 1
CONTACT:
SUMMARY:Audrey Guiler/Ella Maki VS. Reese Thompson/Zoie Kroll
DESCRIPTION:League Name: 14u Xtreme Beach League 2025\nGame Type: Regular\n
 Game Status: Complete\nHome Team: Audrey Guiler/Ella Maki\nAway Team: Rees
 e Thompson/Zoie Kroll\nHome Score: 1\nAway Score: 2
END:VEVENT
BEGIN:VEVENT
UID:16482847@ezleagues.ezfacility.com
DTSTAMP:20260424T044258Z
CREATED:20260424T044258Z
DTSTART:20250722T224500Z
DTEND:20250722T233000Z
LOCATION:SPW Beach 3
CONTACT:
SUMMARY:Reese Thompson/Zoie Kroll VS. Mccoy Johannsen/Madelyn Grimm
DESCRIPTION:League Name: 14u Xtreme Beach League 2025\nGame Type: Regular\n
 Game Status: Complete\nHome Team: Reese Thompson/Zoie Kroll\nAway Team: Mc
 coy Johannsen/Madelyn Grimm\nHome Score: 1\nAway Score: 2
END:VEVENT
END:VCALENDAR
