BEGIN:VCALENDAR
VERSION:2.0
PRODID:-//EZFacility.com, Inc.//EZL 2.5.5.28621
BEGIN:VEVENT
UID:16482740@ezleagues.ezfacility.com
DTSTAMP:20260423T041939Z
CREATED:20260423T041939Z
DTSTART:20250603T224500Z
DTEND:20250603T233000Z
LOCATION:SPW Beach 3
CONTACT:
SUMMARY:Claire Jordan/Adriana Palladino VS. Reagan Holub/Leighton McKibban
DESCRIPTION:League Name: 14u Xtreme Beach League 2025\nGame Type: Regular\n
 Game Status: Complete\nHome Team: Claire Jordan/Adriana Palladino\nAway Te
 am: Reagan Holub/Leighton McKibban\nHome Score: 0\nAway Score: 2
END:VEVENT
BEGIN:VEVENT
UID:16482757@ezleagues.ezfacility.com
DTSTAMP:20260423T041939Z
CREATED:20260423T041939Z
DTSTART:20250610T220000Z
DTEND:20250610T224500Z
LOCATION:SPW Beach 4
CONTACT:
SUMMARY:Reagan Holub/Leighton McKibban VS. Mccoy Johannsen/Madelyn Grimm
DESCRIPTION:League Name: 14u Xtreme Beach League 2025\nGame Type: Regular\n
 Game Status: Complete\nHome Team: Reagan Holub/Leighton McKibban\nAway Tea
 m: Mccoy Johannsen/Madelyn Grimm\nHome Score: 0\nAway Score: 2
END:VEVENT
BEGIN:VEVENT
UID:16482771@ezleagues.ezfacility.com
DTSTAMP:20260423T041939Z
CREATED:20260423T041939Z
DTSTART:20250617T220000Z
DTEND:20250617T224500Z
LOCATION:SPW Beach 1
CONTACT:
SUMMARY:Madison Willer/Ellie Viets VS. Reagan Holub/Leighton McKibban
DESCRIPTION:League Name: 14u Xtreme Beach League 2025\nGame Type: Regular\n
 Game Status: Complete\nHome Team: Madison Willer/Ellie Viets\nAway Team: R
 eagan Holub/Leighton McKibban\nHome Score: 2\nAway Score: 1
END:VEVENT
BEGIN:VEVENT
UID:16482789@ezleagues.ezfacility.com
DTSTAMP:20260423T041939Z
CREATED:20260423T041939Z
DTSTART:20250624T220000Z
DTEND:20250624T224500Z
LOCATION:SPW Beach 3
CONTACT:
SUMMARY:Amelia Wicker/Emmerson Vandusseldrop VS. Reagan Holub/Leighton McKi
 bban
DESCRIPTION:League Name: 14u Xtreme Beach League 2025\nGame Type: Regular\n
 Game Status: Complete\nHome Team: Amelia Wicker/Emmerson Vandusseldrop\nAw
 ay Team: Reagan Holub/Leighton McKibban\nHome Score: 0\nAway Score: 2
END:VEVENT
BEGIN:VEVENT
UID:16482808@ezleagues.ezfacility.com
DTSTAMP:20260423T041939Z
CREATED:20260423T041939Z
DTSTART:20250702T001500Z
DTEND:20250702T010000Z
LOCATION:SPW Beach 2
CONTACT:
SUMMARY:Carly Jarchow/Merrisin Nadermann VS. Reagan Holub/Leighton McKibban
DESCRIPTION:League Name: 14u Xtreme Beach League 2025\nGame Type: Regular\n
 Game Status: Complete\nHome Team: Carly Jarchow/Merrisin Nadermann\nAway T
 eam: Reagan Holub/Leighton McKibban\nHome Score: 2\nAway Score: 0
END:VEVENT
BEGIN:VEVENT
UID:16482825@ezleagues.ezfacility.com
DTSTAMP:20260423T041939Z
CREATED:20260423T041939Z
DTSTART:20250708T224500Z
DTEND:20250708T233000Z
LOCATION:SPW Beach 4
CONTACT:
SUMMARY:Reagan Holub/Leighton McKibban VS. Ivy Kling/Caroline Ludwig
DESCRIPTION:League Name: 14u Xtreme Beach League 2025\nGame Type: Regular\n
 Game Status: Complete\nHome Team: Reagan Holub/Leighton McKibban\nAway Tea
 m: Ivy Kling/Caroline Ludwig\nHome Score: 2\nAway Score: 0
END:VEVENT
BEGIN:VEVENT
UID:16482834@ezleagues.ezfacility.com
DTSTAMP:20260423T041939Z
CREATED:20260423T041939Z
DTSTART:20250715T233000Z
DTEND:20250716T001500Z
LOCATION:SPW Beach 2
CONTACT:
SUMMARY:Reagan Holub/Leighton McKibban VS. Olivia Uknes/Evie Walker
DESCRIPTION:League Name: 14u Xtreme Beach League 2025\nGame Type: Regular\n
 Game Status: Complete\nHome Team: Reagan Holub/Leighton McKibban\nAway Tea
 m: Olivia Uknes/Evie Walker\nHome Score: 0\nAway Score: 2
END:VEVENT
BEGIN:VEVENT
UID:16482844@ezleagues.ezfacility.com
DTSTAMP:20260423T041939Z
CREATED:20260423T041939Z
DTSTART:20250722T233000Z
DTEND:20250723T001500Z
LOCATION:SPW Beach 2
CONTACT:
SUMMARY:Boston Swarts/Harper Markway VS. Reagan Holub/Leighton McKibban
DESCRIPTION:League Name: 14u Xtreme Beach League 2025\nGame Type: Regular\n
 Game Status: Complete\nHome Team: Boston Swarts/Harper Markway\nAway Team:
  Reagan Holub/Leighton McKibban\nHome Score: 2\nAway Score: 0
END:VEVENT
END:VCALENDAR
