BEGIN:VCALENDAR
VERSION:2.0
PRODID:-//EZFacility.com, Inc.//EZL 2.5.5.28621
BEGIN:VEVENT
UID:16460932@ezleagues.ezfacility.com
DTSTAMP:20260423T221326Z
CREATED:20260423T221326Z
DTSTART:20250601T171000Z
DTEND:20250601T175500Z
LOCATION:Large Field
CONTACT:
SUMMARY:Mighty Hawks 2016 VS. Peregrine Falcons 2016
DESCRIPTION:League Name: Summer 1 2025 U04 to U18-U09\nGame Type: Regular\n
 Game Status: Complete\nHome Team: Mighty Hawks 2016\nAway Team: Peregrine 
 Falcons 2016\nHome Score: 5\nAway Score: 2
END:VEVENT
BEGIN:VEVENT
UID:16460948@ezleagues.ezfacility.com
DTSTAMP:20260423T221326Z
CREATED:20260423T221326Z
DTSTART:20250608T194000Z
DTEND:20250608T202500Z
LOCATION:Large Field
CONTACT:
SUMMARY:Peregrine Falcons 2016 VS. Valkyrie 2016
DESCRIPTION:League Name: Summer 1 2025 U04 to U18-U09\nGame Type: Regular\n
 Game Status: Complete\nHome Team: Peregrine Falcons 2016\nAway Team: Valky
 rie 2016\nHome Score: 15\nAway Score: 1
END:VEVENT
BEGIN:VEVENT
UID:16460955@ezleagues.ezfacility.com
DTSTAMP:20260423T221326Z
CREATED:20260423T221326Z
DTSTART:20250618T235000Z
DTEND:20250619T003500Z
LOCATION:Large Field
CONTACT:
SUMMARY:Cana FC 16/17 VS. Peregrine Falcons 2016
DESCRIPTION:League Name: Summer 1 2025 U04 to U18-U09\nGame Type: Regular\n
 Game Status: Complete\nHome Team: Cana FC 16/17\nAway Team: Peregrine Falc
 ons 2016\nHome Score: 12\nAway Score: 3
END:VEVENT
BEGIN:VEVENT
UID:16460963@ezleagues.ezfacility.com
DTSTAMP:20260423T221326Z
CREATED:20260423T221326Z
DTSTART:20250622T212000Z
DTEND:20250622T220500Z
LOCATION:Large Field
CONTACT:
SUMMARY:Peregrine Falcons 2016 VS. Hurricanes 2016
DESCRIPTION:League Name: Summer 1 2025 U04 to U18-U09\nGame Type: Regular\n
 Game Status: Complete\nHome Team: Peregrine Falcons 2016\nAway Team: Hurri
 canes 2016\nHome Score: 7\nAway Score: 5
END:VEVENT
BEGIN:VEVENT
UID:16460968@ezleagues.ezfacility.com
DTSTAMP:20260423T221326Z
CREATED:20260423T221326Z
DTSTART:20250626T235000Z
DTEND:20250627T003500Z
LOCATION:Large Field
CONTACT:
SUMMARY:South City - 16G VS. Peregrine Falcons 2016
DESCRIPTION:League Name: Summer 1 2025 U04 to U18-U09\nGame Type: Regular\n
 Game Status: Complete\nHome Team: South City - 16G\nAway Team: Peregrine F
 alcons 2016\nHome Score: 10\nAway Score: 3
END:VEVENT
BEGIN:VEVENT
UID:16460977@ezleagues.ezfacility.com
DTSTAMP:20260423T221326Z
CREATED:20260423T221326Z
DTSTART:20250628T194000Z
DTEND:20250628T202500Z
LOCATION:Large Field
CONTACT:
SUMMARY:Knights Armor FC 2016 VS. Peregrine Falcons 2016
DESCRIPTION:League Name: Summer 1 2025 U04 to U18-U09\nGame Type: Regular\n
 Game Status: Complete\nHome Team: Knights Armor FC 2016\nAway Team: Peregr
 ine Falcons 2016\nHome Score: 0\nAway Score: 3
END:VEVENT
BEGIN:VEVENT
UID:16460979@ezleagues.ezfacility.com
DTSTAMP:20260423T221326Z
CREATED:20260423T221326Z
DTSTART:20250629T162000Z
DTEND:20250629T170500Z
LOCATION:Large Field
CONTACT:
SUMMARY:Peregrine Falcons 2016 VS. ADY 16s
DESCRIPTION:League Name: Summer 1 2025 U04 to U18-U09\nGame Type: Regular\n
 Game Status: Complete\nHome Team: Peregrine Falcons 2016\nAway Team: ADY 1
 6s\nHome Score: 1\nAway Score: 16
END:VEVENT
BEGIN:VEVENT
UID:16461001@ezleagues.ezfacility.com
DTSTAMP:20260423T221326Z
CREATED:20260423T221326Z
DTSTART:20250713T130000Z
DTEND:20250713T134500Z
LOCATION:Large Field
CONTACT:
SUMMARY:Peregrine Falcons 2016 VS. Impact City - Covarrubias 2016B
DESCRIPTION:League Name: Summer 1 2025 U04 to U18-U09\nGame Type: Regular\n
 Game Status: Complete\nHome Team: Peregrine Falcons 2016\nAway Team: Impac
 t City - Covarrubias 2016B\nHome Score: 2\nAway Score: 11
END:VEVENT
END:VCALENDAR
