BEGIN:VCALENDAR
VERSION:2.0
PRODID:-//EZFacility.com, Inc.//EZL 2.5.5.28621
BEGIN:VEVENT
UID:16464200@ezleagues.ezfacility.com
DTSTAMP:20260421T045133Z
CREATED:20260421T045133Z
DTSTART:20250605T235000Z
DTEND:20250606T003500Z
LOCATION:Large Field
CONTACT:
SUMMARY:Texas Warriors 2011/12 VS. Corsicana Tigers 2011
DESCRIPTION:League Name: Summer 1 2025 U04 to U18-U14\nGame Type: Regular\n
 Game Status: Complete\nHome Team: Texas Warriors 2011/12\nAway Team: Corsi
 cana Tigers 2011\nHome Score: 2\nAway Score: 14
END:VEVENT
BEGIN:VEVENT
UID:16464207@ezleagues.ezfacility.com
DTSTAMP:20260421T045133Z
CREATED:20260421T045133Z
DTSTART:20250606T230000Z
DTEND:20250606T234500Z
LOCATION:Large Field
CONTACT:
SUMMARY:Texas Warriors 2011/12 VS. Punishers 2011
DESCRIPTION:League Name: Summer 1 2025 U04 to U18-U14\nGame Type: Regular\n
 Game Status: Complete\nHome Team: Texas Warriors 2011/12\nAway Team: Punis
 hers 2011\nHome Score: 10\nAway Score: 10
END:VEVENT
BEGIN:VEVENT
UID:16464204@ezleagues.ezfacility.com
DTSTAMP:20260421T045133Z
CREATED:20260421T045133Z
DTSTART:20250612T235000Z
DTEND:20250613T003500Z
LOCATION:Large Field
CONTACT:
SUMMARY:Texas Warriors 2011/12 VS. Manchester City 2011
DESCRIPTION:League Name: Summer 1 2025 U04 to U18-U14\nGame Type: Regular\n
 Game Status: Complete\nHome Team: Texas Warriors 2011/12\nAway Team: Manch
 ester City 2011\nHome Score: 4\nAway Score: 15
END:VEVENT
BEGIN:VEVENT
UID:16464208@ezleagues.ezfacility.com
DTSTAMP:20260421T045133Z
CREATED:20260421T045133Z
DTSTART:20250619T004000Z
DTEND:20250619T012500Z
LOCATION:Large Field
CONTACT:
SUMMARY:Cana FC 2011 VS. Texas Warriors 2011/12
DESCRIPTION:League Name: Summer 1 2025 U04 to U18-U14\nGame Type: Regular\n
 Game Status: Complete\nHome Team: Cana FC 2011\nAway Team: Texas Warriors 
 2011/12\nHome Score: 19\nAway Score: 6
END:VEVENT
BEGIN:VEVENT
UID:16464216@ezleagues.ezfacility.com
DTSTAMP:20260421T045133Z
CREATED:20260421T045133Z
DTSTART:20250628T185000Z
DTEND:20250628T193500Z
LOCATION:Large Field
CONTACT:
SUMMARY:Texas Warriors 2011/12 VS. Cana FC 2011
DESCRIPTION:League Name: Summer 1 2025 U04 to U18-U14\nGame Type: Regular\n
 Game Status: Complete\nHome Team: Texas Warriors 2011/12\nAway Team: Cana 
 FC 2011\nHome Score: 5\nAway Score: 8
END:VEVENT
BEGIN:VEVENT
UID:16464211@ezleagues.ezfacility.com
DTSTAMP:20260421T045133Z
CREATED:20260421T045133Z
DTSTART:20250712T185000Z
DTEND:20250712T193500Z
LOCATION:Large Field
CONTACT:
SUMMARY:ICFC 2012B VS. Texas Warriors 2011/12
DESCRIPTION:League Name: Summer 1 2025 U04 to U18-U14\nGame Type: Regular\n
 Game Status: Complete\nHome Team: ICFC 2012B\nAway Team: Texas Warriors 20
 11/12\nHome Score: 17\nAway Score: 2
END:VEVENT
BEGIN:VEVENT
UID:16464220@ezleagues.ezfacility.com
DTSTAMP:20260421T045133Z
CREATED:20260421T045133Z
DTSTART:20250713T235000Z
DTEND:20250714T003500Z
LOCATION:Large Field
CONTACT:
SUMMARY:Manchester City 2011 VS. Texas Warriors 2011/12
DESCRIPTION:League Name: Summer 1 2025 U04 to U18-U14\nGame Type: Regular\n
 Game Status: Complete\nHome Team: Manchester City 2011\nAway Team: Texas W
 arriors 2011/12\nHome Score: 12\nAway Score: 3
END:VEVENT
BEGIN:VEVENT
UID:16464221@ezleagues.ezfacility.com
DTSTAMP:20260421T045133Z
CREATED:20260421T045133Z
DTSTART:20250715T230000Z
DTEND:20250715T234500Z
LOCATION:Large Field
CONTACT:
SUMMARY:ICFC 2012B VS. Texas Warriors 2011/12
DESCRIPTION:League Name: Summer 1 2025 U04 to U18-U14\nGame Type: Regular\n
 Game Status: Complete\nHome Team: ICFC 2012B\nAway Team: Texas Warriors 20
 11/12\nHome Score: 15\nAway Score: 4
END:VEVENT
END:VCALENDAR
