BEGIN:VCALENDAR
VERSION:2.0
PRODID:-//EZFacility.com, Inc.//EZL 2.5.5.28621
BEGIN:VEVENT
UID:16457634@ezleagues.ezfacility.com
DTSTAMP:20260424T044419Z
CREATED:20260424T044419Z
DTSTART:20250528T171500Z
DTEND:20250528T175500Z
LOCATION:Hull - Pitch 7
CONTACT:
SUMMARY:EASTSIDE FC VS. KIERANS TEAM
DESCRIPTION:League Name: WEDNESDAY NIGHT 7-A-SIDE LEAGUE(NEW)2025\nGame Typ
 e: Regular\nGame Status: Complete\nHome Team: EASTSIDE FC\nAway Team: KIER
 ANS TEAM\nHome Score: 12\nAway Score: 6
END:VEVENT
BEGIN:VEVENT
UID:16467736@ezleagues.ezfacility.com
DTSTAMP:20260424T044419Z
CREATED:20260424T044419Z
DTSTART:20250602T180000Z
DTEND:20250602T184000Z
LOCATION:Hull - Pitch 7
CONTACT:
SUMMARY:DRUM BACCY TURNER VS. KIERANS TEAM
DESCRIPTION:League Name: WEDNESDAY NIGHT 7-A-SIDE LEAGUE(NEW)2025\nGame Typ
 e: Regular\nGame Status: Complete\nHome Team: DRUM BACCY TURNER\nAway Team
 : KIERANS TEAM\nHome Score: 9\nAway Score: 1
END:VEVENT
BEGIN:VEVENT
UID:16467737@ezleagues.ezfacility.com
DTSTAMP:20260424T044419Z
CREATED:20260424T044419Z
DTSTART:20250604T184500Z
DTEND:20250604T192500Z
LOCATION:Hull - Pitch 7
CONTACT:
SUMMARY:FISHERS AFC  VS. KIERANS TEAM
DESCRIPTION:League Name: WEDNESDAY NIGHT 7-A-SIDE LEAGUE(NEW)2025\nGame Typ
 e: Regular\nGame Status: Complete\nHome Team: FISHERS AFC \nAway Team: KIE
 RANS TEAM\nHome Score: 7\nAway Score: 2
END:VEVENT
BEGIN:VEVENT
UID:16489623@ezleagues.ezfacility.com
DTSTAMP:20260424T044419Z
CREATED:20260424T044419Z
DTSTART:20250611T123000Z
DTEND:20250611T131000Z
LOCATION:Hull - Pitch 7
CONTACT:
SUMMARY:KIERANS TEAM VS. BILTON FC
DESCRIPTION:League Name: WEDNESDAY NIGHT 7-A-SIDE LEAGUE(NEW)2025\nGame Typ
 e: Regular\nGame Status: Complete\nHome Team: KIERANS TEAM\nAway Team: BIL
 TON FC\nHome Score: 12\nAway Score: 0
END:VEVENT
BEGIN:VEVENT
UID:16489622@ezleagues.ezfacility.com
DTSTAMP:20260424T044419Z
CREATED:20260424T044419Z
DTSTART:20250611T184500Z
DTEND:20250611T192500Z
LOCATION:Hull - Pitch 7
CONTACT:
SUMMARY:FISHERS AFC  VS. KIERANS TEAM
DESCRIPTION:League Name: WEDNESDAY NIGHT 7-A-SIDE LEAGUE(NEW)2025\nGame Typ
 e: Regular\nGame Status: Complete\nHome Team: FISHERS AFC \nAway Team: KIE
 RANS TEAM\nHome Score: 3\nAway Score: 2
END:VEVENT
BEGIN:VEVENT
UID:16507917@ezleagues.ezfacility.com
DTSTAMP:20260424T044419Z
CREATED:20260424T044419Z
DTSTART:20250618T193000Z
DTEND:20250618T201000Z
LOCATION:Hull - Pitch 7
CONTACT:
SUMMARY:KIERANS TEAM VS. MATTS LEGENDS
DESCRIPTION:League Name: WEDNESDAY NIGHT 7-A-SIDE LEAGUE(NEW)2025\nGame Typ
 e: Regular\nGame Status: Complete\nHome Team: KIERANS TEAM\nAway Team: MAT
 TS LEGENDS\nHome Score: 3\nAway Score: 4
END:VEVENT
BEGIN:VEVENT
UID:16517647@ezleagues.ezfacility.com
DTSTAMP:20260424T044419Z
CREATED:20260424T044419Z
DTSTART:20250625T184500Z
DTEND:20250625T192500Z
LOCATION:Hull - Pitch 7
CONTACT:
SUMMARY:AGE DOESN'T MATA VS. KIERANS TEAM
DESCRIPTION:League Name: WEDNESDAY NIGHT 7-A-SIDE LEAGUE(NEW)2025\nGame Typ
 e: Regular\nGame Status: Complete\nHome Team: AGE DOESN'T MATA\nAway Team:
  KIERANS TEAM\nHome Score: 7\nAway Score: 5
END:VEVENT
BEGIN:VEVENT
UID:16540937@ezleagues.ezfacility.com
DTSTAMP:20260424T044419Z
CREATED:20260424T044419Z
DTSTART:20250702T184500Z
DTEND:20250702T192500Z
LOCATION:Hull - Pitch 7
CONTACT:
SUMMARY:MATTS LEGENDS VS. KIERANS TEAM
DESCRIPTION:League Name: WEDNESDAY NIGHT 7-A-SIDE LEAGUE(NEW)2025\nGame Typ
 e: Regular\nGame Status: Complete\nHome Team: MATTS LEGENDS\nAway Team: KI
 ERANS TEAM\nHome Score: 13\nAway Score: 3
END:VEVENT
BEGIN:VEVENT
UID:16549153@ezleagues.ezfacility.com
DTSTAMP:20260424T044419Z
CREATED:20260424T044419Z
DTSTART:20250709T180000Z
DTEND:20250709T184000Z
LOCATION:Hull - Pitch 7
CONTACT:
SUMMARY:KIERANS TEAM VS. DUSTY YUTES
DESCRIPTION:League Name: WEDNESDAY NIGHT 7-A-SIDE LEAGUE(NEW)2025\nGame Typ
 e: Regular\nGame Status: Complete\nHome Team: KIERANS TEAM\nAway Team: DUS
 TY YUTES\nHome Score: 2\nAway Score: 7
END:VEVENT
BEGIN:VEVENT
UID:16554707@ezleagues.ezfacility.com
DTSTAMP:20260424T044419Z
CREATED:20260424T044419Z
DTSTART:20250716T171500Z
DTEND:20250716T175500Z
LOCATION:Hull - Pitch 7
CONTACT:
SUMMARY:AGE DOESN'T MATA VS. KIERANS TEAM
DESCRIPTION:League Name: WEDNESDAY NIGHT 7-A-SIDE LEAGUE(NEW)2025\nGame Typ
 e: Regular\nGame Status: Complete\nHome Team: AGE DOESN'T MATA\nAway Team:
  KIERANS TEAM\nHome Score: 14\nAway Score: 0
END:VEVENT
BEGIN:VEVENT
UID:16556512@ezleagues.ezfacility.com
DTSTAMP:20260424T044419Z
CREATED:20260424T044419Z
DTSTART:20250716T180000Z
DTEND:20250716T184000Z
LOCATION:Hull - Pitch 7
CONTACT:
SUMMARY:benteke fried chicken VS. KIERANS TEAM
DESCRIPTION:League Name: WEDNESDAY NIGHT 7-A-SIDE LEAGUE(NEW)2025\nGame Typ
 e: Regular\nGame Status: Complete\nHome Team: benteke fried chicken\nAway 
 Team: KIERANS TEAM\nHome Score: 5\nAway Score: 6
END:VEVENT
END:VCALENDAR
