BEGIN:VCALENDAR
VERSION:2.0
PRODID:-//EZFacility.com, Inc.//EZL 2.5.5.28621
BEGIN:VEVENT
UID:16488212@ezleagues.ezfacility.com
DTSTAMP:20260424T044352Z
CREATED:20260424T044352Z
DTSTART:20250623T221000Z
DTEND:20250623T232000Z
LOCATION:Rink
CONTACT:
SUMMARY:Red/Summer Menace VS. Bears
DESCRIPTION:League Name: 2025 CAFHL Summer League\nGame Type: Regular\nGame
  Status: Complete\nHome Team: Red/Summer Menace\nAway Team: Bears\nHome Sc
 ore: 3\nAway Score: 5
END:VEVENT
BEGIN:VEVENT
UID:16488218@ezleagues.ezfacility.com
DTSTAMP:20260424T044352Z
CREATED:20260424T044352Z
DTSTART:20250627T214000Z
DTEND:20250627T225000Z
LOCATION:Rink
CONTACT:
SUMMARY:Red/Summer Menace VS. White Lightning
DESCRIPTION:League Name: 2025 CAFHL Summer League\nGame Type: Regular\nGame
  Status: Complete\nHome Team: Red/Summer Menace\nAway Team: White Lightnin
 g\nHome Score: 1\nAway Score: 7
END:VEVENT
BEGIN:VEVENT
UID:16488222@ezleagues.ezfacility.com
DTSTAMP:20260424T044352Z
CREATED:20260424T044352Z
DTSTART:20250701T000000Z
DTEND:20250701T011000Z
LOCATION:Rink
CONTACT:
SUMMARY:Red/Summer Menace VS. Green Machine
DESCRIPTION:League Name: 2025 CAFHL Summer League\nGame Type: Regular\nGame
  Status: Complete\nHome Team: Red/Summer Menace\nAway Team: Green Machine\
 nHome Score: 3\nAway Score: 3
END:VEVENT
BEGIN:VEVENT
UID:16488224@ezleagues.ezfacility.com
DTSTAMP:20260424T044352Z
CREATED:20260424T044352Z
DTSTART:20250703T000000Z
DTEND:20250703T011000Z
LOCATION:Rink
CONTACT:
SUMMARY:Red/Summer Menace VS. Subaru Blue
DESCRIPTION:League Name: 2025 CAFHL Summer League\nGame Type: Regular\nGame
  Status: Complete\nHome Team: Red/Summer Menace\nAway Team: Subaru Blue\nH
 ome Score: 5\nAway Score: 2
END:VEVENT
BEGIN:VEVENT
UID:16488230@ezleagues.ezfacility.com
DTSTAMP:20260424T044352Z
CREATED:20260424T044352Z
DTSTART:20250710T010000Z
DTEND:20250710T021000Z
LOCATION:Rink
CONTACT:
SUMMARY:Red/Summer Menace VS. Black and Gold
DESCRIPTION:League Name: 2025 CAFHL Summer League\nGame Type: Regular\nGame
  Status: Complete\nHome Team: Red/Summer Menace\nAway Team: Black and Gold
 \nHome Score: 6\nAway Score: 6
END:VEVENT
BEGIN:VEVENT
UID:16488232@ezleagues.ezfacility.com
DTSTAMP:20260424T044352Z
CREATED:20260424T044352Z
DTSTART:20250711T230000Z
DTEND:20250712T001000Z
LOCATION:Rink
CONTACT:
SUMMARY:Orange Crush VS. Red/Summer Menace
DESCRIPTION:League Name: 2025 CAFHL Summer League\nGame Type: Regular\nGame
  Status: Complete\nHome Team: Orange Crush\nAway Team: Red/Summer Menace\n
 Home Score: 2\nAway Score: 6
END:VEVENT
BEGIN:VEVENT
UID:16488235@ezleagues.ezfacility.com
DTSTAMP:20260424T044352Z
CREATED:20260424T044352Z
DTSTART:20250715T005000Z
DTEND:20250715T020000Z
LOCATION:Rink
CONTACT:
SUMMARY:Bears VS. Red/Summer Menace
DESCRIPTION:League Name: 2025 CAFHL Summer League\nGame Type: Regular\nGame
  Status: Complete\nHome Team: Bears\nAway Team: Red/Summer Menace\nHome Sc
 ore: 1\nAway Score: 3
END:VEVENT
BEGIN:VEVENT
UID:16488238@ezleagues.ezfacility.com
DTSTAMP:20260424T044352Z
CREATED:20260424T044352Z
DTSTART:20250717T010000Z
DTEND:20250717T021000Z
LOCATION:Rink
CONTACT:
SUMMARY:White Lightning VS. Red/Summer Menace
DESCRIPTION:League Name: 2025 CAFHL Summer League\nGame Type: Regular\nGame
  Status: Complete\nHome Team: White Lightning\nAway Team: Red/Summer Menac
 e\nHome Score: 3\nAway Score: 3
END:VEVENT
BEGIN:VEVENT
UID:16488243@ezleagues.ezfacility.com
DTSTAMP:20260424T044352Z
CREATED:20260424T044352Z
DTSTART:20250723T231000Z
DTEND:20250724T002000Z
LOCATION:Rink
CONTACT:
SUMMARY:Subaru Blue VS. Red/Summer Menace
DESCRIPTION:League Name: 2025 CAFHL Summer League\nGame Type: Regular\nGame
  Status: Complete\nHome Team: Subaru Blue\nAway Team: Red/Summer Menace\nH
 ome Score: 3\nAway Score: 5
END:VEVENT
BEGIN:VEVENT
UID:16488246@ezleagues.ezfacility.com
DTSTAMP:20260424T044352Z
CREATED:20260424T044352Z
DTSTART:20250725T230000Z
DTEND:20250726T001000Z
LOCATION:Rink
CONTACT:
SUMMARY:Orange Crush VS. Red/Summer Menace
DESCRIPTION:League Name: 2025 CAFHL Summer League\nGame Type: Regular\nGame
  Status: Complete\nHome Team: Orange Crush\nAway Team: Red/Summer Menace\n
 Home Score: 5\nAway Score: 6
END:VEVENT
END:VCALENDAR
