BEGIN:VCALENDAR
VERSION:2.0
PRODID:-//EZFacility.com, Inc.//EZL 2.5.5.28621
BEGIN:VEVENT
UID:16501914@ezleagues.ezfacility.com
DTSTAMP:20260423T132234Z
CREATED:20260423T132234Z
DTSTART:20250617T231500Z
DTEND:20250618T001500Z
LOCATION:Basketball Court #2A
CONTACT:Martinez\, Cammie
SUMMARY:We Met at USAA - 1st Place VS. Full Court Stack
DESCRIPTION:League Name: SAT - Summer 3v3 Basketball League\nGame Type: Reg
 ular\nGame Status: Complete\nHome Team: We Met at USAA - 1st Place\nAway T
 eam: Full Court Stack\nHome Score: 65\nAway Score: 50
END:VEVENT
BEGIN:VEVENT
UID:16501923@ezleagues.ezfacility.com
DTSTAMP:20260423T132234Z
CREATED:20260423T132234Z
DTSTART:20250625T010500Z
DTEND:20250625T020500Z
LOCATION:Basketball Court #2A
CONTACT:Smith\, Cammie
SUMMARY:We Met at USAA - 1st Place VS. The Return Offers
DESCRIPTION:League Name: SAT - Summer 3v3 Basketball League\nGame Type: Reg
 ular\nGame Status: Complete\nHome Team: We Met at USAA - 1st Place\nAway T
 eam: The Return Offers\nHome Score: 71\nAway Score: 68
END:VEVENT
BEGIN:VEVENT
UID:16501932@ezleagues.ezfacility.com
DTSTAMP:20260423T132234Z
CREATED:20260423T132234Z
DTSTART:20250702T001000Z
DTEND:20250702T011000Z
LOCATION:Basketball Court #1A
CONTACT:Prince\, Josh
SUMMARY:We Met at USAA - 1st Place VS. The Binary Ballers
DESCRIPTION:League Name: SAT - Summer 3v3 Basketball League\nGame Type: Reg
 ular\nGame Status: Complete\nHome Team: We Met at USAA - 1st Place\nAway T
 eam: The Binary Ballers\nHome Score: 127\nAway Score: 37
END:VEVENT
BEGIN:VEVENT
UID:16501941@ezleagues.ezfacility.com
DTSTAMP:20260423T132234Z
CREATED:20260423T132234Z
DTSTART:20250709T001000Z
DTEND:20250709T011000Z
LOCATION:Basketball Court #2A
CONTACT:Martinez\, Cammie
SUMMARY:We Met at USAA - 1st Place VS. First Team All Intern
DESCRIPTION:League Name: SAT - Summer 3v3 Basketball League\nGame Type: Reg
 ular\nGame Status: Complete\nHome Team: We Met at USAA - 1st Place\nAway T
 eam: First Team All Intern\nHome Score: 72\nAway Score: 58
END:VEVENT
BEGIN:VEVENT
UID:16501949@ezleagues.ezfacility.com
DTSTAMP:20260423T132234Z
CREATED:20260423T132234Z
DTSTART:20250715T231500Z
DTEND:20250716T001500Z
LOCATION:Basketball Court #2A
CONTACT:Smith\, Cammie
SUMMARY:Scrubs VS. We Met at USAA - 1st Place
DESCRIPTION:League Name: SAT - Summer 3v3 Basketball League\nGame Type: Reg
 ular\nGame Status: Complete\nHome Team: Scrubs\nAway Team: We Met at USAA 
 - 1st Place\nHome Score: 44\nAway Score: 68
END:VEVENT
BEGIN:VEVENT
UID:16501958@ezleagues.ezfacility.com
DTSTAMP:20260423T132234Z
CREATED:20260423T132234Z
DTSTART:20250723T020000Z
DTEND:20250723T030000Z
LOCATION:Basketball Court #2A
CONTACT:Notified
SUMMARY:We Met at USAA - 1st Place VS. Average Joe's
DESCRIPTION:League Name: SAT - Summer 3v3 Basketball League\nGame Type: Reg
 ular\nGame Status: Complete\nHome Team: We Met at USAA - 1st Place\nAway T
 eam: Average Joe's\nHome Score: 2\nAway Score: 0
END:VEVENT
BEGIN:VEVENT
UID:16501965@ezleagues.ezfacility.com
DTSTAMP:20260423T132234Z
CREATED:20260423T132234Z
DTSTART:20250730T001000Z
DTEND:20250730T011000Z
LOCATION:Basketball Court #2A
CONTACT:Alaniz\, Josh
SUMMARY:Night Shift VS. We Met at USAA - 1st Place
DESCRIPTION:League Name: SAT - Summer 3v3 Basketball League\nGame Type: Reg
 ular\nGame Status: Complete\nHome Team: Night Shift\nAway Team: We Met at 
 USAA - 1st Place\nHome Score: 53\nAway Score: 66
END:VEVENT
BEGIN:VEVENT
UID:16501972@ezleagues.ezfacility.com
DTSTAMP:20260423T132234Z
CREATED:20260423T132234Z
DTSTART:20250806T010500Z
DTEND:20250806T020500Z
LOCATION:Basketball Court #2A
CONTACT:Alaniz\, Cammie
SUMMARY:Bikini Bottom Ballers VS. We Met at USAA - 1st Place
DESCRIPTION:League Name: SAT - Summer 3v3 Basketball League\nGame Type: Reg
 ular\nGame Status: Complete\nHome Team: Bikini Bottom Ballers\nAway Team: 
 We Met at USAA - 1st Place\nHome Score: 65\nAway Score: 85
END:VEVENT
BEGIN:VEVENT
UID:16501979@ezleagues.ezfacility.com
DTSTAMP:20260423T132234Z
CREATED:20260423T132234Z
DTSTART:20250813T001000Z
DTEND:20250813T011000Z
LOCATION:Basketball Court #1A
CONTACT:Martinez\, Josh
SUMMARY:Strawberry Jams VS. We Met at USAA - 1st Place
DESCRIPTION:League Name: SAT - Summer 3v3 Basketball League\nGame Type: Reg
 ular\nGame Status: Complete\nHome Team: Strawberry Jams\nAway Team: We Met
  at USAA - 1st Place\nHome Score: 55\nAway Score: 89
END:VEVENT
BEGIN:VEVENT
UID:16501986@ezleagues.ezfacility.com
DTSTAMP:20260423T132234Z
CREATED:20260423T132234Z
DTSTART:20250827T001000Z
DTEND:20250827T011000Z
LOCATION:Basketball Court #1A
CONTACT:Martinez\, Cammie
SUMMARY:The Tribe - 3rd Place VS. We Met at USAA - 1st Place
DESCRIPTION:League Name: SAT - Summer 3v3 Basketball League\nGame Type: Reg
 ular\nGame Status: Complete\nHome Team: The Tribe - 3rd Place\nAway Team: 
 We Met at USAA - 1st Place\nHome Score: 53\nAway Score: 76
END:VEVENT
BEGIN:VEVENT
UID:16502689@ezleagues.ezfacility.com
DTSTAMP:20260423T132234Z
CREATED:20260423T132234Z
DTSTART:20250902T231500Z
DTEND:20250903T001500Z
LOCATION:Basketball Court #1A
CONTACT:Martinez\, Cammie
SUMMARY:We Met at USAA - 1st Place VS. 210 Ballers - 4th Place
DESCRIPTION:League Name: SAT - Summer 3v3 Basketball League\nGame Type: Pos
 tseason\nGame Status: Complete\nHome Team: We Met at USAA - 1st Place\nAwa
 y Team: 210 Ballers - 4th Place\nHome Score: 54\nAway Score: 77
END:VEVENT
END:VCALENDAR
