BEGIN:VCALENDAR
VERSION:2.0
PRODID:-//EZFacility.com, Inc.//EZL 2.5.5.28621
BEGIN:VEVENT
UID:16461060@ezleagues.ezfacility.com
DTSTAMP:20260423T192228Z
CREATED:20260423T192228Z
DTSTART:20250531T180000Z
DTEND:20250531T184500Z
LOCATION:Snow Hill Rec Center #1
CONTACT:
SUMMARY:United VS. Carrizal FC
DESCRIPTION:League Name: Men's Open Division - The 2nd Annual Delmarva 6-As
 ide Futsal Classic\nGame Type: Regular\nGame Status: Complete\nHome Team: 
 United\nAway Team: Carrizal FC\nHome Score: 0\nAway Score: 8
END:VEVENT
BEGIN:VEVENT
UID:16461061@ezleagues.ezfacility.com
DTSTAMP:20260423T192228Z
CREATED:20260423T192228Z
DTSTART:20250531T210000Z
DTEND:20250531T214500Z
LOCATION:Snow Hill Rec Center #1
CONTACT:
SUMMARY:Carrizal FC VS. Legacia Blanca
DESCRIPTION:League Name: Men's Open Division - The 2nd Annual Delmarva 6-As
 ide Futsal Classic\nGame Type: Regular\nGame Status: Complete\nHome Team: 
 Carrizal FC\nAway Team: Legacia Blanca\nHome Score: 3\nAway Score: 8
END:VEVENT
BEGIN:VEVENT
UID:16461059@ezleagues.ezfacility.com
DTSTAMP:20260423T192228Z
CREATED:20260423T192228Z
DTSTART:20250601T154500Z
DTEND:20250601T163000Z
LOCATION:Snow Hill Rec Center #1
CONTACT:
SUMMARY:Dynamo FC/Mexico VS. Carrizal FC
DESCRIPTION:League Name: Men's Open Division - The 2nd Annual Delmarva 6-As
 ide Futsal Classic\nGame Type: Regular\nGame Status: Complete\nHome Team: 
 Dynamo FC/Mexico\nAway Team: Carrizal FC\nHome Score: 1\nAway Score: 1
END:VEVENT
END:VCALENDAR
