BEGIN:VCALENDAR
VERSION:2.0
PRODID:-//EZFacility.com, Inc.//EZL 2.5.5.28621
BEGIN:VEVENT
UID:16485940@ezleagues.ezfacility.com
DTSTAMP:20260419T195915Z
CREATED:20260419T195915Z
DTSTART:20250609T230000Z
DTEND:20250610T000000Z
LOCATION:West Field 
CONTACT:Gates
SUMMARY:SC 2014 Blue VS. CITY
DESCRIPTION:League Name: Summer 2025 Monday/Wednesday Youth League A\nGame 
 Type: Regular\nGame Status: Complete\nHome Team: SC 2014 Blue\nAway Team: 
 CITY\nHome Score: 9\nAway Score: 16
END:VEVENT
BEGIN:VEVENT
UID:16485964@ezleagues.ezfacility.com
DTSTAMP:20260419T195915Z
CREATED:20260419T195915Z
DTSTART:20250624T000000Z
DTEND:20250624T010000Z
LOCATION:West Field 
CONTACT:Allen
SUMMARY:SC 2014 Blue VS. SPORTING
DESCRIPTION:League Name: Summer 2025 Monday/Wednesday Youth League A\nGame 
 Type: Regular\nGame Status: Complete\nHome Team: SC 2014 Blue\nAway Team: 
 SPORTING\nHome Score: 5\nAway Score: 15
END:VEVENT
BEGIN:VEVENT
UID:16485975@ezleagues.ezfacility.com
DTSTAMP:20260419T195915Z
CREATED:20260419T195915Z
DTSTART:20250701T000000Z
DTEND:20250701T010000Z
LOCATION:West Field 
CONTACT:Allen
SUMMARY:SC 2014 White VS. SC 2014 Blue
DESCRIPTION:League Name: Summer 2025 Monday/Wednesday Youth League A\nGame 
 Type: Regular\nGame Status: Complete\nHome Team: SC 2014 White\nAway Team:
  SC 2014 Blue\nHome Score: 7\nAway Score: 5
END:VEVENT
BEGIN:VEVENT
UID:16485985@ezleagues.ezfacility.com
DTSTAMP:20260419T195915Z
CREATED:20260419T195915Z
DTSTART:20250708T000000Z
DTEND:20250708T010000Z
LOCATION:East Field
CONTACT:Allen
SUMMARY:The Replacements VS. SC 2014 Blue
DESCRIPTION:League Name: Summer 2025 Monday/Wednesday Youth League A\nGame 
 Type: Regular\nGame Status: Complete\nHome Team: The Replacements\nAway Te
 am: SC 2014 Blue\nHome Score: 12\nAway Score: 10
END:VEVENT
BEGIN:VEVENT
UID:16485995@ezleagues.ezfacility.com
DTSTAMP:20260419T195915Z
CREATED:20260419T195915Z
DTSTART:20250714T230000Z
DTEND:20250715T000000Z
LOCATION:West Field 
CONTACT:Allen
SUMMARY:SC 2014 Blue VS. Legacy United
DESCRIPTION:League Name: Summer 2025 Monday/Wednesday Youth League A\nGame 
 Type: Regular\nGame Status: Complete\nHome Team: SC 2014 Blue\nAway Team: 
 Legacy United\nHome Score: 3\nAway Score: 10
END:VEVENT
BEGIN:VEVENT
UID:16486005@ezleagues.ezfacility.com
DTSTAMP:20260419T195915Z
CREATED:20260419T195915Z
DTSTART:20250722T000000Z
DTEND:20250722T010000Z
LOCATION:East Field
CONTACT:Dean
SUMMARY:BSSA Dragons VS. SC 2014 Blue
DESCRIPTION:League Name: Summer 2025 Monday/Wednesday Youth League A\nGame 
 Type: Regular\nGame Status: Complete\nHome Team: BSSA Dragons\nAway Team: 
 SC 2014 Blue\nHome Score: 8\nAway Score: 13
END:VEVENT
END:VCALENDAR
