BEGIN:VCALENDAR
VERSION:2.0
PRODID:-//EZFacility.com, Inc.//EZL 2.5.5.28621
BEGIN:VEVENT
UID:16485940@ezleagues.ezfacility.com
DTSTAMP:20260423T115504Z
CREATED:20260423T115504Z
DTSTART:20250609T230000Z
DTEND:20250610T000000Z
LOCATION:West Field 
CONTACT:Gates
SUMMARY:SC 2014 Blue VS. CITY
DESCRIPTION:League Name: Summer 2025 Monday/Wednesday Youth League A\nGame 
 Type: Regular\nGame Status: Complete\nHome Team: SC 2014 Blue\nAway Team: 
 CITY\nHome Score: 9\nAway Score: 16
END:VEVENT
BEGIN:VEVENT
UID:16485950@ezleagues.ezfacility.com
DTSTAMP:20260423T115504Z
CREATED:20260423T115504Z
DTSTART:20250617T000000Z
DTEND:20250617T010000Z
LOCATION:East Field
CONTACT:Gates
SUMMARY:BSSA Dragons VS. CITY
DESCRIPTION:League Name: Summer 2025 Monday/Wednesday Youth League A\nGame 
 Type: Regular\nGame Status: Complete\nHome Team: BSSA Dragons\nAway Team: 
 CITY\nHome Score: 6\nAway Score: 16
END:VEVENT
BEGIN:VEVENT
UID:16485974@ezleagues.ezfacility.com
DTSTAMP:20260423T115504Z
CREATED:20260423T115504Z
DTSTART:20250630T230000Z
DTEND:20250701T000000Z
LOCATION:West Field 
CONTACT:Allen
SUMMARY:SPORTING VS. CITY
DESCRIPTION:League Name: Summer 2025 Monday/Wednesday Youth League A\nGame 
 Type: Regular\nGame Status: Complete\nHome Team: SPORTING\nAway Team: CITY
 \nHome Score: 7\nAway Score: 8
END:VEVENT
BEGIN:VEVENT
UID:16485986@ezleagues.ezfacility.com
DTSTAMP:20260423T115504Z
CREATED:20260423T115504Z
DTSTART:20250708T000000Z
DTEND:20250708T010000Z
LOCATION:West Field 
CONTACT:Cuenca
SUMMARY:CITY VS. SC 2014 White
DESCRIPTION:League Name: Summer 2025 Monday/Wednesday Youth League A\nGame 
 Type: Regular\nGame Status: Complete\nHome Team: CITY\nAway Team: SC 2014 
 White\nHome Score: 15\nAway Score: 5
END:VEVENT
BEGIN:VEVENT
UID:16485997@ezleagues.ezfacility.com
DTSTAMP:20260423T115504Z
CREATED:20260423T115504Z
DTSTART:20250715T000000Z
DTEND:20250715T010000Z
LOCATION:West Field 
CONTACT:Allen
SUMMARY:CITY VS. The Replacements
DESCRIPTION:League Name: Summer 2025 Monday/Wednesday Youth League A\nGame 
 Type: Regular\nGame Status: Complete\nHome Team: CITY\nAway Team: The Repl
 acements\nHome Score: 16\nAway Score: 6
END:VEVENT
BEGIN:VEVENT
UID:16486007@ezleagues.ezfacility.com
DTSTAMP:20260423T115504Z
CREATED:20260423T115504Z
DTSTART:20250722T000000Z
DTEND:20250722T010000Z
LOCATION:West Field 
CONTACT:Allen
SUMMARY:CITY VS. Legacy United
DESCRIPTION:League Name: Summer 2025 Monday/Wednesday Youth League A\nGame 
 Type: Regular\nGame Status: Complete\nHome Team: CITY\nAway Team: Legacy U
 nited\nHome Score: 13\nAway Score: 3
END:VEVENT
END:VCALENDAR
