BEGIN:VCALENDAR
VERSION:2.0
PRODID:-//EZFacility.com, Inc.//EZL 2.5.5.28621
BEGIN:VEVENT
UID:16492554@ezleagues.ezfacility.com
DTSTAMP:20260426T033653Z
CREATED:20260426T033653Z
DTSTART:20250611T230000Z
DTEND:20250612T000000Z
LOCATION:Rossford Dome 9v9 Field 1
CONTACT:McFee
SUMMARY:The Uncs VS. Let's get Messi
DESCRIPTION:League Name: 2025 Rossford Dome Summer Mens Open League\nGame T
 ype: Regular\nGame Status: Complete\nHome Team: The Uncs\nAway Team: Let's
  get Messi\nHome Score: 2\nAway Score: 4
END:VEVENT
BEGIN:VEVENT
UID:16492555@ezleagues.ezfacility.com
DTSTAMP:20260426T033653Z
CREATED:20260426T033653Z
DTSTART:20250618T220000Z
DTEND:20250618T230000Z
LOCATION:Rossford Dome 9v9 Field 1
CONTACT:Ohene-Larbi
SUMMARY:GCS 2.0 VS. The Uncs
DESCRIPTION:League Name: 2025 Rossford Dome Summer Mens Open League\nGame T
 ype: Regular\nGame Status: Complete\nHome Team: GCS 2.0\nAway Team: The Un
 cs\nHome Score: 2\nAway Score: 4
END:VEVENT
BEGIN:VEVENT
UID:16492558@ezleagues.ezfacility.com
DTSTAMP:20260426T033653Z
CREATED:20260426T033653Z
DTSTART:20250625T230000Z
DTEND:20250626T000000Z
LOCATION:Rossford Dome 9v9 Field 1
CONTACT:McFee
SUMMARY:We Wear White VS. The Uncs
DESCRIPTION:League Name: 2025 Rossford Dome Summer Mens Open League\nGame T
 ype: Regular\nGame Status: Complete\nHome Team: We Wear White\nAway Team: 
 The Uncs\nHome Score: 2\nAway Score: 4
END:VEVENT
BEGIN:VEVENT
UID:16492560@ezleagues.ezfacility.com
DTSTAMP:20260426T033653Z
CREATED:20260426T033653Z
DTSTART:20250703T000000Z
DTEND:20250703T010000Z
LOCATION:Rossford Dome 9v9 Field 1
CONTACT:Ohene-Larbi
SUMMARY:Let's get Messi VS. The Uncs
DESCRIPTION:League Name: 2025 Rossford Dome Summer Mens Open League\nGame T
 ype: Regular\nGame Status: Complete\nHome Team: Let's get Messi\nAway Team
 : The Uncs\nHome Score: 1\nAway Score: 2
END:VEVENT
BEGIN:VEVENT
UID:16492561@ezleagues.ezfacility.com
DTSTAMP:20260426T033653Z
CREATED:20260426T033653Z
DTSTART:20250709T230000Z
DTEND:20250710T000000Z
LOCATION:Rossford Dome 9v9 Field 1
CONTACT:McFee
SUMMARY:The Uncs VS. GCS 2.0
DESCRIPTION:League Name: 2025 Rossford Dome Summer Mens Open League\nGame T
 ype: Regular\nGame Status: Complete\nHome Team: The Uncs\nAway Team: GCS 2
 .0\nHome Score: 5\nAway Score: 2
END:VEVENT
BEGIN:VEVENT
UID:16492564@ezleagues.ezfacility.com
DTSTAMP:20260426T033653Z
CREATED:20260426T033653Z
DTSTART:20250717T000000Z
DTEND:20250717T010000Z
LOCATION:Rossford Dome 9v9 Field 1
CONTACT:Ohene-Larbi
SUMMARY:The Uncs VS. We Wear White
DESCRIPTION:League Name: 2025 Rossford Dome Summer Mens Open League\nGame T
 ype: Regular\nGame Status: Complete\nHome Team: The Uncs\nAway Team: We We
 ar White\nHome Score: 5\nAway Score: 4
END:VEVENT
BEGIN:VEVENT
UID:16492566@ezleagues.ezfacility.com
DTSTAMP:20260426T033653Z
CREATED:20260426T033653Z
DTSTART:20250723T230000Z
DTEND:20250724T000000Z
LOCATION:Rossford Dome 9v9 Field 1
CONTACT:McFee
SUMMARY:Let's get Messi VS. The Uncs
DESCRIPTION:League Name: 2025 Rossford Dome Summer Mens Open League\nGame T
 ype: Regular\nGame Status: Complete\nHome Team: Let's get Messi\nAway Team
 : The Uncs\nHome Score: 4\nAway Score: 1
END:VEVENT
BEGIN:VEVENT
UID:16492567@ezleagues.ezfacility.com
DTSTAMP:20260426T033653Z
CREATED:20260426T033653Z
DTSTART:20250728T000000Z
DTEND:20250728T010000Z
LOCATION:Rossford Dome 9v9 Field 2
CONTACT:McFee
SUMMARY:The Uncs VS. GCS 2.0
DESCRIPTION:League Name: 2025 Rossford Dome Summer Mens Open League\nGame T
 ype: Regular\nGame Status: Complete\nHome Team: The Uncs\nAway Team: GCS 2
 .0\nHome Score: 3\nAway Score: 8
END:VEVENT
END:VCALENDAR
