BEGIN:VCALENDAR
VERSION:2.0
PRODID:-//EZFacility.com, Inc.//EZL 2.5.5.28621
BEGIN:VEVENT
UID:16493304@ezleagues.ezfacility.com
DTSTAMP:20260424T043213Z
CREATED:20260424T043213Z
DTSTART:20250702T213000Z
DTEND:20250702T223000Z
LOCATION:Turf Field 1
CONTACT:
SUMMARY:MV2 VS. West1
DESCRIPTION:League Name: Field Hockey 11v11 Summer League\nGame Type: Regul
 ar\nGame Status: Pending\nHome Team: MV2\nAway Team: West1\n
END:VEVENT
BEGIN:VEVENT
UID:16493319@ezleagues.ezfacility.com
DTSTAMP:20260424T043213Z
CREATED:20260424T043213Z
DTSTART:20250711T003000Z
DTEND:20250711T013000Z
LOCATION:Turf Field 1
CONTACT:
SUMMARY:C2 VS. MV2
DESCRIPTION:League Name: Field Hockey 11v11 Summer League\nGame Type: Regul
 ar\nGame Status: Pending\nHome Team: C2\nAway Team: MV2\n
END:VEVENT
BEGIN:VEVENT
UID:16493342@ezleagues.ezfacility.com
DTSTAMP:20260424T043213Z
CREATED:20260424T043213Z
DTSTART:20250723T223000Z
DTEND:20250723T233000Z
LOCATION:Turf Field 1
CONTACT:
SUMMARY:MV2 VS. SC1
DESCRIPTION:League Name: Field Hockey 11v11 Summer League\nGame Type: Regul
 ar\nGame Status: Pending\nHome Team: MV2\nAway Team: SC1\n
END:VEVENT
BEGIN:VEVENT
UID:16493334@ezleagues.ezfacility.com
DTSTAMP:20260424T043213Z
CREATED:20260424T043213Z
DTSTART:20250804T000000Z
DTEND:20250804T010000Z
LOCATION:Turf Field 1
CONTACT:
SUMMARY:C1 VS. MV2
DESCRIPTION:League Name: Field Hockey 11v11 Summer League\nGame Type: Regul
 ar\nGame Status: Pending\nHome Team: C1\nAway Team: MV2\n
END:VEVENT
BEGIN:VEVENT
UID:16493365@ezleagues.ezfacility.com
DTSTAMP:20260424T043213Z
CREATED:20260424T043213Z
DTSTART:20250806T010000Z
DTEND:20250806T020000Z
LOCATION:Turf Field 1
CONTACT:
SUMMARY:MV2 VS. F1
DESCRIPTION:League Name: Field Hockey 11v11 Summer League\nGame Type: Regul
 ar\nGame Status: Pending\nHome Team: MV2\nAway Team: F1\n
END:VEVENT
BEGIN:VEVENT
UID:16493298@ezleagues.ezfacility.com
DTSTAMP:20260424T043213Z
CREATED:20260424T043213Z
DTSTART:20250806T233000Z
DTEND:20250807T003000Z
LOCATION:Turf Field 1
CONTACT:
SUMMARY:MV2 VS. West2
DESCRIPTION:League Name: Field Hockey 11v11 Summer League\nGame Type: Regul
 ar\nGame Status: Pending\nHome Team: MV2\nAway Team: West2\n
END:VEVENT
BEGIN:VEVENT
UID:16493313@ezleagues.ezfacility.com
DTSTAMP:20260424T043213Z
CREATED:20260424T043213Z
DTSTART:20250807T223000Z
DTEND:20250807T233000Z
LOCATION:Turf Field 1
CONTACT:
SUMMARY:L1 VS. MV2
DESCRIPTION:League Name: Field Hockey 11v11 Summer League\nGame Type: Regul
 ar\nGame Status: Pending\nHome Team: L1\nAway Team: MV2\n
END:VEVENT
END:VCALENDAR
