BEGIN:VCALENDAR
VERSION:2.0
PRODID:-//EZFacility.com, Inc.//EZL 2.5.5.28621
BEGIN:VEVENT
UID:16494502@ezleagues.ezfacility.com
DTSTAMP:20260419T130331Z
CREATED:20260419T130331Z
DTSTART:20250614T031500Z
DTEND:20250614T041500Z
LOCATION:Field 2
CONTACT:
SUMMARY:M M Crew / 007 Pub VS. Pitch Hounds
DESCRIPTION:League Name: 2025 S3 Fri Coed Rec - June 13\nGame Type: Regular
 \nGame Status: Complete\nHome Team: M M Crew / 007 Pub\nAway Team: Pitch H
 ounds\nHome Score: 13\nAway Score: 14
END:VEVENT
BEGIN:VEVENT
UID:16494503@ezleagues.ezfacility.com
DTSTAMP:20260419T130331Z
CREATED:20260419T130331Z
DTSTART:20250614T041500Z
DTEND:20250614T051500Z
LOCATION:Field 2
CONTACT:
SUMMARY:Pitch Hounds VS. M M Crew / 007 Pub
DESCRIPTION:League Name: 2025 S3 Fri Coed Rec - June 13\nGame Type: Regular
 \nGame Status: Complete\nHome Team: Pitch Hounds\nAway Team: M M Crew / 00
 7 Pub\nHome Score: 11\nAway Score: 2
END:VEVENT
BEGIN:VEVENT
UID:16494538@ezleagues.ezfacility.com
DTSTAMP:20260419T130331Z
CREATED:20260419T130331Z
DTSTART:20250621T011500Z
DTEND:20250621T021500Z
LOCATION:Field 5
CONTACT:
SUMMARY:M M Crew / 007 Pub VS. Pitches B Crazy
DESCRIPTION:League Name: 2025 S3 Fri Coed Rec - June 13\nGame Type: Regular
 \nGame Status: Complete\nHome Team: M M Crew / 007 Pub\nAway Team: Pitches
  B Crazy\nHome Score: 7\nAway Score: 8
END:VEVENT
BEGIN:VEVENT
UID:16494539@ezleagues.ezfacility.com
DTSTAMP:20260419T130331Z
CREATED:20260419T130331Z
DTSTART:20250621T021500Z
DTEND:20250621T031500Z
LOCATION:Field 5
CONTACT:
SUMMARY:Pitches B Crazy VS. M M Crew / 007 Pub
DESCRIPTION:League Name: 2025 S3 Fri Coed Rec - June 13\nGame Type: Regular
 \nGame Status: Complete\nHome Team: Pitches B Crazy\nAway Team: M M Crew /
  007 Pub\nHome Score: 7\nAway Score: 9
END:VEVENT
BEGIN:VEVENT
UID:16494550@ezleagues.ezfacility.com
DTSTAMP:20260419T130331Z
CREATED:20260419T130331Z
DTSTART:20250628T031500Z
DTEND:20250628T041500Z
LOCATION:Field 6
CONTACT:
SUMMARY:M M Crew / 007 Pub VS. My Bad
DESCRIPTION:League Name: 2025 S3 Fri Coed Rec - June 13\nGame Type: Regular
 \nGame Status: Complete\nHome Team: M M Crew / 007 Pub\nAway Team: My Bad\
 nHome Score: 9\nAway Score: 8
END:VEVENT
BEGIN:VEVENT
UID:16494551@ezleagues.ezfacility.com
DTSTAMP:20260419T130331Z
CREATED:20260419T130331Z
DTSTART:20250628T041500Z
DTEND:20250628T051500Z
LOCATION:Field 6
CONTACT:
SUMMARY:My Bad VS. M M Crew / 007 Pub
DESCRIPTION:League Name: 2025 S3 Fri Coed Rec - June 13\nGame Type: Regular
 \nGame Status: Complete\nHome Team: My Bad\nAway Team: M M Crew / 007 Pub\
 nHome Score: 17\nAway Score: 13
END:VEVENT
BEGIN:VEVENT
UID:16494585@ezleagues.ezfacility.com
DTSTAMP:20260419T130331Z
CREATED:20260419T130331Z
DTSTART:20250712T031500Z
DTEND:20250712T041500Z
LOCATION:Field 2
CONTACT:
SUMMARY:We Suck Again VS. M M Crew / 007 Pub
DESCRIPTION:League Name: 2025 S3 Fri Coed Rec - June 13\nGame Type: Regular
 \nGame Status: Complete\nHome Team: We Suck Again\nAway Team: M M Crew / 0
 07 Pub\nHome Score: 18\nAway Score: 5
END:VEVENT
BEGIN:VEVENT
UID:16494586@ezleagues.ezfacility.com
DTSTAMP:20260419T130331Z
CREATED:20260419T130331Z
DTSTART:20250712T041500Z
DTEND:20250712T051500Z
LOCATION:Field 2
CONTACT:
SUMMARY:M M Crew / 007 Pub VS. We Suck Again
DESCRIPTION:League Name: 2025 S3 Fri Coed Rec - June 13\nGame Type: Regular
 \nGame Status: Complete\nHome Team: M M Crew / 007 Pub\nAway Team: We Suck
  Again\nHome Score: 19\nAway Score: 20
END:VEVENT
BEGIN:VEVENT
UID:16494577@ezleagues.ezfacility.com
DTSTAMP:20260419T130331Z
CREATED:20260419T130331Z
DTSTART:20250719T011500Z
DTEND:20250719T021500Z
LOCATION:Field 4
CONTACT:
SUMMARY:M M Crew / 007 Pub VS. EB32
DESCRIPTION:League Name: 2025 S3 Fri Coed Rec - June 13\nGame Type: Regular
 \nGame Status: Complete\nHome Team: M M Crew / 007 Pub\nAway Team: EB32\nH
 ome Score: 12\nAway Score: 18
END:VEVENT
BEGIN:VEVENT
UID:16494578@ezleagues.ezfacility.com
DTSTAMP:20260419T130331Z
CREATED:20260419T130331Z
DTSTART:20250719T021500Z
DTEND:20250719T031500Z
LOCATION:Field 4
CONTACT:
SUMMARY:EB32 VS. M M Crew / 007 Pub
DESCRIPTION:League Name: 2025 S3 Fri Coed Rec - June 13\nGame Type: Regular
 \nGame Status: Complete\nHome Team: EB32\nAway Team: M M Crew / 007 Pub\nH
 ome Score: 5\nAway Score: 12
END:VEVENT
BEGIN:VEVENT
UID:16494569@ezleagues.ezfacility.com
DTSTAMP:20260419T130331Z
CREATED:20260419T130331Z
DTSTART:20250726T031500Z
DTEND:20250726T041500Z
LOCATION:Field 6
CONTACT:
SUMMARY:M M Crew / 007 Pub VS. Determined
DESCRIPTION:League Name: 2025 S3 Fri Coed Rec - June 13\nGame Type: Regular
 \nGame Status: Complete\nHome Team: M M Crew / 007 Pub\nAway Team: Determi
 ned\nHome Score: 10\nAway Score: 9
END:VEVENT
BEGIN:VEVENT
UID:16494570@ezleagues.ezfacility.com
DTSTAMP:20260419T130331Z
CREATED:20260419T130331Z
DTSTART:20250726T041500Z
DTEND:20250726T051500Z
LOCATION:Field 6
CONTACT:
SUMMARY:Determined VS. M M Crew / 007 Pub
DESCRIPTION:League Name: 2025 S3 Fri Coed Rec - June 13\nGame Type: Regular
 \nGame Status: Complete\nHome Team: Determined\nAway Team: M M Crew / 007 
 Pub\nHome Score: 10\nAway Score: 13
END:VEVENT
BEGIN:VEVENT
UID:16494554@ezleagues.ezfacility.com
DTSTAMP:20260419T130331Z
CREATED:20260419T130331Z
DTSTART:20250802T031500Z
DTEND:20250802T041500Z
LOCATION:Field 5
CONTACT:
SUMMARY:M M Crew / 007 Pub VS. Big Ol' Hitties
DESCRIPTION:League Name: 2025 S3 Fri Coed Rec - June 13\nGame Type: Regular
 \nGame Status: Complete\nHome Team: M M Crew / 007 Pub\nAway Team: Big Ol'
  Hitties\nHome Score: 16\nAway Score: 23
END:VEVENT
BEGIN:VEVENT
UID:16494555@ezleagues.ezfacility.com
DTSTAMP:20260419T130331Z
CREATED:20260419T130331Z
DTSTART:20250802T041500Z
DTEND:20250802T051500Z
LOCATION:Field 5
CONTACT:
SUMMARY:Big Ol' Hitties VS. M M Crew / 007 Pub
DESCRIPTION:League Name: 2025 S3 Fri Coed Rec - June 13\nGame Type: Regular
 \nGame Status: Complete\nHome Team: Big Ol' Hitties\nAway Team: M M Crew /
  007 Pub\nHome Score: 15\nAway Score: 8
END:VEVENT
BEGIN:VEVENT
UID:16575415@ezleagues.ezfacility.com
DTSTAMP:20260419T130331Z
CREATED:20260419T130331Z
DTSTART:20250809T011500Z
DTEND:20250809T021500Z
LOCATION:Field 4
CONTACT:
SUMMARY:Big Ol' Hitties VS. M M Crew / 007 Pub
DESCRIPTION:League Name: 2025 S3 Fri Coed Rec - June 13\nGame Type: Postsea
 son\nGame Status: Complete\nHome Team: Big Ol' Hitties\nAway Team: M M Cre
 w / 007 Pub\nHome Score: 10\nAway Score: 18
END:VEVENT
BEGIN:VEVENT
UID:16575416@ezleagues.ezfacility.com
DTSTAMP:20260419T130331Z
CREATED:20260419T130331Z
DTSTART:20250809T021500Z
DTEND:20250809T031500Z
LOCATION:Field 4
CONTACT:
SUMMARY:M M Crew / 007 Pub VS. Big Ol' Hitties
DESCRIPTION:League Name: 2025 S3 Fri Coed Rec - June 13\nGame Type: Postsea
 son\nGame Status: Complete\nHome Team: M M Crew / 007 Pub\nAway Team: Big 
 Ol' Hitties\nHome Score: 14\nAway Score: 16
END:VEVENT
END:VCALENDAR
