BEGIN:VCALENDAR
VERSION:2.0
PRODID:-//EZFacility.com, Inc.//EZL 2.5.5.28621
BEGIN:VEVENT
UID:16497938@ezleagues.ezfacility.com
DTSTAMP:20260423T112600Z
CREATED:20260423T112600Z
DTSTART:20250703T170000Z
DTEND:20250703T180000Z
LOCATION:Court #5
CONTACT:
SUMMARY:Bulls VS. Spurs
DESCRIPTION:League Name: Hype Summer League 2025 - Girls Varsity/Highschool
 \nGame Type: Regular\nGame Status: Complete\nHome Team: Bulls\nAway Team: 
 Spurs\nHome Score: 45\nAway Score: 24
END:VEVENT
BEGIN:VEVENT
UID:16497941@ezleagues.ezfacility.com
DTSTAMP:20260423T112600Z
CREATED:20260423T112600Z
DTSTART:20250703T180000Z
DTEND:20250703T190000Z
LOCATION:Court #5
CONTACT:
SUMMARY:Nuggets VS. Spurs
DESCRIPTION:League Name: Hype Summer League 2025 - Girls Varsity/Highschool
 \nGame Type: Regular\nGame Status: Complete\nHome Team: Nuggets\nAway Team
 : Spurs\nHome Score: 44\nAway Score: 24
END:VEVENT
BEGIN:VEVENT
UID:16497944@ezleagues.ezfacility.com
DTSTAMP:20260423T112600Z
CREATED:20260423T112600Z
DTSTART:20250710T170000Z
DTEND:20250710T180000Z
LOCATION:Court #5
CONTACT:
SUMMARY:Spurs VS. Lakers
DESCRIPTION:League Name: Hype Summer League 2025 - Girls Varsity/Highschool
 \nGame Type: Regular\nGame Status: Complete\nHome Team: Spurs\nAway Team: 
 Lakers\nHome Score: 31\nAway Score: 32
END:VEVENT
BEGIN:VEVENT
UID:16497947@ezleagues.ezfacility.com
DTSTAMP:20260423T112600Z
CREATED:20260423T112600Z
DTSTART:20250710T180000Z
DTEND:20250710T190000Z
LOCATION:Court #5
CONTACT:
SUMMARY:Pistons VS. Spurs
DESCRIPTION:League Name: Hype Summer League 2025 - Girls Varsity/Highschool
 \nGame Type: Regular\nGame Status: Complete\nHome Team: Pistons\nAway Team
 : Spurs\nHome Score: 31\nAway Score: 27
END:VEVENT
BEGIN:VEVENT
UID:16497948@ezleagues.ezfacility.com
DTSTAMP:20260423T112600Z
CREATED:20260423T112600Z
DTSTART:20250717T170000Z
DTEND:20250717T180000Z
LOCATION:Court #3
CONTACT:
SUMMARY:Suns VS. Spurs
DESCRIPTION:League Name: Hype Summer League 2025 - Girls Varsity/Highschool
 \nGame Type: Regular\nGame Status: Complete\nHome Team: Suns\nAway Team: S
 purs\nHome Score: 40\nAway Score: 50
END:VEVENT
BEGIN:VEVENT
UID:16498011@ezleagues.ezfacility.com
DTSTAMP:20260423T112600Z
CREATED:20260423T112600Z
DTSTART:20250717T180000Z
DTEND:20250717T190000Z
LOCATION:Court #5
CONTACT:
SUMMARY:Bulls VS. Spurs
DESCRIPTION:League Name: Hype Summer League 2025 - Girls Varsity/Highschool
 \nGame Type: Regular\nGame Status: Complete\nHome Team: Bulls\nAway Team: 
 Spurs\nHome Score: 39\nAway Score: 32
END:VEVENT
BEGIN:VEVENT
UID:16498028@ezleagues.ezfacility.com
DTSTAMP:20260423T112600Z
CREATED:20260423T112600Z
DTSTART:20250724T170000Z
DTEND:20250724T180000Z
LOCATION:Court #5
CONTACT:
SUMMARY:Nuggets VS. Spurs
DESCRIPTION:League Name: Hype Summer League 2025 - Girls Varsity/Highschool
 \nGame Type: Regular\nGame Status: Complete\nHome Team: Nuggets\nAway Team
 : Spurs\nHome Score: 55\nAway Score: 23
END:VEVENT
BEGIN:VEVENT
UID:16498031@ezleagues.ezfacility.com
DTSTAMP:20260423T112600Z
CREATED:20260423T112600Z
DTSTART:20250724T180000Z
DTEND:20250724T190000Z
LOCATION:Court #5
CONTACT:
SUMMARY:Lakers VS. Spurs
DESCRIPTION:League Name: Hype Summer League 2025 - Girls Varsity/Highschool
 \nGame Type: Regular\nGame Status: Complete\nHome Team: Lakers\nAway Team:
  Spurs\nHome Score: 51\nAway Score: 24
END:VEVENT
BEGIN:VEVENT
UID:16498038@ezleagues.ezfacility.com
DTSTAMP:20260423T112600Z
CREATED:20260423T112600Z
DTSTART:20250731T170000Z
DTEND:20250731T180000Z
LOCATION:Court #5
CONTACT:
SUMMARY:Pistons VS. Spurs
DESCRIPTION:League Name: Hype Summer League 2025 - Girls Varsity/Highschool
 \nGame Type: Regular\nGame Status: Pending\nHome Team: Pistons\nAway Team:
  Spurs\n
END:VEVENT
BEGIN:VEVENT
UID:16498063@ezleagues.ezfacility.com
DTSTAMP:20260423T112600Z
CREATED:20260423T112600Z
DTSTART:20250731T180000Z
DTEND:20250731T190000Z
LOCATION:Court #3
CONTACT:
SUMMARY:Suns VS. Spurs
DESCRIPTION:League Name: Hype Summer League 2025 - Girls Varsity/Highschool
 \nGame Type: Regular\nGame Status: Pending\nHome Team: Suns\nAway Team: Sp
 urs\n
END:VEVENT
END:VCALENDAR
