BEGIN:VCALENDAR
VERSION:2.0
PRODID:-//EZFacility.com, Inc.//EZL 2.5.5.28621
BEGIN:VEVENT
UID:16501917@ezleagues.ezfacility.com
DTSTAMP:20260426T034846Z
CREATED:20260426T034846Z
DTSTART:20250618T020000Z
DTEND:20250618T030000Z
LOCATION:Basketball Court #2A
CONTACT:Martinez\, Cammie
SUMMARY:The Binary Ballers VS. The Tribe - 3rd Place
DESCRIPTION:League Name: SAT - Summer 3v3 Basketball League\nGame Type: Reg
 ular\nGame Status: Complete\nHome Team: The Binary Ballers\nAway Team: The
  Tribe - 3rd Place\nHome Score: 33\nAway Score: 78
END:VEVENT
BEGIN:VEVENT
UID:16501925@ezleagues.ezfacility.com
DTSTAMP:20260426T034846Z
CREATED:20260426T034846Z
DTSTART:20250625T001000Z
DTEND:20250625T011000Z
LOCATION:Basketball Court #2A
CONTACT:Smith\, Cammie
SUMMARY:Short Kingz VS. The Binary Ballers
DESCRIPTION:League Name: SAT - Summer 3v3 Basketball League\nGame Type: Reg
 ular\nGame Status: Complete\nHome Team: Short Kingz\nAway Team: The Binary
  Ballers\nHome Score: 31\nAway Score: 32
END:VEVENT
BEGIN:VEVENT
UID:16501932@ezleagues.ezfacility.com
DTSTAMP:20260426T034846Z
CREATED:20260426T034846Z
DTSTART:20250702T001000Z
DTEND:20250702T011000Z
LOCATION:Basketball Court #1A
CONTACT:Prince\, Josh
SUMMARY:We Met at USAA - 1st Place VS. The Binary Ballers
DESCRIPTION:League Name: SAT - Summer 3v3 Basketball League\nGame Type: Reg
 ular\nGame Status: Complete\nHome Team: We Met at USAA - 1st Place\nAway T
 eam: The Binary Ballers\nHome Score: 127\nAway Score: 37
END:VEVENT
BEGIN:VEVENT
UID:16501934@ezleagues.ezfacility.com
DTSTAMP:20260426T034846Z
CREATED:20260426T034846Z
DTSTART:20250708T231500Z
DTEND:20250709T001500Z
LOCATION:Basketball Court #1A
CONTACT:Smith\, Josh
SUMMARY:Double Dribble - 2nd place VS. The Binary Ballers
DESCRIPTION:League Name: SAT - Summer 3v3 Basketball League\nGame Type: Reg
 ular\nGame Status: Complete\nHome Team: Double Dribble - 2nd place\nAway T
 eam: The Binary Ballers\nHome Score: 92\nAway Score: 43
END:VEVENT
BEGIN:VEVENT
UID:16501947@ezleagues.ezfacility.com
DTSTAMP:20260426T034846Z
CREATED:20260426T034846Z
DTSTART:20250716T020500Z
DTEND:20250716T030500Z
LOCATION:Basketball Court #2A
CONTACT:Notified
SUMMARY:The Binary Ballers VS. Ball is Life Co.
DESCRIPTION:League Name: SAT - Summer 3v3 Basketball League\nGame Type: Reg
 ular\nGame Status: Complete\nHome Team: The Binary Ballers\nAway Team: Bal
 l is Life Co.\nHome Score: 2\nAway Score: 0
END:VEVENT
BEGIN:VEVENT
UID:16501954@ezleagues.ezfacility.com
DTSTAMP:20260426T034846Z
CREATED:20260426T034846Z
DTSTART:20250723T010500Z
DTEND:20250723T020500Z
LOCATION:Basketball Court #2A
CONTACT:Notified
SUMMARY:The Binary Ballers VS. The MonStar's
DESCRIPTION:League Name: SAT - Summer 3v3 Basketball League\nGame Type: Reg
 ular\nGame Status: Complete\nHome Team: The Binary Ballers\nAway Team: The
  MonStar's\nHome Score: 2\nAway Score: 0
END:VEVENT
BEGIN:VEVENT
UID:16501962@ezleagues.ezfacility.com
DTSTAMP:20260426T034846Z
CREATED:20260426T034846Z
DTSTART:20250730T010500Z
DTEND:20250730T020500Z
LOCATION:Basketball Court #1A
CONTACT:Smith\, Cammie
SUMMARY:Full Court Stack VS. The Binary Ballers
DESCRIPTION:League Name: SAT - Summer 3v3 Basketball League\nGame Type: Reg
 ular\nGame Status: Complete\nHome Team: Full Court Stack\nAway Team: The B
 inary Ballers\nHome Score: 65\nAway Score: 18
END:VEVENT
BEGIN:VEVENT
UID:16501969@ezleagues.ezfacility.com
DTSTAMP:20260426T034846Z
CREATED:20260426T034846Z
DTSTART:20250805T231500Z
DTEND:20250806T001500Z
LOCATION:Basketball Court #1A
CONTACT:Martinez\, Josh
SUMMARY:The Return Offers VS. The Binary Ballers
DESCRIPTION:League Name: SAT - Summer 3v3 Basketball League\nGame Type: Reg
 ular\nGame Status: Complete\nHome Team: The Return Offers\nAway Team: The 
 Binary Ballers\nHome Score: 77\nAway Score: 34
END:VEVENT
BEGIN:VEVENT
UID:16501976@ezleagues.ezfacility.com
DTSTAMP:20260426T034846Z
CREATED:20260426T034846Z
DTSTART:20250813T001000Z
DTEND:20250813T011000Z
LOCATION:Basketball Court #2A
CONTACT:Alaniz\, Cammie
SUMMARY:The Binary Ballers VS. 210 Ballers - 4th Place
DESCRIPTION:League Name: SAT - Summer 3v3 Basketball League\nGame Type: Reg
 ular\nGame Status: Complete\nHome Team: The Binary Ballers\nAway Team: 210
  Ballers - 4th Place\nHome Score: 37\nAway Score: 91
END:VEVENT
BEGIN:VEVENT
UID:16501985@ezleagues.ezfacility.com
DTSTAMP:20260426T034846Z
CREATED:20260426T034846Z
DTSTART:20250820T031000Z
DTEND:20250820T041000Z
LOCATION:Basketball Court #1A
CONTACT:Notified
SUMMARY:The Binary Ballers VS. First Team All Intern
DESCRIPTION:League Name: SAT - Summer 3v3 Basketball League\nGame Type: Reg
 ular\nGame Status: Complete\nHome Team: The Binary Ballers\nAway Team: Fir
 st Team All Intern\nHome Score: 2\nAway Score: 0
END:VEVENT
END:VCALENDAR
