BEGIN:VCALENDAR
VERSION:2.0
PRODID:-//EZFacility.com, Inc.//EZL 2.5.5.28621
BEGIN:VEVENT
UID:16526194@ezleagues.ezfacility.com
DTSTAMP:20260426T034808Z
CREATED:20260426T034808Z
DTSTART:20250708T224500Z
DTEND:20250708T234500Z
LOCATION:Destrehan High Field 1
CONTACT:
SUMMARY:Mimosa-Barrett-RAIDERS VS. Luling-Marshall-49ERS
DESCRIPTION:League Name: 2025 Boys 9-10 Flag Football Division Gold \nGame 
 Type: Regular\nGame Status: Complete\nHome Team: Mimosa-Barrett-RAIDERS\nA
 way Team: Luling-Marshall-49ERS\nHome Score: 0\nAway Score: 38
END:VEVENT
BEGIN:VEVENT
UID:16526198@ezleagues.ezfacility.com
DTSTAMP:20260426T034808Z
CREATED:20260426T034808Z
DTSTART:20250710T234500Z
DTEND:20250711T004500Z
LOCATION:Hahnville High Field 1
CONTACT:
SUMMARY:Norco-Brady-GIANTS VS. Luling-Marshall-49ERS
DESCRIPTION:League Name: 2025 Boys 9-10 Flag Football Division Gold \nGame 
 Type: Regular\nGame Status: Complete\nHome Team: Norco-Brady-GIANTS\nAway 
 Team: Luling-Marshall-49ERS\nHome Score: 0\nAway Score: 38
END:VEVENT
BEGIN:VEVENT
UID:16526202@ezleagues.ezfacility.com
DTSTAMP:20260426T034808Z
CREATED:20260426T034808Z
DTSTART:20250716T004500Z
DTEND:20250716T014500Z
LOCATION:Destrehan High Field 1
CONTACT:
SUMMARY:Mimosa-Harris-STEELERS VS. Luling-Marshall-49ERS
DESCRIPTION:League Name: 2025 Boys 9-10 Flag Football Division Gold \nGame 
 Type: Regular\nGame Status: Complete\nHome Team: Mimosa-Harris-STEELERS\nA
 way Team: Luling-Marshall-49ERS\nHome Score: 0\nAway Score: 40
END:VEVENT
BEGIN:VEVENT
UID:16526205@ezleagues.ezfacility.com
DTSTAMP:20260426T034808Z
CREATED:20260426T034808Z
DTSTART:20250717T234500Z
DTEND:20250718T004500Z
LOCATION:West Bank 7
CONTACT:
SUMMARY:Luling-Marshall-49ERS VS. Destrehan-Stuart-VIKINGS
DESCRIPTION:League Name: 2025 Boys 9-10 Flag Football Division Gold \nGame 
 Type: Regular\nGame Status: Cancelled\nHome Team: Luling-Marshall-49ERS\nA
 way Team: Destrehan-Stuart-VIKINGS\n
END:VEVENT
BEGIN:VEVENT
UID:16526207@ezleagues.ezfacility.com
DTSTAMP:20260426T034808Z
CREATED:20260426T034808Z
DTSTART:20250722T224500Z
DTEND:20250722T234500Z
LOCATION:Destrehan High Field 1
CONTACT:
SUMMARY:Luling-Marshall-49ERS VS. Destrehan-Hildebrand-CHARGERS
DESCRIPTION:League Name: 2025 Boys 9-10 Flag Football Division Gold \nGame 
 Type: Regular\nGame Status: Complete\nHome Team: Luling-Marshall-49ERS\nAw
 ay Team: Destrehan-Hildebrand-CHARGERS\nHome Score: 38\nAway Score: 0
END:VEVENT
BEGIN:VEVENT
UID:16526209@ezleagues.ezfacility.com
DTSTAMP:20260426T034808Z
CREATED:20260426T034808Z
DTSTART:20250724T234500Z
DTEND:20250725T004500Z
LOCATION:West Bank 7
CONTACT:
SUMMARY:Luling-Marshall-49ERS VS. Mimosa-Barrett-RAIDERS
DESCRIPTION:League Name: 2025 Boys 9-10 Flag Football Division Gold \nGame 
 Type: Regular\nGame Status: Complete\nHome Team: Luling-Marshall-49ERS\nAw
 ay Team: Mimosa-Barrett-RAIDERS\nHome Score: 44\nAway Score: 0
END:VEVENT
BEGIN:VEVENT
UID:16526213@ezleagues.ezfacility.com
DTSTAMP:20260426T034808Z
CREATED:20260426T034808Z
DTSTART:20250729T234500Z
DTEND:20250730T004500Z
LOCATION:Destrehan High Field 1
CONTACT:
SUMMARY:Luling-Marshall-49ERS VS. Norco-Brady-GIANTS
DESCRIPTION:League Name: 2025 Boys 9-10 Flag Football Division Gold \nGame 
 Type: Regular\nGame Status: Complete\nHome Team: Luling-Marshall-49ERS\nAw
 ay Team: Norco-Brady-GIANTS\nHome Score: 46\nAway Score: 6
END:VEVENT
BEGIN:VEVENT
UID:16526217@ezleagues.ezfacility.com
DTSTAMP:20260426T034808Z
CREATED:20260426T034808Z
DTSTART:20250731T234500Z
DTEND:20250801T004500Z
LOCATION:West Bank 7
CONTACT:
SUMMARY:Luling-Marshall-49ERS VS. Mimosa-Harris-STEELERS
DESCRIPTION:League Name: 2025 Boys 9-10 Flag Football Division Gold \nGame 
 Type: Regular\nGame Status: Complete\nHome Team: Luling-Marshall-49ERS\nAw
 ay Team: Mimosa-Harris-STEELERS\nHome Score: 36\nAway Score: 0
END:VEVENT
END:VCALENDAR
