BEGIN:VCALENDAR
VERSION:2.0
PRODID:-//EZFacility.com, Inc.//EZL 2.5.5.28621
BEGIN:VEVENT
UID:16506437@ezleagues.ezfacility.com
DTSTAMP:20260420T130011Z
CREATED:20260420T130011Z
DTSTART:20250618T030000Z
DTEND:20250618T040000Z
LOCATION:Field 2
CONTACT:
SUMMARY:Leicester City FC VS. Cali RB
DESCRIPTION:League Name: Men's Over 35 League 2\nGame Type: Regular\nGame S
 tatus: Complete\nHome Team: Leicester City FC\nAway Team: Cali RB\nHome Sc
 ore: 3\nAway Score: 3
END:VEVENT
BEGIN:VEVENT
UID:16506440@ezleagues.ezfacility.com
DTSTAMP:20260420T130011Z
CREATED:20260420T130011Z
DTSTART:20250625T020000Z
DTEND:20250625T030000Z
LOCATION:Field 1
CONTACT:
SUMMARY:Cali RB VS. Benfica
DESCRIPTION:League Name: Men's Over 35 League 2\nGame Type: Regular\nGame S
 tatus: Complete\nHome Team: Cali RB\nAway Team: Benfica\nHome Score: 4\nAw
 ay Score: 1
END:VEVENT
BEGIN:VEVENT
UID:16506442@ezleagues.ezfacility.com
DTSTAMP:20260420T130011Z
CREATED:20260420T130011Z
DTSTART:20250702T010000Z
DTEND:20250702T020000Z
LOCATION:Field 2
CONTACT:
SUMMARY:Cali RB VS. Cousins
DESCRIPTION:League Name: Men's Over 35 League 2\nGame Type: Regular\nGame S
 tatus: Complete\nHome Team: Cali RB\nAway Team: Cousins\nHome Score: 2\nAw
 ay Score: 4
END:VEVENT
BEGIN:VEVENT
UID:16506444@ezleagues.ezfacility.com
DTSTAMP:20260420T130011Z
CREATED:20260420T130011Z
DTSTART:20250709T010000Z
DTEND:20250709T020000Z
LOCATION:Field 2
CONTACT:
SUMMARY:Assyria FC VS. Cali RB
DESCRIPTION:League Name: Men's Over 35 League 2\nGame Type: Regular\nGame S
 tatus: Complete\nHome Team: Assyria FC\nAway Team: Cali RB\nHome Score: 15
 \nAway Score: 5
END:VEVENT
BEGIN:VEVENT
UID:16506448@ezleagues.ezfacility.com
DTSTAMP:20260420T130011Z
CREATED:20260420T130011Z
DTSTART:20250716T020000Z
DTEND:20250716T030000Z
LOCATION:Field 1
CONTACT:
SUMMARY:Cali RB VS. Chavalos FC
DESCRIPTION:League Name: Men's Over 35 League 2\nGame Type: Regular\nGame S
 tatus: Complete\nHome Team: Cali RB\nAway Team: Chavalos FC\nHome Score: 1
 \nAway Score: 2
END:VEVENT
BEGIN:VEVENT
UID:16506452@ezleagues.ezfacility.com
DTSTAMP:20260420T130011Z
CREATED:20260420T130011Z
DTSTART:20250723T030000Z
DTEND:20250723T040000Z
LOCATION:Field 2
CONTACT:
SUMMARY:Cali RB VS. Leicester City FC
DESCRIPTION:League Name: Men's Over 35 League 2\nGame Type: Regular\nGame S
 tatus: Complete\nHome Team: Cali RB\nAway Team: Leicester City FC\nHome Sc
 ore: 3\nAway Score: 6
END:VEVENT
BEGIN:VEVENT
UID:16506455@ezleagues.ezfacility.com
DTSTAMP:20260420T130011Z
CREATED:20260420T130011Z
DTSTART:20250730T030000Z
DTEND:20250730T040000Z
LOCATION:Field 2
CONTACT:
SUMMARY:Benfica VS. Cali RB
DESCRIPTION:League Name: Men's Over 35 League 2\nGame Type: Regular\nGame S
 tatus: Complete\nHome Team: Benfica\nAway Team: Cali RB\nHome Score: 6\nAw
 ay Score: 5
END:VEVENT
BEGIN:VEVENT
UID:16506457@ezleagues.ezfacility.com
DTSTAMP:20260420T130011Z
CREATED:20260420T130011Z
DTSTART:20250806T010000Z
DTEND:20250806T020000Z
LOCATION:Field 2
CONTACT:
SUMMARY:Cousins VS. Cali RB
DESCRIPTION:League Name: Men's Over 35 League 2\nGame Type: Regular\nGame S
 tatus: Complete\nHome Team: Cousins\nAway Team: Cali RB\nHome Score: 3\nAw
 ay Score: 2
END:VEVENT
END:VCALENDAR
