BEGIN:VCALENDAR
VERSION:2.0
PRODID:-//EZFacility.com, Inc.//EZL 2.5.5.28621
BEGIN:VEVENT
UID:16510186@ezleagues.ezfacility.com
DTSTAMP:20260421T192209Z
CREATED:20260421T192209Z
DTSTART:20250710T030000Z
DTEND:20250710T041500Z
LOCATION:Rink A
CONTACT:
SUMMARY:Triple Deke VS. Berserkers
DESCRIPTION:League Name: IVAHL GS-SF25\nGame Type: Regular\nGame Status: Pe
 nding\nHome Team: Triple Deke\nAway Team: Berserkers\n
END:VEVENT
BEGIN:VEVENT
UID:16510128@ezleagues.ezfacility.com
DTSTAMP:20260421T192209Z
CREATED:20260421T192209Z
DTSTART:20250807T042500Z
DTEND:20250807T054000Z
LOCATION:Rink A
CONTACT:
SUMMARY:Berserkers VS. Ghost Army
DESCRIPTION:League Name: IVAHL GS-SF25\nGame Type: Regular\nGame Status: Pe
 nding\nHome Team: Berserkers\nAway Team: Ghost Army\n
END:VEVENT
BEGIN:VEVENT
UID:16510130@ezleagues.ezfacility.com
DTSTAMP:20260421T192209Z
CREATED:20260421T192209Z
DTSTART:20250815T040000Z
DTEND:20250815T051500Z
LOCATION:Rink B
CONTACT:
SUMMARY:Shamans VS. Berserkers
DESCRIPTION:League Name: IVAHL GS-SF25\nGame Type: Regular\nGame Status: Pe
 nding\nHome Team: Shamans\nAway Team: Berserkers\n
END:VEVENT
BEGIN:VEVENT
UID:16510134@ezleagues.ezfacility.com
DTSTAMP:20260421T192209Z
CREATED:20260421T192209Z
DTSTART:20250821T042500Z
DTEND:20250821T054000Z
LOCATION:Rink A
CONTACT:
SUMMARY:Top Gun VS. Berserkers
DESCRIPTION:League Name: IVAHL GS-SF25\nGame Type: Regular\nGame Status: Pe
 nding\nHome Team: Top Gun\nAway Team: Berserkers\n
END:VEVENT
BEGIN:VEVENT
UID:16510141@ezleagues.ezfacility.com
DTSTAMP:20260421T192209Z
CREATED:20260421T192209Z
DTSTART:20250908T033000Z
DTEND:20250908T044500Z
LOCATION:Rink A
CONTACT:
SUMMARY:Berserkers VS. Triple Deke
DESCRIPTION:League Name: IVAHL GS-SF25\nGame Type: Regular\nGame Status: Pe
 nding\nHome Team: Berserkers\nAway Team: Triple Deke\n
END:VEVENT
BEGIN:VEVENT
UID:16510143@ezleagues.ezfacility.com
DTSTAMP:20260421T192209Z
CREATED:20260421T192209Z
DTSTART:20250915T033000Z
DTEND:20250915T044500Z
LOCATION:Rink A
CONTACT:
SUMMARY:Berserkers VS. Ghost Army
DESCRIPTION:League Name: IVAHL GS-SF25\nGame Type: Regular\nGame Status: Pe
 nding\nHome Team: Berserkers\nAway Team: Ghost Army\n
END:VEVENT
BEGIN:VEVENT
UID:16510145@ezleagues.ezfacility.com
DTSTAMP:20260421T192209Z
CREATED:20260421T192209Z
DTSTART:20250919T040000Z
DTEND:20250919T051500Z
LOCATION:Rink B
CONTACT:
SUMMARY:Average Joes VS. Berserkers
DESCRIPTION:League Name: IVAHL GS-SF25\nGame Type: Regular\nGame Status: Pe
 nding\nHome Team: Average Joes\nAway Team: Berserkers\n
END:VEVENT
BEGIN:VEVENT
UID:16510138@ezleagues.ezfacility.com
DTSTAMP:20260421T192209Z
CREATED:20260421T192209Z
DTSTART:20250921T035000Z
DTEND:20250921T050500Z
LOCATION:Rink B
CONTACT:
SUMMARY:Shamans VS. Berserkers
DESCRIPTION:League Name: IVAHL GS-SF25\nGame Type: Regular\nGame Status: Pe
 nding\nHome Team: Shamans\nAway Team: Berserkers\n
END:VEVENT
BEGIN:VEVENT
UID:16510149@ezleagues.ezfacility.com
DTSTAMP:20260421T192209Z
CREATED:20260421T192209Z
DTSTART:20250929T033000Z
DTEND:20250929T044500Z
LOCATION:Rink A
CONTACT:
SUMMARY:Top Gun VS. Berserkers
DESCRIPTION:League Name: IVAHL GS-SF25\nGame Type: Regular\nGame Status: Pe
 nding\nHome Team: Top Gun\nAway Team: Berserkers\n
END:VEVENT
BEGIN:VEVENT
UID:16510153@ezleagues.ezfacility.com
DTSTAMP:20260421T192209Z
CREATED:20260421T192209Z
DTSTART:20251002T042500Z
DTEND:20251002T054000Z
LOCATION:Rink A
CONTACT:
SUMMARY:Shamans VS. Berserkers
DESCRIPTION:League Name: IVAHL GS-SF25\nGame Type: Regular\nGame Status: Pe
 nding\nHome Team: Shamans\nAway Team: Berserkers\n
END:VEVENT
BEGIN:VEVENT
UID:16510156@ezleagues.ezfacility.com
DTSTAMP:20260421T192209Z
CREATED:20260421T192209Z
DTSTART:20251013T033000Z
DTEND:20251013T044500Z
LOCATION:Rink A
CONTACT:
SUMMARY:Berserkers VS. Triple Deke
DESCRIPTION:League Name: IVAHL GS-SF25\nGame Type: Regular\nGame Status: Pe
 nding\nHome Team: Berserkers\nAway Team: Triple Deke\n
END:VEVENT
BEGIN:VEVENT
UID:16510158@ezleagues.ezfacility.com
DTSTAMP:20260421T192209Z
CREATED:20260421T192209Z
DTSTART:20251017T040000Z
DTEND:20251017T051500Z
LOCATION:Rink B
CONTACT:
SUMMARY:Ghost Army VS. Berserkers
DESCRIPTION:League Name: IVAHL GS-SF25\nGame Type: Regular\nGame Status: Pe
 nding\nHome Team: Ghost Army\nAway Team: Berserkers\n
END:VEVENT
BEGIN:VEVENT
UID:16510160@ezleagues.ezfacility.com
DTSTAMP:20260421T192209Z
CREATED:20260421T192209Z
DTSTART:20251024T040000Z
DTEND:20251024T051500Z
LOCATION:Rink B
CONTACT:
SUMMARY:Berserkers VS. Average Joes
DESCRIPTION:League Name: IVAHL GS-SF25\nGame Type: Regular\nGame Status: Pe
 nding\nHome Team: Berserkers\nAway Team: Average Joes\n
END:VEVENT
BEGIN:VEVENT
UID:16510164@ezleagues.ezfacility.com
DTSTAMP:20260421T192209Z
CREATED:20260421T192209Z
DTSTART:20251103T043000Z
DTEND:20251103T054500Z
LOCATION:Rink A
CONTACT:
SUMMARY:Berserkers VS. Top Gun
DESCRIPTION:League Name: IVAHL GS-SF25\nGame Type: Regular\nGame Status: Pe
 nding\nHome Team: Berserkers\nAway Team: Top Gun\n
END:VEVENT
BEGIN:VEVENT
UID:16510168@ezleagues.ezfacility.com
DTSTAMP:20260421T192209Z
CREATED:20260421T192209Z
DTSTART:20251106T052500Z
DTEND:20251106T064000Z
LOCATION:Rink A
CONTACT:
SUMMARY:Berserkers VS. Shamans
DESCRIPTION:League Name: IVAHL GS-SF25\nGame Type: Regular\nGame Status: Pe
 nding\nHome Team: Berserkers\nAway Team: Shamans\n
END:VEVENT
BEGIN:VEVENT
UID:16510171@ezleagues.ezfacility.com
DTSTAMP:20260421T192209Z
CREATED:20260421T192209Z
DTSTART:20251113T052500Z
DTEND:20251113T064000Z
LOCATION:Rink A
CONTACT:
SUMMARY:Triple Deke VS. Berserkers
DESCRIPTION:League Name: IVAHL GS-SF25\nGame Type: Regular\nGame Status: Pe
 nding\nHome Team: Triple Deke\nAway Team: Berserkers\n
END:VEVENT
BEGIN:VEVENT
UID:16510173@ezleagues.ezfacility.com
DTSTAMP:20260421T192209Z
CREATED:20260421T192209Z
DTSTART:20251121T050000Z
DTEND:20251121T061500Z
LOCATION:Rink B
CONTACT:
SUMMARY:Ghost Army VS. Berserkers
DESCRIPTION:League Name: IVAHL GS-SF25\nGame Type: Regular\nGame Status: Pe
 nding\nHome Team: Ghost Army\nAway Team: Berserkers\n
END:VEVENT
BEGIN:VEVENT
UID:16510175@ezleagues.ezfacility.com
DTSTAMP:20260421T192209Z
CREATED:20260421T192209Z
DTSTART:20251127T052500Z
DTEND:20251127T064000Z
LOCATION:Rink A
CONTACT:
SUMMARY:Berserkers VS. Average Joes
DESCRIPTION:League Name: IVAHL GS-SF25\nGame Type: Regular\nGame Status: Pe
 nding\nHome Team: Berserkers\nAway Team: Average Joes\n
END:VEVENT
BEGIN:VEVENT
UID:16510179@ezleagues.ezfacility.com
DTSTAMP:20260421T192209Z
CREATED:20260421T192209Z
DTSTART:20251208T043000Z
DTEND:20251208T054500Z
LOCATION:Rink A
CONTACT:
SUMMARY:Berserkers VS. Top Gun
DESCRIPTION:League Name: IVAHL GS-SF25\nGame Type: Regular\nGame Status: Pe
 nding\nHome Team: Berserkers\nAway Team: Top Gun\n
END:VEVENT
BEGIN:VEVENT
UID:16510183@ezleagues.ezfacility.com
DTSTAMP:20260421T192209Z
CREATED:20260421T192209Z
DTSTART:20251211T052500Z
DTEND:20251211T064000Z
LOCATION:Rink A
CONTACT:
SUMMARY:Berserkers VS. Shamans
DESCRIPTION:League Name: IVAHL GS-SF25\nGame Type: Regular\nGame Status: Pe
 nding\nHome Team: Berserkers\nAway Team: Shamans\n
END:VEVENT
END:VCALENDAR
