BEGIN:VCALENDAR
VERSION:2.0
PRODID:-//EZFacility.com, Inc.//EZL 2.5.5.28621
BEGIN:VEVENT
UID:16892679@ezleagues.ezfacility.com
DTSTAMP:20260424T044229Z
CREATED:20260424T044229Z
DTSTART:20251209T014000Z
DTEND:20251209T023000Z
LOCATION:Harmans Premier Field #4
CONTACT:
SUMMARY:Leon VS. Team Verde
DESCRIPTION:League Name: Mon Mens Open 1st div \nGame Type: Regular\nGame S
 tatus: Complete\nHome Team: Leon\nAway Team: Team Verde\nHome Score: 5\nAw
 ay Score: 5
END:VEVENT
BEGIN:VEVENT
UID:16892692@ezleagues.ezfacility.com
DTSTAMP:20260424T044229Z
CREATED:20260424T044229Z
DTSTART:20251216T023000Z
DTEND:20251216T032000Z
LOCATION:Harmans Premier Field #4
CONTACT:
SUMMARY:Team Verde VS. Latin Star
DESCRIPTION:League Name: Mon Mens Open 1st div \nGame Type: Regular\nGame S
 tatus: Complete\nHome Team: Team Verde\nAway Team: Latin Star\nHome Score:
  7\nAway Score: 3
END:VEVENT
BEGIN:VEVENT
UID:16892705@ezleagues.ezfacility.com
DTSTAMP:20260424T044229Z
CREATED:20260424T044229Z
DTSTART:20251223T023000Z
DTEND:20251223T032000Z
LOCATION:Harmans Premier Field #5
CONTACT:
SUMMARY:Team Verde VS. Chelsea FC
DESCRIPTION:League Name: Mon Mens Open 1st div \nGame Type: Regular\nGame S
 tatus: Complete\nHome Team: Team Verde\nAway Team: Chelsea FC\nHome Score:
  6\nAway Score: 6
END:VEVENT
BEGIN:VEVENT
UID:16892730@ezleagues.ezfacility.com
DTSTAMP:20260424T044229Z
CREATED:20260424T044229Z
DTSTART:20260106T005000Z
DTEND:20260106T014000Z
LOCATION:Harmans Premier Field #5
CONTACT:
SUMMARY:LDU VS. Team Verde
DESCRIPTION:League Name: Mon Mens Open 1st div \nGame Type: Regular\nGame S
 tatus: Complete\nHome Team: LDU\nAway Team: Team Verde\nHome Score: 6\nAwa
 y Score: 10
END:VEVENT
BEGIN:VEVENT
UID:16892741@ezleagues.ezfacility.com
DTSTAMP:20260424T044229Z
CREATED:20260424T044229Z
DTSTART:20260113T000000Z
DTEND:20260113T005000Z
LOCATION:Harmans Premier Field #5
CONTACT:
SUMMARY:New Boys United VS. Team Verde
DESCRIPTION:League Name: Mon Mens Open 1st div \nGame Type: Regular\nGame S
 tatus: Complete\nHome Team: New Boys United\nAway Team: Team Verde\nHome S
 core: 4\nAway Score: 12
END:VEVENT
BEGIN:VEVENT
UID:16892752@ezleagues.ezfacility.com
DTSTAMP:20260424T044229Z
CREATED:20260424T044229Z
DTSTART:20260120T014000Z
DTEND:20260120T023000Z
LOCATION:Harmans Premier Field #4
CONTACT:
SUMMARY:Class XI VS. Team Verde
DESCRIPTION:League Name: Mon Mens Open 1st div \nGame Type: Regular\nGame S
 tatus: Complete\nHome Team: Class XI\nAway Team: Team Verde\nHome Score: 5
 \nAway Score: 3
END:VEVENT
BEGIN:VEVENT
UID:16892718@ezleagues.ezfacility.com
DTSTAMP:20260424T044229Z
CREATED:20260424T044229Z
DTSTART:20260127T041000Z
DTEND:20260127T050000Z
LOCATION:Harmans Premier Field #5
CONTACT:
SUMMARY:Team Verde VS. Madrid FC
DESCRIPTION:League Name: Mon Mens Open 1st div \nGame Type: Regular\nGame S
 tatus: Complete\nHome Team: Team Verde\nAway Team: Madrid FC\nHome Score: 
 3\nAway Score: 0
END:VEVENT
BEGIN:VEVENT
UID:16991664@ezleagues.ezfacility.com
DTSTAMP:20260424T044229Z
CREATED:20260424T044229Z
DTSTART:20260203T023000Z
DTEND:20260203T032000Z
LOCATION:Harmans Premier Field #4
CONTACT:
SUMMARY:Leon VS. Team Verde
DESCRIPTION:League Name: Mon Mens Open 1st div \nGame Type: Regular\nGame S
 tatus: Complete\nHome Team: Leon\nAway Team: Team Verde\nHome Score: 5\nAw
 ay Score: 4
END:VEVENT
BEGIN:VEVENT
UID:17001828@ezleagues.ezfacility.com
DTSTAMP:20260424T044229Z
CREATED:20260424T044229Z
DTSTART:20260210T032000Z
DTEND:20260210T041000Z
LOCATION:Harmans Premier Field #5
CONTACT:
SUMMARY:LDU VS. Team Verde
DESCRIPTION:League Name: Mon Mens Open 1st div \nGame Type: Regular\nGame S
 tatus: Complete\nHome Team: LDU\nAway Team: Team Verde\nHome Score: 0\nAwa
 y Score: 0
END:VEVENT
END:VCALENDAR
