BEGIN:VCALENDAR
VERSION:2.0
PRODID:-//EZFacility.com, Inc.//EZL 2.5.5.28621
BEGIN:VEVENT
UID:16517411@ezleagues.ezfacility.com
DTSTAMP:20260426T033825Z
CREATED:20260426T033825Z
DTSTART:20250625T031500Z
DTEND:20250625T041500Z
LOCATION:Field 4
CONTACT:
SUMMARY:RNP VS. WHITE CLAW WASTED (WCW)
DESCRIPTION:League Name: 2025 S4 Tues Men's Rec- June 24\nGame Type: Regula
 r\nGame Status: Complete\nHome Team: RNP\nAway Team: WHITE CLAW WASTED (WC
 W)\nHome Score: 4\nAway Score: 26
END:VEVENT
BEGIN:VEVENT
UID:16517412@ezleagues.ezfacility.com
DTSTAMP:20260426T033825Z
CREATED:20260426T033825Z
DTSTART:20250625T041500Z
DTEND:20250625T051500Z
LOCATION:Field 4
CONTACT:
SUMMARY:WHITE CLAW WASTED (WCW) VS. RNP
DESCRIPTION:League Name: 2025 S4 Tues Men's Rec- June 24\nGame Type: Regula
 r\nGame Status: Complete\nHome Team: WHITE CLAW WASTED (WCW)\nAway Team: R
 NP\nHome Score: 18\nAway Score: 23
END:VEVENT
BEGIN:VEVENT
UID:16517427@ezleagues.ezfacility.com
DTSTAMP:20260426T033825Z
CREATED:20260426T033825Z
DTSTART:20250702T031500Z
DTEND:20250702T041500Z
LOCATION:Field 4
CONTACT:
SUMMARY:Rosatis Pizza Pub Anthem VS. RNP
DESCRIPTION:League Name: 2025 S4 Tues Men's Rec- June 24\nGame Type: Regula
 r\nGame Status: Complete\nHome Team: Rosatis Pizza Pub Anthem\nAway Team: 
 RNP\nHome Score: 6\nAway Score: 8
END:VEVENT
BEGIN:VEVENT
UID:16517428@ezleagues.ezfacility.com
DTSTAMP:20260426T033825Z
CREATED:20260426T033825Z
DTSTART:20250702T041500Z
DTEND:20250702T051500Z
LOCATION:Field 4
CONTACT:
SUMMARY:RNP VS. Rosatis Pizza Pub Anthem
DESCRIPTION:League Name: 2025 S4 Tues Men's Rec- June 24\nGame Type: Regula
 r\nGame Status: Complete\nHome Team: RNP\nAway Team: Rosatis Pizza Pub Ant
 hem\nHome Score: 12\nAway Score: 35
END:VEVENT
BEGIN:VEVENT
UID:16517443@ezleagues.ezfacility.com
DTSTAMP:20260426T033825Z
CREATED:20260426T033825Z
DTSTART:20250709T011500Z
DTEND:20250709T021500Z
LOCATION:Field 1
CONTACT:
SUMMARY:Loti Builders Group VS. RNP
DESCRIPTION:League Name: 2025 S4 Tues Men's Rec- June 24\nGame Type: Regula
 r\nGame Status: Complete\nHome Team: Loti Builders Group\nAway Team: RNP\n
 Home Score: 4\nAway Score: 20
END:VEVENT
BEGIN:VEVENT
UID:16517444@ezleagues.ezfacility.com
DTSTAMP:20260426T033825Z
CREATED:20260426T033825Z
DTSTART:20250709T021500Z
DTEND:20250709T031500Z
LOCATION:Field 1
CONTACT:
SUMMARY:RNP VS. Loti Builders Group
DESCRIPTION:League Name: 2025 S4 Tues Men's Rec- June 24\nGame Type: Regula
 r\nGame Status: Complete\nHome Team: RNP\nAway Team: Loti Builders Group\n
 Home Score: 14\nAway Score: 18
END:VEVENT
BEGIN:VEVENT
UID:16517459@ezleagues.ezfacility.com
DTSTAMP:20260426T033825Z
CREATED:20260426T033825Z
DTSTART:20250716T011500Z
DTEND:20250716T021500Z
LOCATION:Field 4
CONTACT:
SUMMARY:The Alligators VS. RNP
DESCRIPTION:League Name: 2025 S4 Tues Men's Rec- June 24\nGame Type: Regula
 r\nGame Status: Complete\nHome Team: The Alligators\nAway Team: RNP\nHome 
 Score: 21\nAway Score: 24
END:VEVENT
BEGIN:VEVENT
UID:16517460@ezleagues.ezfacility.com
DTSTAMP:20260426T033825Z
CREATED:20260426T033825Z
DTSTART:20250716T021500Z
DTEND:20250716T031500Z
LOCATION:Field 4
CONTACT:
SUMMARY:RNP VS. The Alligators
DESCRIPTION:League Name: 2025 S4 Tues Men's Rec- June 24\nGame Type: Regula
 r\nGame Status: Complete\nHome Team: RNP\nAway Team: The Alligators\nHome 
 Score: 6\nAway Score: 26
END:VEVENT
BEGIN:VEVENT
UID:16517473@ezleagues.ezfacility.com
DTSTAMP:20260426T033825Z
CREATED:20260426T033825Z
DTSTART:20250723T011500Z
DTEND:20250723T021500Z
LOCATION:Field 3
CONTACT:
SUMMARY:RNP VS. DE Insurance
DESCRIPTION:League Name: 2025 S4 Tues Men's Rec- June 24\nGame Type: Regula
 r\nGame Status: Complete\nHome Team: RNP\nAway Team: DE Insurance\nHome Sc
 ore: 13\nAway Score: 12
END:VEVENT
BEGIN:VEVENT
UID:16517474@ezleagues.ezfacility.com
DTSTAMP:20260426T033825Z
CREATED:20260426T033825Z
DTSTART:20250723T021500Z
DTEND:20250723T031500Z
LOCATION:Field 3
CONTACT:
SUMMARY:DE Insurance VS. RNP
DESCRIPTION:League Name: 2025 S4 Tues Men's Rec- June 24\nGame Type: Regula
 r\nGame Status: Complete\nHome Team: DE Insurance\nAway Team: RNP\nHome Sc
 ore: 13\nAway Score: 14
END:VEVENT
BEGIN:VEVENT
UID:16517485@ezleagues.ezfacility.com
DTSTAMP:20260426T033825Z
CREATED:20260426T033825Z
DTSTART:20250730T031500Z
DTEND:20250730T041500Z
LOCATION:Field 1
CONTACT:
SUMMARY:RNP VS. Leftovers
DESCRIPTION:League Name: 2025 S4 Tues Men's Rec- June 24\nGame Type: Regula
 r\nGame Status: Complete\nHome Team: RNP\nAway Team: Leftovers\nHome Score
 : 13\nAway Score: 12
END:VEVENT
BEGIN:VEVENT
UID:16517486@ezleagues.ezfacility.com
DTSTAMP:20260426T033825Z
CREATED:20260426T033825Z
DTSTART:20250730T041500Z
DTEND:20250730T051500Z
LOCATION:Field 1
CONTACT:
SUMMARY:Leftovers VS. RNP
DESCRIPTION:League Name: 2025 S4 Tues Men's Rec- June 24\nGame Type: Regula
 r\nGame Status: Complete\nHome Team: Leftovers\nAway Team: RNP\nHome Score
 : 3\nAway Score: 26
END:VEVENT
BEGIN:VEVENT
UID:16517503@ezleagues.ezfacility.com
DTSTAMP:20260426T033825Z
CREATED:20260426T033825Z
DTSTART:20250806T011500Z
DTEND:20250806T021500Z
LOCATION:Field 2
CONTACT:
SUMMARY:RNP VS. Perfect Perfect Elite
DESCRIPTION:League Name: 2025 S4 Tues Men's Rec- June 24\nGame Type: Regula
 r\nGame Status: Complete\nHome Team: RNP\nAway Team: Perfect Perfect Elite
 \nHome Score: 13\nAway Score: 14
END:VEVENT
BEGIN:VEVENT
UID:16517504@ezleagues.ezfacility.com
DTSTAMP:20260426T033825Z
CREATED:20260426T033825Z
DTSTART:20250806T021500Z
DTEND:20250806T031500Z
LOCATION:Field 2
CONTACT:
SUMMARY:Perfect Perfect Elite VS. RNP
DESCRIPTION:League Name: 2025 S4 Tues Men's Rec- June 24\nGame Type: Regula
 r\nGame Status: Complete\nHome Team: Perfect Perfect Elite\nAway Team: RNP
 \nHome Score: 7\nAway Score: 10
END:VEVENT
BEGIN:VEVENT
UID:16578893@ezleagues.ezfacility.com
DTSTAMP:20260426T033825Z
CREATED:20260426T033825Z
DTSTART:20250813T031500Z
DTEND:20250813T041500Z
LOCATION:Field 2
CONTACT:
SUMMARY:RNP VS. DE Insurance
DESCRIPTION:League Name: 2025 S4 Tues Men's Rec- June 24\nGame Type: Postse
 ason\nGame Status: Complete\nHome Team: RNP\nAway Team: DE Insurance\nHome
  Score: 11\nAway Score: 9
END:VEVENT
END:VCALENDAR
