BEGIN:VCALENDAR
VERSION:2.0
PRODID:-//EZFacility.com, Inc.//EZL 2.5.5.28621
BEGIN:VEVENT
UID:16524175@ezleagues.ezfacility.com
DTSTAMP:20260424T092406Z
CREATED:20260424T092406Z
DTSTART:20250626T010000Z
DTEND:20250626T015500Z
LOCATION:Wayside 6AB
CONTACT:
SUMMARY:BLACK SWAN FC VS. LOOM FC
DESCRIPTION:League Name: CSX Summer Men 30+ II 2025\nGame Type: Regular\nGa
 me Status: Complete\nHome Team: BLACK SWAN FC\nAway Team: LOOM FC\nHome Sc
 ore: 0\nAway Score: 3
END:VEVENT
BEGIN:VEVENT
UID:16524177@ezleagues.ezfacility.com
DTSTAMP:20260424T092406Z
CREATED:20260424T092406Z
DTSTART:20250703T010000Z
DTEND:20250703T015500Z
LOCATION:Wayside 5AB
CONTACT:
SUMMARY:BOCA SENIORS VS. BLACK SWAN FC
DESCRIPTION:League Name: CSX Summer Men 30+ II 2025\nGame Type: Regular\nGa
 me Status: Complete\nHome Team: BOCA SENIORS\nAway Team: BLACK SWAN FC\nHo
 me Score: 2\nAway Score: 3
END:VEVENT
BEGIN:VEVENT
UID:16524179@ezleagues.ezfacility.com
DTSTAMP:20260424T092406Z
CREATED:20260424T092406Z
DTSTART:20250710T010000Z
DTEND:20250710T015500Z
LOCATION:Wayside 5CD
CONTACT:
SUMMARY:BAD ANKLES 30 VS. BLACK SWAN FC
DESCRIPTION:League Name: CSX Summer Men 30+ II 2025\nGame Type: Regular\nGa
 me Status: Complete\nHome Team: BAD ANKLES 30\nAway Team: BLACK SWAN FC\nH
 ome Score: 3\nAway Score: 7
END:VEVENT
BEGIN:VEVENT
UID:16524183@ezleagues.ezfacility.com
DTSTAMP:20260424T092406Z
CREATED:20260424T092406Z
DTSTART:20250717T000000Z
DTEND:20250717T005500Z
LOCATION:Wayside 5CD
CONTACT:
SUMMARY:BLACK SWAN FC VS. ICY HOT FC
DESCRIPTION:League Name: CSX Summer Men 30+ II 2025\nGame Type: Regular\nGa
 me Status: Complete\nHome Team: BLACK SWAN FC\nAway Team: ICY HOT FC\nHome
  Score: 3\nAway Score: 4
END:VEVENT
BEGIN:VEVENT
UID:16524187@ezleagues.ezfacility.com
DTSTAMP:20260424T092406Z
CREATED:20260424T092406Z
DTSTART:20250724T020000Z
DTEND:20250724T025500Z
LOCATION:Wayside 5AB
CONTACT:
SUMMARY:BLACK SWAN FC VS. JOAN RIVERS
DESCRIPTION:League Name: CSX Summer Men 30+ II 2025\nGame Type: Regular\nGa
 me Status: Complete\nHome Team: BLACK SWAN FC\nAway Team: JOAN RIVERS\nHom
 e Score: 3\nAway Score: 1
END:VEVENT
BEGIN:VEVENT
UID:16524190@ezleagues.ezfacility.com
DTSTAMP:20260424T092406Z
CREATED:20260424T092406Z
DTSTART:20250731T010000Z
DTEND:20250731T015500Z
LOCATION:Wayside 6AB
CONTACT:
SUMMARY:LOOM FC VS. BLACK SWAN FC
DESCRIPTION:League Name: CSX Summer Men 30+ II 2025\nGame Type: Regular\nGa
 me Status: Complete\nHome Team: LOOM FC\nAway Team: BLACK SWAN FC\nHome Sc
 ore: 2\nAway Score: 3
END:VEVENT
BEGIN:VEVENT
UID:16524192@ezleagues.ezfacility.com
DTSTAMP:20260424T092406Z
CREATED:20260424T092406Z
DTSTART:20250807T000000Z
DTEND:20250807T005500Z
LOCATION:Wayside 6AB
CONTACT:
SUMMARY:BOCA SENIORS VS. BLACK SWAN FC
DESCRIPTION:League Name: CSX Summer Men 30+ II 2025\nGame Type: Regular\nGa
 me Status: Complete\nHome Team: BOCA SENIORS\nAway Team: BLACK SWAN FC\nHo
 me Score: 4\nAway Score: 3
END:VEVENT
BEGIN:VEVENT
UID:16524194@ezleagues.ezfacility.com
DTSTAMP:20260424T092406Z
CREATED:20260424T092406Z
DTSTART:20250814T010000Z
DTEND:20250814T015500Z
LOCATION:Wayside 5AB
CONTACT:
SUMMARY:BLACK SWAN FC VS. BAD ANKLES 30
DESCRIPTION:League Name: CSX Summer Men 30+ II 2025\nGame Type: Regular\nGa
 me Status: Complete\nHome Team: BLACK SWAN FC\nAway Team: BAD ANKLES 30\nH
 ome Score: 5\nAway Score: 9
END:VEVENT
END:VCALENDAR
