BEGIN:VCALENDAR
VERSION:2.0
PRODID:-//EZFacility.com, Inc.//EZL 2.5.5.28621
BEGIN:VEVENT
UID:16531770@ezleagues.ezfacility.com
DTSTAMP:20260426T034959Z
CREATED:20260426T034959Z
DTSTART:20250625T220000Z
DTEND:20250625T230000Z
LOCATION:Terwilliger C
CONTACT:
SUMMARY:Team 06 VS. Team 09
DESCRIPTION:League Name: Mens Wed Night League \nGame Type: Regular\nGame S
 tatus: Pending\nHome Team: Team 06\nAway Team: Team 09\n
END:VEVENT
BEGIN:VEVENT
UID:16531776@ezleagues.ezfacility.com
DTSTAMP:20260426T034959Z
CREATED:20260426T034959Z
DTSTART:20250702T230000Z
DTEND:20250703T000000Z
LOCATION:Terwilliger B
CONTACT:
SUMMARY:Team 06 VS. Team 08
DESCRIPTION:League Name: Mens Wed Night League \nGame Type: Regular\nGame S
 tatus: Pending\nHome Team: Team 06\nAway Team: Team 08\n
END:VEVENT
BEGIN:VEVENT
UID:16531781@ezleagues.ezfacility.com
DTSTAMP:20260426T034959Z
CREATED:20260426T034959Z
DTSTART:20250709T230000Z
DTEND:20250710T000000Z
LOCATION:Terwilliger C
CONTACT:
SUMMARY:Team 04 VS. Team 06
DESCRIPTION:League Name: Mens Wed Night League \nGame Type: Regular\nGame S
 tatus: Pending\nHome Team: Team 04\nAway Team: Team 06\n
END:VEVENT
BEGIN:VEVENT
UID:16531785@ezleagues.ezfacility.com
DTSTAMP:20260426T034959Z
CREATED:20260426T034959Z
DTSTART:20250716T220000Z
DTEND:20250716T230000Z
LOCATION:Terwilliger B
CONTACT:
SUMMARY:Team 03 VS. Team 06
DESCRIPTION:League Name: Mens Wed Night League \nGame Type: Regular\nGame S
 tatus: Pending\nHome Team: Team 03\nAway Team: Team 06\n
END:VEVENT
BEGIN:VEVENT
UID:16531789@ezleagues.ezfacility.com
DTSTAMP:20260426T034959Z
CREATED:20260426T034959Z
DTSTART:20250723T220000Z
DTEND:20250723T230000Z
LOCATION:Terwilliger C
CONTACT:
SUMMARY:Team 07 VS. Team 06
DESCRIPTION:League Name: Mens Wed Night League \nGame Type: Regular\nGame S
 tatus: Pending\nHome Team: Team 07\nAway Team: Team 06\n
END:VEVENT
BEGIN:VEVENT
UID:16531793@ezleagues.ezfacility.com
DTSTAMP:20260426T034959Z
CREATED:20260426T034959Z
DTSTART:20250730T230000Z
DTEND:20250731T000000Z
LOCATION:Terwilliger B
CONTACT:
SUMMARY:Team 10 VS. Team 06
DESCRIPTION:League Name: Mens Wed Night League \nGame Type: Regular\nGame S
 tatus: Pending\nHome Team: Team 10\nAway Team: Team 06\n
END:VEVENT
BEGIN:VEVENT
UID:16531797@ezleagues.ezfacility.com
DTSTAMP:20260426T034959Z
CREATED:20260426T034959Z
DTSTART:20250807T000000Z
DTEND:20250807T010000Z
LOCATION:Terwilliger B
CONTACT:
SUMMARY:Team 06 VS. Team 01
DESCRIPTION:League Name: Mens Wed Night League \nGame Type: Regular\nGame S
 tatus: Pending\nHome Team: Team 06\nAway Team: Team 01\n
END:VEVENT
BEGIN:VEVENT
UID:16531803@ezleagues.ezfacility.com
DTSTAMP:20260426T034959Z
CREATED:20260426T034959Z
DTSTART:20250814T000000Z
DTEND:20250814T010000Z
LOCATION:Terwilliger B
CONTACT:
SUMMARY:Team 06 VS. Team 02
DESCRIPTION:League Name: Mens Wed Night League \nGame Type: Regular\nGame S
 tatus: Pending\nHome Team: Team 06\nAway Team: Team 02\n
END:VEVENT
BEGIN:VEVENT
UID:16531809@ezleagues.ezfacility.com
DTSTAMP:20260426T034959Z
CREATED:20260426T034959Z
DTSTART:20250820T230000Z
DTEND:20250821T000000Z
LOCATION:Terwilliger C
CONTACT:
SUMMARY:Team 06 VS. Team 05
DESCRIPTION:League Name: Mens Wed Night League \nGame Type: Regular\nGame S
 tatus: Pending\nHome Team: Team 06\nAway Team: Team 05\n
END:VEVENT
END:VCALENDAR
