BEGIN:VCALENDAR
VERSION:2.0
PRODID:-//EZFacility.com, Inc.//EZL 2.5.5.28621
BEGIN:VEVENT
UID:16536822@ezleagues.ezfacility.com
DTSTAMP:20260426T033821Z
CREATED:20260426T033821Z
DTSTART:20250708T013000Z
DTEND:20250708T021500Z
LOCATION:Court 1
CONTACT:
SUMMARY:I Don’t Know VS. DAAM
DESCRIPTION:League Name: Summer Monday Court 1 A Quads\nGame Type: Regular\
 nGame Status: Complete\nHome Team: I Don’t Know\nAway Team: DAAM\nHome S
 core: 1\nAway Score: 2
END:VEVENT
BEGIN:VEVENT
UID:16536829@ezleagues.ezfacility.com
DTSTAMP:20260426T033821Z
CREATED:20260426T033821Z
DTSTART:20250715T013000Z
DTEND:20250715T021500Z
LOCATION:Court 1
CONTACT:
SUMMARY:Kiss My Ace VS. I Don’t Know
DESCRIPTION:League Name: Summer Monday Court 1 A Quads\nGame Type: Regular\
 nGame Status: Complete\nHome Team: Kiss My Ace\nAway Team: I Don’t Know\
 nHome Score: 1\nAway Score: 2
END:VEVENT
BEGIN:VEVENT
UID:16536835@ezleagues.ezfacility.com
DTSTAMP:20260426T033821Z
CREATED:20260426T033821Z
DTSTART:20250721T231500Z
DTEND:20250722T000000Z
LOCATION:Court 1
CONTACT:
SUMMARY:Foot Sets VS. I Don’t Know
DESCRIPTION:League Name: Summer Monday Court 1 A Quads\nGame Type: Regular\
 nGame Status: Complete\nHome Team: Foot Sets\nAway Team: I Don’t Know\nH
 ome Score: 0\nAway Score: 3
END:VEVENT
BEGIN:VEVENT
UID:16536840@ezleagues.ezfacility.com
DTSTAMP:20260426T033821Z
CREATED:20260426T033821Z
DTSTART:20250729T000000Z
DTEND:20250729T004500Z
LOCATION:Court 1
CONTACT:
SUMMARY:I Don’t Know VS. Diggin'
DESCRIPTION:League Name: Summer Monday Court 1 A Quads\nGame Type: Regular\
 nGame Status: Complete\nHome Team: I Don’t Know\nAway Team: Diggin'\nHom
 e Score: 2\nAway Score: 1
END:VEVENT
BEGIN:VEVENT
UID:16536845@ezleagues.ezfacility.com
DTSTAMP:20260426T033821Z
CREATED:20260426T033821Z
DTSTART:20250804T223000Z
DTEND:20250804T231500Z
LOCATION:Court 1
CONTACT:
SUMMARY:I’d Hit That VS. I Don’t Know
DESCRIPTION:League Name: Summer Monday Court 1 A Quads\nGame Type: Regular\
 nGame Status: Complete\nHome Team: I’d Hit That\nAway Team: I Don’t Kn
 ow\nHome Score: 3\nAway Score: 0
END:VEVENT
BEGIN:VEVENT
UID:16536850@ezleagues.ezfacility.com
DTSTAMP:20260426T033821Z
CREATED:20260426T033821Z
DTSTART:20250812T000000Z
DTEND:20250812T004500Z
LOCATION:Court 1
CONTACT:
SUMMARY:I Don’t Know VS. Block Averything
DESCRIPTION:League Name: Summer Monday Court 1 A Quads\nGame Type: Regular\
 nGame Status: Complete\nHome Team: I Don’t Know\nAway Team: Block Averyt
 hing\nHome Score: 1\nAway Score: 2
END:VEVENT
BEGIN:VEVENT
UID:16536860@ezleagues.ezfacility.com
DTSTAMP:20260426T033821Z
CREATED:20260426T033821Z
DTSTART:20250826T004500Z
DTEND:20250826T013000Z
LOCATION:Court 1
CONTACT:
SUMMARY:#Sandy_Bottoms VS. I Don’t Know
DESCRIPTION:League Name: Summer Monday Court 1 A Quads\nGame Type: Regular\
 nGame Status: Complete\nHome Team: #Sandy_Bottoms\nAway Team: I Don’t Kn
 ow\nHome Score: 0\nAway Score: 3
END:VEVENT
BEGIN:VEVENT
UID:16536867@ezleagues.ezfacility.com
DTSTAMP:20260426T033821Z
CREATED:20260426T033821Z
DTSTART:20250901T223000Z
DTEND:20250901T231500Z
LOCATION:Court 1
CONTACT:
SUMMARY:I Don’t Know VS. EZ Pass
DESCRIPTION:League Name: Summer Monday Court 1 A Quads\nGame Type: Regular\
 nGame Status: Complete\nHome Team: I Don’t Know\nAway Team: EZ Pass\nHom
 e Score: 0\nAway Score: 3
END:VEVENT
BEGIN:VEVENT
UID:16536874@ezleagues.ezfacility.com
DTSTAMP:20260426T033821Z
CREATED:20260426T033821Z
DTSTART:20250908T231500Z
DTEND:20250909T000000Z
LOCATION:Court 1
CONTACT:
SUMMARY:get wrecked VS. I Don’t Know
DESCRIPTION:League Name: Summer Monday Court 1 A Quads\nGame Type: Regular\
 nGame Status: Complete\nHome Team: get wrecked\nAway Team: I Don’t Know\
 nHome Score: 3\nAway Score: 0
END:VEVENT
BEGIN:VEVENT
UID:16536881@ezleagues.ezfacility.com
DTSTAMP:20260426T033821Z
CREATED:20260426T033821Z
DTSTART:20250916T013000Z
DTEND:20250916T021500Z
LOCATION:Court 1
CONTACT:
SUMMARY:I Don’t Know VS. Monday Night Quads
DESCRIPTION:League Name: Summer Monday Court 1 A Quads\nGame Type: Regular\
 nGame Status: Complete\nHome Team: I Don’t Know\nAway Team: Monday Night
  Quads\nHome Score: 1\nAway Score: 2
END:VEVENT
END:VCALENDAR
