BEGIN:VCALENDAR
VERSION:2.0
PRODID:-//EZFacility.com, Inc.//EZL 2.5.5.28621
BEGIN:VEVENT
UID:16881603@ezleagues.ezfacility.com
DTSTAMP:20260426T035101Z
CREATED:20260426T035101Z
DTSTART:20251206T182500Z
DTEND:20251206T192000Z
LOCATION:Jessup Premier Field #2
CONTACT:
SUMMARY:2014 LFCIA Central MD Boys White VS. 2014 ASA Juventus United
DESCRIPTION:League Name: Youth (Winter 1) SD1 Sat/Sun 2014 Boys U12 SILVER\
 nGame Type: Regular\nGame Status: Complete\nHome Team: 2014 LFCIA Central 
 MD Boys White\nAway Team: 2014 ASA Juventus United\nHome Score: 6\nAway Sc
 ore: 3
END:VEVENT
BEGIN:VEVENT
UID:16881636@ezleagues.ezfacility.com
DTSTAMP:20260426T035101Z
CREATED:20260426T035101Z
DTSTART:20251214T143000Z
DTEND:20251214T152500Z
LOCATION:Jessup Premier Field #2
CONTACT:
SUMMARY:2014 ASA Juventus United VS. 2014 River Academic FC
DESCRIPTION:League Name: Youth (Winter 1) SD1 Sat/Sun 2014 Boys U12 SILVER\
 nGame Type: Regular\nGame Status: Complete\nHome Team: 2014 ASA Juventus U
 nited\nAway Team: 2014 River Academic FC\nHome Score: 1\nAway Score: 3
END:VEVENT
BEGIN:VEVENT
UID:16881741@ezleagues.ezfacility.com
DTSTAMP:20260426T035101Z
CREATED:20260426T035101Z
DTSTART:20260103T154000Z
DTEND:20260103T163500Z
LOCATION:Jessup Premier Field #1
CONTACT:
SUMMARY:2014 ASA Juventus United VS. 2014 GSPAA Premier Black
DESCRIPTION:League Name: Youth (Winter 1) SD1 Sat/Sun 2014 Boys U12 SILVER\
 nGame Type: Regular\nGame Status: Complete\nHome Team: 2014 ASA Juventus U
 nited\nAway Team: 2014 GSPAA Premier Black\nHome Score: 6\nAway Score: 1
END:VEVENT
BEGIN:VEVENT
UID:16881775@ezleagues.ezfacility.com
DTSTAMP:20260426T035101Z
CREATED:20260426T035101Z
DTSTART:20260110T211000Z
DTEND:20260110T220000Z
LOCATION:Jessup Premier Field #2
CONTACT:
SUMMARY:2014 Academia International USA VS. 2014 ASA Juventus United
DESCRIPTION:League Name: Youth (Winter 1) SD1 Sat/Sun 2014 Boys U12 SILVER\
 nGame Type: Regular\nGame Status: Complete\nHome Team: 2014 Academia Inter
 national USA\nAway Team: 2014 ASA Juventus United\nHome Score: 6\nAway Sco
 re: 1
END:VEVENT
BEGIN:VEVENT
UID:16881671@ezleagues.ezfacility.com
DTSTAMP:20260426T035101Z
CREATED:20260426T035101Z
DTSTART:20260111T190500Z
DTEND:20260111T200000Z
LOCATION:Jessup Premier Field #2
CONTACT:
SUMMARY:2014 ASA Juventus United VS. 2014 Cheverly SC Lions
DESCRIPTION:League Name: Youth (Winter 1) SD1 Sat/Sun 2014 Boys U12 SILVER\
 nGame Type: Regular\nGame Status: Complete\nHome Team: 2014 ASA Juventus U
 nited\nAway Team: 2014 Cheverly SC Lions\nHome Score: 3\nAway Score: 4
END:VEVENT
BEGIN:VEVENT
UID:16881808@ezleagues.ezfacility.com
DTSTAMP:20260426T035101Z
CREATED:20260426T035101Z
DTSTART:20260117T120000Z
DTEND:20260117T125500Z
LOCATION:Jessup Premier Field #2
CONTACT:
SUMMARY:2014 Pasadena Soccer Club Elite White VS. 2014 ASA Juventus United
DESCRIPTION:League Name: Youth (Winter 1) SD1 Sat/Sun 2014 Boys U12 SILVER\
 nGame Type: Regular\nGame Status: Complete\nHome Team: 2014 Pasadena Socce
 r Club Elite White\nAway Team: 2014 ASA Juventus United\nHome Score: 2\nAw
 ay Score: 8
END:VEVENT
BEGIN:VEVENT
UID:16881706@ezleagues.ezfacility.com
DTSTAMP:20260426T035101Z
CREATED:20260426T035101Z
DTSTART:20260131T201500Z
DTEND:20260131T211000Z
LOCATION:Jessup Premier Field #2
CONTACT:
SUMMARY:2014 ASA Juventus United VS. 2014 Elkridge United
DESCRIPTION:League Name: Youth (Winter 1) SD1 Sat/Sun 2014 Boys U12 SILVER\
 nGame Type: Regular\nGame Status: Complete\nHome Team: 2014 ASA Juventus U
 nited\nAway Team: 2014 Elkridge United\nHome Score: 2\nAway Score: 4
END:VEVENT
END:VCALENDAR
