BEGIN:VCALENDAR
VERSION:2.0
PRODID:-//EZFacility.com, Inc.//EZL 2.5.5.28621
BEGIN:VEVENT
UID:16989883@ezleagues.ezfacility.com
DTSTAMP:20260426T033752Z
CREATED:20260426T033752Z
DTSTART:20260207T192000Z
DTEND:20260207T201500Z
LOCATION:Jessup Premier Field #2
CONTACT:
SUMMARY:2011 Mount Washington Sky VS. 2011 DarkHorse SC
DESCRIPTION:League Name: Youth (Winter II) SD1 Sat/Sun 2011 Girls (U15)\nGa
 me Type: Regular\nGame Status: Complete\nHome Team: 2011 Mount Washington 
 Sky\nAway Team: 2011 DarkHorse SC\nHome Score: 3\nAway Score: 0
END:VEVENT
BEGIN:VEVENT
UID:16989918@ezleagues.ezfacility.com
DTSTAMP:20260426T033752Z
CREATED:20260426T033752Z
DTSTART:20260215T125500Z
DTEND:20260215T135000Z
LOCATION:Jessup Premier Field #2
CONTACT:
SUMMARY:2011 DarkHorse SC VS. 2011 A3 Coventry
DESCRIPTION:League Name: Youth (Winter II) SD1 Sat/Sun 2011 Girls (U15)\nGa
 me Type: Regular\nGame Status: Complete\nHome Team: 2011 DarkHorse SC\nAwa
 y Team: 2011 A3 Coventry\nHome Score: 4\nAway Score: 2
END:VEVENT
BEGIN:VEVENT
UID:16989952@ezleagues.ezfacility.com
DTSTAMP:20260426T033752Z
CREATED:20260426T033752Z
DTSTART:20260221T135000Z
DTEND:20260221T144500Z
LOCATION:Jessup Premier Field #1
CONTACT:
SUMMARY:2011 Athletic United FC  VS. 2011 DarkHorse SC
DESCRIPTION:League Name: Youth (Winter II) SD1 Sat/Sun 2011 Girls (U15)\nGa
 me Type: Regular\nGame Status: Complete\nHome Team: 2011 Athletic United F
 C \nAway Team: 2011 DarkHorse SC\nHome Score: 7\nAway Score: 2
END:VEVENT
BEGIN:VEVENT
UID:16989986@ezleagues.ezfacility.com
DTSTAMP:20260426T033752Z
CREATED:20260426T033752Z
DTSTART:20260308T110000Z
DTEND:20260308T115500Z
LOCATION:Harmans Premier Field #4
CONTACT:
SUMMARY:2011 CCSC Wildfire VS. 2011 DarkHorse SC
DESCRIPTION:League Name: Youth (Winter II) SD1 Sat/Sun 2011 Girls (U15)\nGa
 me Type: Regular\nGame Status: Complete\nHome Team: 2011 CCSC Wildfire\nAw
 ay Team: 2011 DarkHorse SC\nHome Score: 4\nAway Score: 0
END:VEVENT
BEGIN:VEVENT
UID:16990022@ezleagues.ezfacility.com
DTSTAMP:20260426T033752Z
CREATED:20260426T033752Z
DTSTART:20260308T144000Z
DTEND:20260308T153500Z
LOCATION:Jessup Premier Field #2
CONTACT:
SUMMARY:2011 DarkHorse SC VS. 2011 BSC Black Mambas
DESCRIPTION:League Name: Youth (Winter II) SD1 Sat/Sun 2011 Girls (U15)\nGa
 me Type: Regular\nGame Status: Complete\nHome Team: 2011 DarkHorse SC\nAwa
 y Team: 2011 BSC Black Mambas\nHome Score: 3\nAway Score: 1
END:VEVENT
BEGIN:VEVENT
UID:16990058@ezleagues.ezfacility.com
DTSTAMP:20260426T033752Z
CREATED:20260426T033752Z
DTSTART:20260314T191500Z
DTEND:20260314T201000Z
LOCATION:Jessup Premier Field #1
CONTACT:
SUMMARY:2011 DarkHorse SC VS. 2011 Mount Washington Sky
DESCRIPTION:League Name: Youth (Winter II) SD1 Sat/Sun 2011 Girls (U15)\nGa
 me Type: Regular\nGame Status: Complete\nHome Team: 2011 DarkHorse SC\nAwa
 y Team: 2011 Mount Washington Sky\nHome Score: 0\nAway Score: 1
END:VEVENT
BEGIN:VEVENT
UID:16990093@ezleagues.ezfacility.com
DTSTAMP:20260426T033752Z
CREATED:20260426T033752Z
DTSTART:20260321T163000Z
DTEND:20260321T172500Z
LOCATION:Jessup Premier Field #1
CONTACT:
SUMMARY:2011 A3 Coventry VS. 2011 DarkHorse SC
DESCRIPTION:League Name: Youth (Winter II) SD1 Sat/Sun 2011 Girls (U15)\nGa
 me Type: Regular\nGame Status: Complete\nHome Team: 2011 A3 Coventry\nAway
  Team: 2011 DarkHorse SC\nHome Score: 0\nAway Score: 3
END:VEVENT
END:VCALENDAR
